BEGIN:VCALENDAR
VERSION:2.0
PRODID:IEEE vTools.Events//EN
CALSCALE:GREGORIAN
BEGIN:VTIMEZONE
TZID:Australia/Sydney
BEGIN:DAYLIGHT
DTSTART:20251005T030000
TZOFFSETFROM:+1000
TZOFFSETTO:+1100
RRULE:FREQ=YEARLY;BYDAY=1SU;BYMONTH=10
TZNAME:AEDT
END:DAYLIGHT
BEGIN:STANDARD
DTSTART:20260405T020000
TZOFFSETFROM:+1100
TZOFFSETTO:+1000
RRULE:FREQ=YEARLY;BYDAY=1SU;BYMONTH=4
TZNAME:AEST
END:STANDARD
END:VTIMEZONE
BEGIN:VEVENT
DTSTAMP:20260319T023259Z
UID:1B7346B9-D78B-4F4F-8B23-FF40FB565494
DTSTART;TZID=Australia/Sydney:20260317T120000
DTEND;TZID=Australia/Sydney:20260317T130000
DESCRIPTION:Objective -\n1. Live demo of Booster K1 humanoid robot\n2. Demo
 nstrate TestGo python app - how to code a humanoid robot for beginners/stu
 dents\n3. Group discussion on curriculum design related to humanoid robots
 \n4. Gather feedback on humanoid robot rental program\n\nCo-sponsored by: 
 CH10903 - New South Wales Section Chapter\, SEN39\n\nRoom: The Forum\, Bld
 g: 9WW\, Macquarie University\, NSW 2109\, Balaclave Road\, Sydney\, New S
 outh Wales\, Australia\, 2109
LOCATION:Room: The Forum\, Bldg: 9WW\, Macquarie University\, NSW 2109\, Ba
 laclave Road\, Sydney\, New South Wales\, Australia\, 2109
ORGANIZER:meershadman.saeed@mq.edu.au
SEQUENCE:4
SUMMARY:Humanoid Robots for Higher Education
URL;VALUE=URI:https://events.vtools.ieee.org/m/546754
X-ALT-DESC:Description: &lt;br /&gt;&lt;div data-olk-copy-source=&quot;MessageBody&quot;&gt;Objec
 tive -&amp;nbsp\;&lt;/div&gt;\n&lt;div&gt;1. Live demo of Booster K1 humanoid robot&lt;/div&gt;\
 n&lt;div&gt;2. Demonstrate TestGo python app - how to code a humanoid robot for 
 beginners/students&lt;/div&gt;\n&lt;div&gt;3. Group discussion on curriculum design re
 lated to humanoid robots&amp;nbsp\;&lt;/div&gt;\n&lt;div&gt;4. Gather feedback on humanoid
  robot rental program&lt;/div&gt;
END:VEVENT
END:VCALENDAR

