BEGIN:VCALENDAR
VERSION:2.0
PRODID:IEEE vTools.Events//EN
CALSCALE:GREGORIAN
BEGIN:VTIMEZONE
TZID:Africa/Nairobi
BEGIN:STANDARD
DTSTART:19420801T001500
TZOFFSETFROM:+0245
TZOFFSETTO:+0300
TZNAME:EAT
END:STANDARD
END:VTIMEZONE
BEGIN:VEVENT
DTSTAMP:20260312T213512Z
UID:870E5D0F-B4D6-4D51-8FC0-2D885374B646
DTSTART;TZID=Africa/Nairobi:20260317T140000
DTEND;TZID=Africa/Nairobi:20260317T163000
DESCRIPTION:The IEEE Awareness Drive seeks to expose engineering students a
 nd faculty to the opportunities\, communities\, and professional growth av
 enues within IEEE.\n\nSession Highlights:\nUnderstanding IEEE and its role
  in shaping global engineering and technology\nEngineering communities con
 necting peers in computing\, communications\, biomedical\, and industrial 
 engineering\nMembership advantages such as research resources\, networking
 \, mentorship\, and professional development\n\nSpeaker(s): Jaramogi\n\nRo
 om: 204 \, Bldg: Electrical Department\, Banda\, Kyambogo University\, Kam
 pala\, Uganda\, Uganda\, kyambogo 
LOCATION:Room: 204 \, Bldg: Electrical Department\, Banda\, Kyambogo Univer
 sity\, Kampala\, Uganda\, Uganda\, kyambogo 
ORGANIZER:tibonesimusj1@gmail.com
SEQUENCE:3
SUMMARY:IEEE Awareness Drive for Engineering Students 
URL;VALUE=URI:https://events.vtools.ieee.org/m/546975
X-ALT-DESC:Description: &lt;br /&gt;&lt;p&gt;&lt;span class=&quot;BZ_Pyq_fadeIn&quot;&gt;The &lt;/span&gt;&lt;sp
 an class=&quot;BZ_Pyq_fadeIn&quot;&gt;IEEE &lt;/span&gt;&lt;span class=&quot;BZ_Pyq_fadeIn&quot;&gt;Awareness
  &lt;/span&gt;&lt;span class=&quot;BZ_Pyq_fadeIn&quot;&gt;Drive&lt;/span&gt; &lt;span class=&quot;BZ_Pyq_fadeI
 n&quot;&gt;seeks &lt;/span&gt;&lt;span class=&quot;BZ_Pyq_fadeIn&quot;&gt;to &lt;/span&gt;&lt;span class=&quot;BZ_Pyq_
 fadeIn&quot;&gt;expose &lt;/span&gt;&lt;span class=&quot;BZ_Pyq_fadeIn&quot;&gt;engineering &lt;/span&gt;&lt;span
  class=&quot;BZ_Pyq_fadeIn&quot;&gt;students &lt;/span&gt;&lt;span class=&quot;BZ_Pyq_fadeIn&quot;&gt;and &lt;/s
 pan&gt;&lt;span class=&quot;BZ_Pyq_fadeIn&quot;&gt;faculty &lt;/span&gt;&lt;span class=&quot;BZ_Pyq_fadeIn&quot;
 &gt;to &lt;/span&gt;&lt;span class=&quot;BZ_Pyq_fadeIn&quot;&gt;the &lt;/span&gt;&lt;span class=&quot;BZ_Pyq_fade
 In&quot;&gt;opportunities\, &lt;/span&gt;&lt;span class=&quot;BZ_Pyq_fadeIn&quot;&gt;communities\, &lt;/spa
 n&gt;&lt;span class=&quot;BZ_Pyq_fadeIn&quot;&gt;and &lt;/span&gt;&lt;span class=&quot;BZ_Pyq_fadeIn&quot;&gt;profe
 ssional &lt;/span&gt;&lt;span class=&quot;BZ_Pyq_fadeIn&quot;&gt;growth &lt;/span&gt;&lt;span class=&quot;BZ_P
 yq_fadeIn&quot;&gt;avenues &lt;/span&gt;&lt;span class=&quot;BZ_Pyq_fadeIn&quot;&gt;within &lt;/span&gt;&lt;span 
 class=&quot;BZ_Pyq_fadeIn&quot;&gt;IEEE.&lt;/span&gt;&lt;/p&gt;\n&lt;p&gt;&lt;span class=&quot;BZ_Pyq_fadeIn&quot;&gt;&lt;st
 rong class=&quot;skrollable skrollable-between&quot; data-start=&quot;1964&quot; data-end=&quot;198
 7&quot;&gt;Session Highlights:&lt;br&gt;&lt;/strong&gt;&lt;/span&gt;&lt;span class=&quot;BZ_Pyq_fadeIn&quot;&gt;&amp;nbs
 p\;Understanding &lt;/span&gt;&lt;span class=&quot;BZ_Pyq_fadeIn&quot;&gt;IEEE &lt;/span&gt;&lt;span clas
 s=&quot;BZ_Pyq_fadeIn&quot;&gt;and &lt;/span&gt;&lt;span class=&quot;BZ_Pyq_fadeIn&quot;&gt;its &lt;/span&gt;&lt;span 
 class=&quot;BZ_Pyq_fadeIn&quot;&gt;role &lt;/span&gt;&lt;span class=&quot;BZ_Pyq_fadeIn&quot;&gt;in &lt;/span&gt;&lt;s
 pan class=&quot;BZ_Pyq_fadeIn&quot;&gt;shaping &lt;/span&gt;&lt;span class=&quot;BZ_Pyq_fadeIn&quot;&gt;globa
 l &lt;/span&gt;&lt;span class=&quot;BZ_Pyq_fadeIn&quot;&gt;engineering &lt;/span&gt;&lt;span class=&quot;BZ_Py
 q_fadeIn&quot;&gt;and &lt;/span&gt;&lt;span class=&quot;BZ_Pyq_fadeIn&quot;&gt;technology&lt;/span&gt;&lt;br data
 -start=&quot;962&quot; data-end=&quot;965&quot;&gt;&lt;span class=&quot;BZ_Pyq_fadeIn&quot;&gt;&amp;nbsp\;Engineering
  &lt;/span&gt;&lt;span class=&quot;BZ_Pyq_fadeIn&quot;&gt;communities &lt;/span&gt;&lt;span class=&quot;BZ_Pyq
 _fadeIn&quot;&gt;connecting &lt;/span&gt;&lt;span class=&quot;BZ_Pyq_fadeIn&quot;&gt;peers &lt;/span&gt;&lt;span 
 class=&quot;BZ_Pyq_fadeIn&quot;&gt;in &lt;/span&gt;&lt;span class=&quot;BZ_Pyq_fadeIn&quot;&gt;computing\, &lt;/
 span&gt;&lt;span class=&quot;BZ_Pyq_fadeIn&quot;&gt;communications\, &lt;/span&gt;&lt;span class=&quot;BZ_P
 yq_fadeIn&quot;&gt;biomedical\, &lt;/span&gt;&lt;span class=&quot;BZ_Pyq_fadeIn&quot;&gt;and &lt;/span&gt;&lt;spa
 n class=&quot;BZ_Pyq_fadeIn&quot;&gt;industrial &lt;/span&gt;&lt;span class=&quot;BZ_Pyq_fadeIn&quot;&gt;engi
 neering&lt;/span&gt;&lt;br data-start=&quot;1076&quot; data-end=&quot;1079&quot;&gt;&lt;span class=&quot;BZ_Pyq_fa
 deIn&quot;&gt;&amp;nbsp\;Membership &lt;/span&gt;&lt;span class=&quot;BZ_Pyq_fadeIn&quot;&gt;advantages &lt;/sp
 an&gt;&lt;span class=&quot;BZ_Pyq_fadeIn&quot;&gt;such &lt;/span&gt;&lt;span class=&quot;BZ_Pyq_fadeIn&quot;&gt;as 
 &lt;/span&gt;&lt;span class=&quot;BZ_Pyq_fadeIn&quot;&gt;research &lt;/span&gt;&lt;span class=&quot;BZ_Pyq_fad
 eIn&quot;&gt;resources\, &lt;/span&gt;&lt;span class=&quot;BZ_Pyq_fadeIn&quot;&gt;networking\, &lt;/span&gt;&lt;s
 pan class=&quot;BZ_Pyq_fadeIn&quot;&gt;mentorship\, &lt;/span&gt;&lt;span class=&quot;BZ_Pyq_fadeIn&quot;&gt;
 and &lt;/span&gt;&lt;span class=&quot;BZ_Pyq_fadeIn&quot;&gt;professional &lt;/span&gt;&lt;span class=&quot;BZ
 _Pyq_fadeIn&quot;&gt;development&lt;/span&gt;&lt;/p&gt;
END:VEVENT
END:VCALENDAR

