BEGIN:VCALENDAR
VERSION:2.0
PRODID:IEEE vTools.Events//EN
CALSCALE:GREGORIAN
BEGIN:VTIMEZONE
TZID:America/Los_Angeles
BEGIN:DAYLIGHT
DTSTART:20260308T030000
TZOFFSETFROM:-0800
TZOFFSETTO:-0700
RRULE:FREQ=YEARLY;BYDAY=2SU;BYMONTH=3
TZNAME:PDT
END:DAYLIGHT
BEGIN:STANDARD
DTSTART:20261101T010000
TZOFFSETFROM:-0700
TZOFFSETTO:-0800
RRULE:FREQ=YEARLY;BYDAY=1SU;BYMONTH=11
TZNAME:PST
END:STANDARD
END:VTIMEZONE
BEGIN:VEVENT
DTSTAMP:20260410T165713Z
UID:CDACC598-ED32-4B42-8FF6-EA219F1E39D3
DTSTART;TZID=America/Los_Angeles:20260409T173000
DTEND;TZID=America/Los_Angeles:20260409T193000
DESCRIPTION:[]\n\nTopic: IEEE PES - Powering the Energy Transition with HVD
 C Technology\nTime: Apr 9\, 2026 05:15 PM Pacific Time (US and Canada)\nJo
 in Zoom Meeting\nhttps://us02web.zoom.us/j/83672907444\n\nView meeting ins
 ights with Zoom AI Companion\nhttps://us02web.zoom.us/launch/edl?muid=a0a2
 2581-5e70-4f04-bfaf-1a435fc0e659\n\nMeeting ID: 836 7290 7444\n\n---\n\nOn
 e tap mobile\n+12532050468\,\,83672907444# US\n+12532158782\,\,83672907444
 # US (Tacoma)\n\nJoin instructions\nhttps://us02web.zoom.us/meetings/83672
 907444/invitations?signature=UQ51-dXHlbxIOE2r21zuLRoLLkyve1jYxUUBNESHDV4\n
 \nSpeaker(s): Dr. Ram Adapa\, Prof Dragan Jovcic\, Dr. Quan Nguyen\, Dr. B
 rian Johnson\n\nAgenda: \nTime	Segment	Speaker\n5:25 – 5:30 PM	Welcome &amp;
  Opening Remarks	Richland Section\n5:30 – 5:45 PM	Presentation 1	Dr. Bri
 an K. Johnson\, University of Idaho\n5:45 – 6:15 PM	Presentation 2	Dr. R
 am Adapa\, EPRI\n6:15 – 6:45 PM	Presentation 3	Prof. Dragan Jovcic\, Uni
 versity of Aberdeen\n6:45 – 7:15 PM	Presentation 4	Dr. Quan Nguyen\, PNN
 L\n7:15 – 7:30 PM	Open Q&amp;A &amp; Panel Discussion	Moderated by Dr. Brian Joh
 nson\n7:30 – 7:35 PM	Closing Remarks &amp; Adjourn	Palouse section\n\nRoom: 
 Doris Roberts Gallery\, Richland Public Library\, 955 Northgate Dr\, Washi
 ngton\, United States\, 99352
LOCATION:Room: Doris Roberts Gallery\, Richland Public Library\, 955 Northg
 ate Dr\, Washington\, United States\, 99352
ORGANIZER:muthu.elen@ieee.org
SEQUENCE:14
SUMMARY:Powering the Energy Transition with HVDC Technology - Panel session
URL;VALUE=URI:https://events.vtools.ieee.org/m/547314
X-ALT-DESC:Description: &lt;br /&gt;&lt;p&gt;&lt;img src=&quot;https://events.vtools.ieee.org/v
 tools_ui/media/display/dcbb452c-705a-4500-ab82-852bb706a623&quot; alt=&quot;&quot; width=
 &quot;698&quot; height=&quot;903&quot;&gt;&lt;br&gt;&lt;br&gt;&lt;/p&gt;\n&lt;p&gt;Topic: IEEE PES - Powering the Energy 
 Transition with HVDC Technology&lt;br&gt;Time: Apr 9\, 2026 05:15 PM Pacific Tim
 e (US and Canada)&lt;br&gt;Join Zoom Meeting&lt;br&gt;&lt;a href=&quot;https://us02web.zoom.us
 /j/83672907444&quot; target=&quot;_blank&quot; rel=&quot;noopener&quot; data-saferedirecturl=&quot;https
 ://www.google.com/url?q=https://us02web.zoom.us/j/83672907444&amp;amp\;source=
 gmail&amp;amp\;ust=1775846751665000&amp;amp\;usg=AOvVaw2MLAmE1CySq1UYDK5Oz0JB&quot;&gt;htt
 ps://us02web.zoom.us/j/&lt;wbr&gt;83672907444&lt;/a&gt;&lt;br&gt;&lt;br&gt;View meeting insights w
 ith Zoom AI Companion&lt;br&gt;&lt;a href=&quot;https://us02web.zoom.us/launch/edl?muid=
 a0a22581-5e70-4f04-bfaf-1a435fc0e659&quot; target=&quot;_blank&quot; rel=&quot;noopener&quot; data-
 saferedirecturl=&quot;https://www.google.com/url?q=https://us02web.zoom.us/laun
 ch/edl?muid%3Da0a22581-5e70-4f04-bfaf-1a435fc0e659&amp;amp\;source=gmail&amp;amp\;
 ust=1775846751665000&amp;amp\;usg=AOvVaw2Af-vnVVixCBmY_Pjk6a6x&quot;&gt;https://us02we
 b.zoom.us/&lt;wbr&gt;launch/edl?muid=a0a22581-5e70-&lt;wbr&gt;4f04-bfaf-1a435fc0e659&lt;/
 a&gt;&lt;br&gt;&lt;br&gt;Meeting ID: 836 7290 7444&lt;br&gt;&lt;br&gt;---&lt;br&gt;&lt;br&gt;One tap mobile&lt;br&gt;+1
 2532050468\,\,83672907444# US&lt;br&gt;+12532158782\,\,83672907444# US (Tacoma)&lt;
 br&gt;&lt;br&gt;Join instructions&lt;br&gt;&lt;a href=&quot;https://us02web.zoom.us/meetings/8367
 2907444/invitations?signature=UQ51-dXHlbxIOE2r21zuLRoLLkyve1jYxUUBNESHDV4&quot;
  target=&quot;_blank&quot; rel=&quot;noopener&quot; data-saferedirecturl=&quot;https://www.google.c
 om/url?q=https://us02web.zoom.us/meetings/83672907444/invitations?signatur
 e%3DUQ51-dXHlbxIOE2r21zuLRoLLkyve1jYxUUBNESHDV4&amp;amp\;source=gmail&amp;amp\;ust
 =1775846751665000&amp;amp\;usg=AOvVaw14JC-jOqUHKWVJlVztNgR2&quot;&gt;https://us02web.z
 oom.us/&lt;wbr&gt;meetings/83672907444/&lt;wbr&gt;invitations?signature=UQ51-&lt;wbr&gt;dXHl
 bxIOE2r21zuLRoLLkyve1jYxUU&lt;wbr&gt;BNESHDV4&lt;/a&gt;&lt;/p&gt;&lt;br /&gt;&lt;br /&gt;Agenda: &lt;br /&gt;&lt;
 table class=&quot;min-w-full border-collapse text-sm leading-[1.7] whitespace-n
 ormal&quot;&gt;\n&lt;thead class=&quot;text-left&quot;&gt;\n&lt;tr&gt;\n&lt;th class=&quot;text-text-100 border-
 b-0.5 border-border-300/60 py-2 pr-4 align-top font-bold&quot; scope=&quot;col&quot;&gt;Time
 &lt;/th&gt;\n&lt;th class=&quot;text-text-100 border-b-0.5 border-border-300/60 py-2 pr-
 4 align-top font-bold&quot; scope=&quot;col&quot;&gt;Segment&lt;/th&gt;\n&lt;th class=&quot;text-text-100 
 border-b-0.5 border-border-300/60 py-2 pr-4 align-top font-bold&quot; scope=&quot;co
 l&quot;&gt;Speaker&lt;/th&gt;\n&lt;/tr&gt;\n&lt;/thead&gt;\n&lt;tbody&gt;\n&lt;tr&gt;\n&lt;td class=&quot;border-b-0.5 b
 order-border-300/30 py-2 pr-4 align-top&quot;&gt;5:25 &amp;ndash\; 5:30 PM&lt;/td&gt;\n&lt;td c
 lass=&quot;border-b-0.5 border-border-300/30 py-2 pr-4 align-top&quot;&gt;Welcome &amp;amp\
 ; Opening Remarks&lt;/td&gt;\n&lt;td class=&quot;border-b-0.5 border-border-300/30 py-2 
 pr-4 align-top&quot;&gt;Richland Section&lt;/td&gt;\n&lt;/tr&gt;\n&lt;tr&gt;\n&lt;td class=&quot;border-b-0.
 5 border-border-300/30 py-2 pr-4 align-top&quot;&gt;5:30 &amp;ndash\; 5:45 PM&lt;/td&gt;\n&lt;t
 d class=&quot;border-b-0.5 border-border-300/30 py-2 pr-4 align-top&quot;&gt;Presentati
 on 1&lt;/td&gt;\n&lt;td class=&quot;border-b-0.5 border-border-300/30 py-2 pr-4 align-to
 p&quot;&gt;Dr. Brian K. Johnson\, University of Idaho&lt;/td&gt;\n&lt;/tr&gt;\n&lt;tr&gt;\n&lt;td class
 =&quot;border-b-0.5 border-border-300/30 py-2 pr-4 align-top&quot;&gt;5:45 &amp;ndash\; 6:1
 5 PM&lt;/td&gt;\n&lt;td class=&quot;border-b-0.5 border-border-300/30 py-2 pr-4 align-to
 p&quot;&gt;Presentation 2&lt;/td&gt;\n&lt;td class=&quot;border-b-0.5 border-border-300/30 py-2 
 pr-4 align-top&quot;&gt;Dr. Ram Adapa\, EPRI&lt;/td&gt;\n&lt;/tr&gt;\n&lt;tr&gt;\n&lt;td class=&quot;border-
 b-0.5 border-border-300/30 py-2 pr-4 align-top&quot;&gt;6:15 &amp;ndash\; 6:45 PM&lt;/td&gt;
 \n&lt;td class=&quot;border-b-0.5 border-border-300/30 py-2 pr-4 align-top&quot;&gt;Presen
 tation 3&lt;/td&gt;\n&lt;td class=&quot;border-b-0.5 border-border-300/30 py-2 pr-4 alig
 n-top&quot;&gt;Prof. Dragan Jovcic\, University of Aberdeen&lt;/td&gt;\n&lt;/tr&gt;\n&lt;tr&gt;\n&lt;td
  class=&quot;border-b-0.5 border-border-300/30 py-2 pr-4 align-top&quot;&gt;6:45 &amp;ndash
 \; 7:15 PM&lt;/td&gt;\n&lt;td class=&quot;border-b-0.5 border-border-300/30 py-2 pr-4 al
 ign-top&quot;&gt;Presentation 4&lt;/td&gt;\n&lt;td class=&quot;border-b-0.5 border-border-300/30
  py-2 pr-4 align-top&quot;&gt;Dr. Quan Nguyen\, PNNL&lt;/td&gt;\n&lt;/tr&gt;\n&lt;tr&gt;\n&lt;td class=
 &quot;border-b-0.5 border-border-300/30 py-2 pr-4 align-top&quot;&gt;7:15 &amp;ndash\; 7:30
  PM&lt;/td&gt;\n&lt;td class=&quot;border-b-0.5 border-border-300/30 py-2 pr-4 align-top
 &quot;&gt;Open Q&amp;amp\;A &amp;amp\; Panel Discussion&lt;/td&gt;\n&lt;td class=&quot;border-b-0.5 bord
 er-border-300/30 py-2 pr-4 align-top&quot;&gt;Moderated by Dr. Brian Johnson&lt;/td&gt;\
 n&lt;/tr&gt;\n&lt;tr&gt;\n&lt;td class=&quot;border-b-0.5 border-border-300/30 py-2 pr-4 align
 -top&quot;&gt;7:30 &amp;ndash\; 7:35 PM&lt;/td&gt;\n&lt;td class=&quot;border-b-0.5 border-border-30
 0/30 py-2 pr-4 align-top&quot;&gt;Closing Remarks &amp;amp\; Adjourn&lt;/td&gt;\n&lt;td class=&quot;
 border-b-0.5 border-border-300/30 py-2 pr-4 align-top&quot;&gt;Palouse section&lt;/td
 &gt;\n&lt;/tr&gt;\n&lt;/tbody&gt;\n&lt;/table&gt;
END:VEVENT
END:VCALENDAR

