BEGIN:VCALENDAR
VERSION:2.0
PRODID:IEEE vTools.Events//EN
CALSCALE:GREGORIAN
BEGIN:VTIMEZONE
TZID:America/New_York
BEGIN:DAYLIGHT
DTSTART:20260308T030000
TZOFFSETFROM:-0500
TZOFFSETTO:-0400
RRULE:FREQ=YEARLY;BYDAY=2SU;BYMONTH=3
TZNAME:EDT
END:DAYLIGHT
BEGIN:STANDARD
DTSTART:20261101T010000
TZOFFSETFROM:-0400
TZOFFSETTO:-0500
RRULE:FREQ=YEARLY;BYDAY=1SU;BYMONTH=11
TZNAME:EST
END:STANDARD
END:VTIMEZONE
BEGIN:VEVENT
DTSTAMP:20260317T183245Z
UID:ADFB3911-EA59-4806-BE39-55F7B18B17B9
DTSTART;TZID=America/New_York:20260617T140000
DTEND;TZID=America/New_York:20260617T150000
DESCRIPTION:Turn an early idea into something real and fundable. In this se
 ssion\, Troy Vosseller from gener8tor\, one of the most respected startup 
 accelerators\, breaks down how founders move from a concept to a reputable
  company. You’ll hear what helps inventors gain traction\, build a busin
 ess that can grow\, and get in front of investors when it counts.\n\nSpeak
 er(s): Troy Vosseller\n\nAgenda: \nIEEE-USA&#39;s free webinars/events are des
 igned to help you find your next job\, maintain your career\, negotiate an
  appropriate salary\, understand ethical considerations in the workplace a
 nd learn about other career-building strategies and public policy developm
 ents that affect your profession.\n\nFor information regarding upcoming we
 binars or to visit our vast webinar archive\, please visit: [https://ieeeu
 sa.org/careers/webinars](https://ieeeusa.org/careers/webinars/)\n\n[Stay i
 nformed about future IEEE-USA Webinars by subscribing now to Smartbrief!](
 https://newsletter.smartbrief.com/rest/sign-up/2479DAB0-4089-43E7-925D-86A
 E0C1E6244?campaign=e0d52cef)\n\nVirtual: https://events.vtools.ieee.org/m/
 547729
LOCATION:Virtual: https://events.vtools.ieee.org/m/547729
ORGANIZER:k.henneberry@ieee.org
SEQUENCE:2
SUMMARY:IEEE-USA Livestream Webinar: Introduction to Startup Accelerators
URL;VALUE=URI:https://events.vtools.ieee.org/m/547729
X-ALT-DESC:Description: &lt;br /&gt;&lt;p dir=&quot;ltr&quot;&gt;Turn an early idea into somethin
 g real and fundable. In this session\,&amp;nbsp\;&lt;strong&gt;Troy Vosseller&lt;/stron
 g&gt;&amp;nbsp\;from&amp;nbsp\;&lt;strong&gt;gener8tor&lt;/strong&gt;\, one of the most respected
  startup accelerators\, breaks down how founders move from a concept to a 
 reputable company. You&amp;rsquo\;ll hear what helps inventors gain traction\,
  build a business that can grow\, and get in front of investors when it co
 unts&lt;em&gt;.&amp;nbsp\;&lt;/em&gt;&lt;/p&gt;\n&lt;p class=&quot;MsoNormal&quot;&gt;&amp;nbsp\;&lt;/p&gt;&lt;br /&gt;&lt;br /&gt;Age
 nda: &lt;br /&gt;&lt;p&gt;&lt;span style=&quot;color: #000000\; font-family: helvetica\, arial
 \, sans-serif\;&quot;&gt;IEEE-USA&#39;s free webinars/events are designed to help you 
 find your next job\, maintain your career\, negotiate an appropriate salar
 y\, understand ethical considerations in the workplace and learn about oth
 er career-building strategies and public policy developments that affect y
 our profession.&lt;/span&gt;&lt;/p&gt;\n&lt;p&gt;&lt;span style=&quot;font-family: helvetica\, arial
 \, sans-serif\;&quot;&gt;For information regarding upcoming webinars or to visit o
 ur vast webinar archive\, please visit:&amp;nbsp\;&lt;strong&gt;&lt;a href=&quot;https://iee
 eusa.org/careers/webinars/&quot; target=&quot;_blank&quot; rel=&quot;noopener&quot;&gt;https://ieeeusa
 .org/careers/webinars&lt;/a&gt;&lt;/strong&gt;&lt;/span&gt;&lt;/p&gt;\n&lt;p&gt;&lt;strong&gt;&lt;a href=&quot;https:/
 /newsletter.smartbrief.com/rest/sign-up/2479DAB0-4089-43E7-925D-86AE0C1E62
 44?campaign=e0d52cef&quot;&gt;Stay informed about future IEEE-USA Webinars by subs
 cribing now to Smartbrief!&lt;/a&gt;&lt;/strong&gt;&lt;/p&gt;
END:VEVENT
END:VCALENDAR

