BEGIN:VCALENDAR
VERSION:2.0
PRODID:IEEE vTools.Events//EN
CALSCALE:GREGORIAN
BEGIN:VTIMEZONE
TZID:Asia/Kolkata
BEGIN:STANDARD
DTSTART:19451014T230000
TZOFFSETFROM:+0630
TZOFFSETTO:+0530
TZNAME:IST
END:STANDARD
END:VTIMEZONE
BEGIN:VEVENT
DTSTAMP:20260406T065729Z
UID:B76FDAA8-7853-4986-BF8F-35D796BCBD1E
DTSTART;TZID=Asia/Kolkata:20260317T100000
DTEND;TZID=Asia/Kolkata:20260317T130000
DESCRIPTION:Poster Presentation is conducted as part of BHASWARA 2026 – 1
 9th National Level Technical and Management Fest organized by the Departme
 nt of CSE (AI &amp; ML) in association with GCET SB\, GCET IEEE SSIT Student B
 ranch.\n\nThis event provides students with an opportunity to present inno
 vative ideas\, research concepts\, and creative solutions through visually
  engaging posters. Participants can showcase their work in emerging techno
 logy areas and discuss their ideas with peers and judges.\n\nRegistration 
 Link\n\nGoogle Form:\nhttps://docs.google.com/forms/d/e/1FAIpQLScKRQWKH_We
 VVInKmSZdzqcSEMAV09XcwghOTJTIglr8qo6Xw/viewform\n\nTracks / Topics\n\n-\nA
 I in Business and Finance\n\n-\nSustainable AI\n\n-\nDigital Education and
  Skill Development\n\n-\nCybersecurity and Digital Ethics\n\n-\nE-waste Ma
 nagement\n\n-\nDigital Empowerment in Rural Areas\n\n-\nSmart Agriculture 
 and Farmer Support\n\n8. Qubit Frontier (Quantum Computing)\n\nParticipati
 on Details\n\n-\nTeam Size: 1–2 members\n\n-\nEntry Fee: ₹100 per team
 \n\n-\nPosters must be prepared in advance and brought to the venue.\n\n-\
 nParticipation certificates will be provided.\n\nCash Prizes\n🥇 1st Pri
 ze – ₹3500\n🥈 2nd Prize – ₹2500\n🥉 3rd Prize – ₹1500\n\n
 Agenda: \n10:00 AM – 10:15 AM\nParticipant Registration &amp; Poster Setup\n
 \n10:15 AM – 10:30 AM\nWelcome Address and Event Briefing\n\n10:30 AM 
 – 12:30 PM\nPoster Presentation &amp; Evaluation by Judges\n\n12:30 PM – 0
 1:00 PM\nResult Announcement and Prize Distribution\n\nGeethanjali College
  of Engineering &amp; Technology\, Keesara\, Hyderabad\, Telengana\, India
LOCATION:Geethanjali College of Engineering &amp; Technology\, Keesara\, Hydera
 bad\, Telengana\, India
ORGANIZER:svkskt4466@gmail.com
SEQUENCE:17
SUMMARY:Poster Presentation – BHASWARA 2026
URL;VALUE=URI:https://events.vtools.ieee.org/m/547731
X-ALT-DESC:Description: &lt;br /&gt;&lt;p data-start=&quot;498&quot; data-end=&quot;704&quot;&gt;Poster Pre
 sentation is conducted as part of &lt;strong data-start=&quot;542&quot; data-end=&quot;611&quot;&gt;
 BHASWARA 2026 &amp;ndash\; 19th National Level Technical and Management Fest&lt;/
 strong&gt; organized by the Department of CSE (AI &amp;amp\; ML) in association w
 ith GCET SB\, GCET IEEE SSIT Student Branch.&lt;/p&gt;\n&lt;p data-start=&quot;706&quot; data
 -end=&quot;973&quot;&gt;This event provides students with an opportunity to present inn
 ovative ideas\, research concepts\, and creative solutions through visuall
 y engaging posters. Participants can showcase their work in emerging techn
 ology areas and discuss their ideas with peers and judges.&lt;/p&gt;\n&lt;h3 data-s
 ection-id=&quot;7jon46&quot; data-start=&quot;1971&quot; data-end=&quot;1995&quot;&gt;Registration Link&lt;/h3
 &gt;\n&lt;p data-start=&quot;1996&quot; data-end=&quot;2110&quot;&gt;Google Form:&lt;br data-start=&quot;2008&quot; 
 data-end=&quot;2011&quot;&gt;&lt;a class=&quot;decorated-link&quot; href=&quot;https://docs.google.com/fo
 rms/d/e/1FAIpQLScKRQWKH_WeVVInKmSZdzqcSEMAV09XcwghOTJTIglr8qo6Xw/viewform&quot;
  target=&quot;_new&quot; rel=&quot;noopener&quot; data-start=&quot;2011&quot; data-end=&quot;2110&quot;&gt;https://do
 cs.google.com/forms/d/e/1FAIpQLScKRQWKH_WeVVInKmSZdzqcSEMAV09XcwghOTJTIglr
 8qo6Xw/viewform&lt;/a&gt;&lt;/p&gt;\n&lt;h3 data-section-id=&quot;bay3rq&quot; data-start=&quot;1123&quot; da
 ta-end=&quot;1145&quot;&gt;Tracks / Topics&lt;/h3&gt;\n&lt;ol data-start=&quot;1146&quot; data-end=&quot;1424&quot;&gt;
 \n&lt;li data-section-id=&quot;1820b0w&quot; data-start=&quot;1146&quot; data-end=&quot;1177&quot;&gt;\n&lt;p dat
 a-start=&quot;1149&quot; data-end=&quot;1177&quot;&gt;AI in Business and Finance&lt;/p&gt;\n&lt;/li&gt;\n&lt;li 
 data-section-id=&quot;14ylbks&quot; data-start=&quot;1178&quot; data-end=&quot;1197&quot;&gt;\n&lt;p data-star
 t=&quot;1181&quot; data-end=&quot;1197&quot;&gt;Sustainable AI&lt;/p&gt;\n&lt;/li&gt;\n&lt;li data-section-id=&quot;1
 x6nh0h&quot; data-start=&quot;1198&quot; data-end=&quot;1242&quot;&gt;\n&lt;p data-start=&quot;1201&quot; data-end=
 &quot;1242&quot;&gt;Digital Education and Skill Development&lt;/p&gt;\n&lt;/li&gt;\n&lt;li data-sectio
 n-id=&quot;12utihj&quot; data-start=&quot;1243&quot; data-end=&quot;1280&quot;&gt;\n&lt;p data-start=&quot;1246&quot; da
 ta-end=&quot;1280&quot;&gt;Cybersecurity and Digital Ethics&lt;/p&gt;\n&lt;/li&gt;\n&lt;li data-sectio
 n-id=&quot;1sseesx&quot; data-start=&quot;1281&quot; data-end=&quot;1304&quot;&gt;\n&lt;p data-start=&quot;1284&quot; da
 ta-end=&quot;1304&quot;&gt;E-waste Management&lt;/p&gt;\n&lt;/li&gt;\n&lt;li data-section-id=&quot;h17d09&quot; 
 data-start=&quot;1305&quot; data-end=&quot;1344&quot;&gt;\n&lt;p data-start=&quot;1308&quot; data-end=&quot;1344&quot;&gt;D
 igital Empowerment in Rural Areas&lt;/p&gt;\n&lt;/li&gt;\n&lt;li data-section-id=&quot;x6fc3j&quot;
  data-start=&quot;1345&quot; data-end=&quot;1386&quot;&gt;\n&lt;p data-start=&quot;1348&quot; data-end=&quot;1386&quot;&gt;
 Smart Agriculture and Farmer Support&lt;/p&gt;\n&lt;/li&gt;\n&lt;/ol&gt;\n&lt;p data-start=&quot;139
 0&quot; data-end=&quot;1424&quot;&gt;&amp;nbsp\; &amp;nbsp\; &amp;nbsp\;8. Qubit Frontier (Quantum Compu
 ting)&lt;/p&gt;\n&lt;p data-start=&quot;974&quot; data-end=&quot;999&quot;&gt;&lt;strong data-start=&quot;974&quot; dat
 a-end=&quot;999&quot;&gt;Participation Details&lt;/strong&gt;&lt;/p&gt;\n&lt;ul data-start=&quot;1000&quot; data
 -end=&quot;1168&quot;&gt;\n&lt;li data-section-id=&quot;1cysqbd&quot; data-start=&quot;1000&quot; data-end=&quot;10
 26&quot;&gt;\n&lt;p data-start=&quot;1002&quot; data-end=&quot;1026&quot;&gt;Team Size: 1&amp;ndash\;2 members&lt;/
 p&gt;\n&lt;/li&gt;\n&lt;li data-section-id=&quot;ctt5ea&quot; data-start=&quot;1027&quot; data-end=&quot;1055&quot;&gt;
 \n&lt;p data-start=&quot;1029&quot; data-end=&quot;1055&quot;&gt;Entry Fee: ₹100 per team&lt;/p&gt;\n&lt;/l
 i&gt;\n&lt;li data-section-id=&quot;11l3adr&quot; data-start=&quot;1056&quot; data-end=&quot;1121&quot;&gt;\n&lt;p d
 ata-start=&quot;1058&quot; data-end=&quot;1121&quot;&gt;Posters must be prepared in advance and b
 rought to the venue.&lt;/p&gt;\n&lt;/li&gt;\n&lt;li data-section-id=&quot;1a206s7&quot; data-start=
 &quot;1122&quot; data-end=&quot;1168&quot;&gt;\n&lt;p data-start=&quot;1124&quot; data-end=&quot;1168&quot;&gt;Participatio
 n certificates will be provided.&lt;/p&gt;\n&lt;/li&gt;\n&lt;/ul&gt;\n&lt;p data-start=&quot;1170&quot; d
 ata-end=&quot;1252&quot;&gt;&lt;strong data-start=&quot;1170&quot; data-end=&quot;1185&quot;&gt;Cash Prizes&lt;/stro
 ng&gt;&lt;br&gt;🥇 1st Prize &amp;ndash\; ₹3500&lt;br data-start=&quot;1206&quot; data-end=&quot;1209
 &quot;&gt;🥈 2nd Prize &amp;ndash\; ₹2500&lt;br data-start=&quot;1229&quot; data-end=&quot;1232&quot;&gt;
 🥉 3rd Prize &amp;ndash\; ₹1500&lt;/p&gt;&lt;br /&gt;&lt;br /&gt;Agenda: &lt;br /&gt;&lt;p data-start
 =&quot;683&quot; data-end=&quot;750&quot;&gt;&lt;strong data-start=&quot;683&quot; data-end=&quot;706&quot;&gt;10:00 AM &amp;nd
 ash\; 10:15 AM&lt;/strong&gt;&lt;br data-start=&quot;706&quot; data-end=&quot;709&quot;&gt;Participant Reg
 istration &amp;amp\; Poster Setup&lt;/p&gt;\n&lt;p data-start=&quot;752&quot; data-end=&quot;814&quot;&gt;&lt;str
 ong data-start=&quot;752&quot; data-end=&quot;775&quot;&gt;10:15 AM &amp;ndash\; 10:30 AM&lt;/strong&gt;&lt;br
  data-start=&quot;775&quot; data-end=&quot;778&quot;&gt;Welcome Address and Event Briefing&lt;/p&gt;\n&lt;
 p data-start=&quot;816&quot; data-end=&quot;886&quot;&gt;&lt;strong data-start=&quot;816&quot; data-end=&quot;839&quot;&gt;
 10:30 AM &amp;ndash\; 12:30 PM&lt;/strong&gt;&lt;br data-start=&quot;839&quot; data-end=&quot;842&quot;&gt;Pos
 ter Presentation &amp;amp\; Evaluation by Judges&lt;/p&gt;\n&lt;p data-start=&quot;888&quot; data
 -end=&quot;958&quot;&gt;&lt;strong data-start=&quot;888&quot; data-end=&quot;911&quot;&gt;12:30 PM &amp;ndash\; 01:00
  PM&lt;/strong&gt;&lt;br data-start=&quot;911&quot; data-end=&quot;914&quot;&gt;Result Announcement and Pr
 ize Distribution&lt;/p&gt;
END:VEVENT
END:VCALENDAR

