BEGIN:VCALENDAR
VERSION:2.0
PRODID:IEEE vTools.Events//EN
CALSCALE:GREGORIAN
BEGIN:VTIMEZONE
TZID:America/New_York
BEGIN:DAYLIGHT
DTSTART:20260308T030000
TZOFFSETFROM:-0500
TZOFFSETTO:-0400
RRULE:FREQ=YEARLY;BYDAY=2SU;BYMONTH=3
TZNAME:EDT
END:DAYLIGHT
BEGIN:STANDARD
DTSTART:20261101T010000
TZOFFSETFROM:-0400
TZOFFSETTO:-0500
RRULE:FREQ=YEARLY;BYDAY=1SU;BYMONTH=11
TZNAME:EST
END:STANDARD
END:VTIMEZONE
BEGIN:VEVENT
DTSTAMP:20260409T022846Z
UID:D4617324-131D-4D7E-A128-0A3A5C792413
DTSTART;TZID=America/New_York:20260325T173000
DTEND;TZID=America/New_York:20260325T193000
DESCRIPTION:Welcome to IEEE CT PES Chapter 2026 Kickoff Event\n\nWe would l
 ike to invite you to the first CT PES event for 2026! We hope to make IEEE
  CT PES an organization that brings together professionals who are interes
 ted in power and energy. Join us for an evening that begins with a network
 ing dinner and introduction to the CT PES Chapter and upcoming events\, fo
 llowed by an engaging technical presentation.\n\nSpeaker(s): Dr. Cerrai\n\
 nRoom: Community Room\, Bldg: Lucy Robbins Welles Library\, 100 Garfield S
 treet\, Newington\, Connecticut\, United States\, 06111
LOCATION:Room: Community Room\, Bldg: Lucy Robbins Welles Library\, 100 Gar
 field Street\, Newington\, Connecticut\, United States\, 06111
ORGANIZER:sherif.salem@ieee.org
SEQUENCE:11
SUMMARY:IEEE CT PES Chapter 2026 Kickoff Event
URL;VALUE=URI:https://events.vtools.ieee.org/m/547862
X-ALT-DESC:Description: &lt;br /&gt;&lt;p class=&quot;MsoNormal&quot; style=&quot;line-height: norm
 al\; background: white\; margin: 1.25pt 0in 0in 1.0pt\;&quot;&gt;&lt;strong&gt;&lt;span sty
 le=&quot;font-size: 16.0pt\; font-family: &#39;Open Sans&#39;\,sans-serif\; mso-fareast
 -font-family: &#39;Times New Roman&#39;\; color: #002855\; mso-font-kerning: 0pt\;
  mso-ligatures: none\;&quot;&gt;Welcome to IEEE CT PES Chapter 2026 Kickoff Event&lt;
 /span&gt;&lt;/strong&gt;&lt;/p&gt;\n&lt;p class=&quot;MsoNormal&quot; style=&quot;line-height: 25.5pt\; bac
 kground: white\; margin: 6.05pt 0in 7.5pt 0in\;&quot;&gt;&lt;span style=&quot;font-size: 1
 4.0pt\; font-family: &#39;Open Sans&#39;\,sans-serif\; mso-fareast-font-family: &#39;T
 imes New Roman&#39;\; color: #616161\; mso-font-kerning: 0pt\; mso-ligatures: 
 none\;&quot;&gt;We would like to invite you to the first CT PES event for 2026! We
  hope to make IEEE CT PES an organization that brings together professiona
 ls who are interested in power and energy. Join us for an evening that beg
 ins with a networking dinner and introduction to the CT PES Chapter and up
 coming events\, followed by an engaging technical presentation.&lt;/span&gt;&lt;/p&gt;
END:VEVENT
END:VCALENDAR

