BEGIN:VCALENDAR
VERSION:2.0
PRODID:IEEE vTools.Events//EN
CALSCALE:GREGORIAN
BEGIN:VTIMEZONE
TZID:Africa/Nairobi
BEGIN:STANDARD
DTSTART:19420801T001500
TZOFFSETFROM:+0245
TZOFFSETTO:+0300
TZNAME:EAT
END:STANDARD
END:VTIMEZONE
BEGIN:VEVENT
DTSTAMP:20260328T195007Z
UID:568DBB70-FE98-4836-9F99-2D715AE8A85E
DTSTART;TZID=Africa/Nairobi:20260320T193000
DTEND;TZID=Africa/Nairobi:20260320T213000
DESCRIPTION:Ready to level up your tech game? 🚀\n\nJoin us for an exclus
 ive AI &amp; Cybersecurity Workshop! Whether you&#39;re a tech enthusiast or just 
 curious about the future of digital defense\, this is the session for you.
  We’re diving deep into how artificial intelligence is reshaping the wor
 ld of security.\n\nIn association with IBM\, IEEE Kenyatta University\, IE
 EE JKUAT\, and IEEE Murang&#39;a University\, we&#39;re bringing together the best
  minds to explore the next frontier of tech. Don&#39;t miss out on this chance
  to network and learn from IBM expert\, Dr. Jane. See you there!\n\n📅 D
 ate: Tuesday\, 17th March\n⏰ Time: 7:00 PM – 9:00 PM\n📍 Google Meet
 : https://meet.google.com/xia-tnxc-dfo\n\nJoin our official group for more
  information regarding the workshop: [WhatsApp Group Link](https://chat.wh
 atsapp.com/IJHwjFs02kMLRp6juj5Dg9?mode=hqctswa)\n\nCo-sponsored by: IBM\n\
 nVirtual: https://events.vtools.ieee.org/m/548588
LOCATION:Virtual: https://events.vtools.ieee.org/m/548588
ORGANIZER:prud3nc3_njoroge.ke@ieee.org
SEQUENCE:20
SUMMARY:AI and Cyber Security Bootcamp
URL;VALUE=URI:https://events.vtools.ieee.org/m/548588
X-ALT-DESC:Description: &lt;br /&gt;&lt;p&gt;Ready to level up your tech game? 🚀&lt;/p&gt;
 \n&lt;p&gt;Join us for an exclusive &lt;strong&gt;AI &amp;amp\; Cybersecurity Workshop!&lt;/s
 trong&gt; Whether you&#39;re a tech enthusiast or just curious about the future o
 f digital defense\, this is the session for you. We&amp;rsquo\;re diving deep 
 into how artificial intelligence is reshaping the world of security.&lt;/p&gt;\n
 &lt;p&gt;In association with &lt;strong&gt;IBM&lt;/strong&gt;\, &lt;strong&gt;IEEE Kenyatta Univer
 sity&lt;/strong&gt;\, &lt;strong&gt;IEEE JKUAT&lt;/strong&gt;\, and &lt;strong&gt;IEEE Murang&#39;a Un
 iversity&lt;/strong&gt;\, we&#39;re bringing together the best minds to explore the 
 next frontier of tech. Don&#39;t miss out on this chance to network and learn 
 from IBM expert\, &lt;strong&gt;Dr. Jane&lt;/strong&gt;. See you there!&lt;/p&gt;\n&lt;p&gt;📅 D
 ate: Tuesday\, 17th March&lt;br&gt;⏰ Time: 7:00 PM &amp;ndash\; 9:00 PM&lt;br&gt;📍 Go
 ogle Meet: &lt;a title=&quot;Meeting Link&quot; href=&quot;https://meet.google.com/xia-tnxc-
 dfo&quot;&gt;https://meet.google.com/xia-tnxc-dfo&lt;/a&gt;&lt;/p&gt;\n&lt;p&gt;Join our official gr
 oup for more information regarding the workshop: &lt;a title=&quot;WhatsApp Group 
 Link&quot; href=&quot;https://chat.whatsapp.com/IJHwjFs02kMLRp6juj5Dg9?mode=hqctswa&quot;
 &gt;WhatsApp Group Link&lt;/a&gt;&lt;/p&gt;
END:VEVENT
END:VCALENDAR

