BEGIN:VCALENDAR
VERSION:2.0
PRODID:IEEE vTools.Events//EN
CALSCALE:GREGORIAN
BEGIN:VTIMEZONE
TZID:Asia/Kolkata
BEGIN:STANDARD
DTSTART:19451014T230000
TZOFFSETFROM:+0630
TZOFFSETTO:+0530
TZNAME:IST
END:STANDARD
END:VTIMEZONE
BEGIN:VEVENT
DTSTAMP:20260316T074350Z
UID:52193B4F-CCA7-420C-B43E-D80352DDB57C
DTSTART;TZID=Asia/Kolkata:20260319T090300
DTEND;TZID=Asia/Kolkata:20260320T180500
DESCRIPTION:The ANRP Act\, 2023\, assented to by the President on 12\nAugus
 t 2023\, establishes the Anusandhan National Research Foundation (ANRF) as
  the apex national institution for providing strategic direction to resear
 ch\, innovation\, and entrepreneurship in India.\nThe PAIR programme is de
 signed to achieve a strong\nresearch culture across Indian universities th
 rough a\nstructured mentorship-based model that pairs high-potential insti
 tutions with leading research-intensive institutions.\nPAIR supports inter
 nationally competitive and high-impact\nresearch\, and advances institutio
 ns through improved\nresearch quality\, and systematic infusion of best pr
 actices.\n\nCo-sponsored by: IIIT Bhubaneswar\n\nSpeaker(s): Dr. Akhilesh 
 Mishra\, Dr. Salma Jamal\, Dr. Manabhanjan Pradhan\, Dr. Akash Poudel\n\nV
 irtual: https://events.vtools.ieee.org/m/548960
LOCATION:Virtual: https://events.vtools.ieee.org/m/548960
ORGANIZER:puspanjali@iiit-bh.ac.in
SEQUENCE:122
SUMMARY:Two-Day National Seminar On Sustainable Healthcare Using Computatio
 nal Drug Discovery and Internet of Medical things (CDDIoMT-2026)
URL;VALUE=URI:https://events.vtools.ieee.org/m/548960
X-ALT-DESC:Description: &lt;br /&gt;&lt;p&gt;The ANRP Act\, 2023\, assented to by the P
 resident on 12&lt;br&gt;August 2023\, establishes the Anusandhan National Resear
 ch Foundation (ANRF) as the apex national institution for providing strate
 gic direction to research\, innovation\, and entrepreneurship in India.&lt;br
 &gt;The PAIR programme is designed to achieve a strong&lt;br&gt;research culture ac
 ross Indian universities through a&lt;br&gt;structured mentorship-based model th
 at pairs high-potential institutions with leading research-intensive insti
 tutions.&lt;br&gt;PAIR supports internationally competitive and high-impact&lt;br&gt;r
 esearch\, and advances institutions through improved&lt;br&gt;research quality\,
  and systematic infusion of best practices.&lt;/p&gt;
END:VEVENT
END:VCALENDAR

