BEGIN:VCALENDAR
VERSION:2.0
PRODID:IEEE vTools.Events//EN
CALSCALE:GREGORIAN
BEGIN:VTIMEZONE
TZID:America/New_York
BEGIN:DAYLIGHT
DTSTART:20260308T030000
TZOFFSETFROM:-0500
TZOFFSETTO:-0400
RRULE:FREQ=YEARLY;BYDAY=2SU;BYMONTH=3
TZNAME:EDT
END:DAYLIGHT
BEGIN:STANDARD
DTSTART:20261101T010000
TZOFFSETFROM:-0400
TZOFFSETTO:-0500
RRULE:FREQ=YEARLY;BYDAY=1SU;BYMONTH=11
TZNAME:EST
END:STANDARD
END:VTIMEZONE
BEGIN:VEVENT
DTSTAMP:20260317T041913Z
UID:AF816AA0-528C-4B19-AB3D-670FE4D39CC2
DTSTART;TZID=America/New_York:20260326T183000
DTEND;TZID=America/New_York:20260326T203000
DESCRIPTION:Atlanta Section Executive Committee / Administrative Committee 
 Bi-monthly Meeting\n(Virtual Only Meeting)\n\nWe encourage you to attend i
 f you are currently volunteering with the Atlanta Section or if you are in
 terested in volunteering with the Atlanta Section.\n\nCall-in information:
 \n\nhttps://ieeemeetings.webex.com/ieeemeetings/j.php?MTID=m9707379a8804cd
 a080e7769d8ca07491\n\nMeeting number:	2539 800 3575\nMeeting password:	SaV
 DCRrd432\nHost Key:	258747\nJoin by phone:\n+1-415-655-0002 United States 
 Toll\n1-855-282-6330 United States Toll Free\nAccess code:\nHost PIN: 3555
 \n\nAgenda: \n6:30 - 8:30pm: Meeting\n\nVirtual: https://events.vtools.iee
 e.org/m/549228
LOCATION:Virtual: https://events.vtools.ieee.org/m/549228
ORGANIZER:Atlanta-Secretary@ieee.org
SEQUENCE:6
SUMMARY:Atlanta Section ExCom/AdCom Bi-monthly Meeting
URL;VALUE=URI:https://events.vtools.ieee.org/m/549228
X-ALT-DESC:Description: &lt;br /&gt;&lt;p&gt;&lt;span style=&quot;font-size: 18pt\;&quot;&gt;&lt;strong&gt;At
 lanta Section Executive Committee / Administrative Committee Bi-monthly Me
 eting&lt;br&gt;&lt;/strong&gt;&lt;/span&gt;&lt;strong style=&quot;font-size: 18pt\;&quot;&gt;(Virtual Only M
 eeting)&lt;/strong&gt;&lt;/p&gt;\n&lt;p&gt;&lt;span style=&quot;font-size: 14pt\;&quot;&gt;&lt;strong&gt;We encour
 age you to attend if you are currently volunteering with the Atlanta Secti
 on or if you are interested in volunteering with the Atlanta Section.&lt;/str
 ong&gt;&lt;/span&gt;&lt;/p&gt;\n&lt;p&gt;&lt;strong&gt;Call-in information:&amp;nbsp\;&lt;/strong&gt;&lt;/p&gt;\n&lt;p&gt;&lt;
 a href=&quot;https://ieeemeetings.webex.com/ieeemeetings/j.php?MTID=m9707379a88
 04cda080e7769d8ca07491&quot;&gt;https://ieeemeetings.webex.com/ieeemeetings/j.php?
 MTID=m9707379a8804cda080e7769d8ca07491&lt;/a&gt;&lt;/p&gt;\n&lt;table style=&quot;width: auto!
 important\;&quot;&gt;\n&lt;tbody&gt;\n&lt;tr style=&quot;margin: 0px\;&quot;&gt;\n&lt;td style=&quot;padding-rig
 ht: 5px\;&quot;&gt;Meeting number:&lt;/td&gt;\n&lt;td&gt;&lt;span id=&quot;meetingKeySelector&quot;&gt;2539 80
 0 3575&lt;/span&gt;&lt;/td&gt;\n&lt;/tr&gt;\n&lt;tr&gt;\n&lt;td style=&quot;padding-right: 5px\;&quot;&gt;Meeting 
 password:&lt;/td&gt;\n&lt;td&gt;SaVDCRrd432&lt;/td&gt;\n&lt;/tr&gt;\n&lt;tr&gt;\n&lt;td style=&quot;padding-righ
 t: 5px\;&quot;&gt;Host Key:&lt;/td&gt;\n&lt;td&gt;258747&lt;/td&gt;\n&lt;/tr&gt;\n&lt;/tbody&gt;\n&lt;/table&gt;\n&lt;p&gt;&lt;
 strong&gt;Join by phone:&lt;br&gt;&lt;/strong&gt;&lt;span dir=&quot;auto&quot;&gt;+1-415-655-0002&lt;/span&gt; 
 United States Toll&lt;br&gt;&lt;span dir=&quot;auto&quot;&gt;1-855-282-6330&lt;/span&gt; United States
  Toll Free&lt;br&gt;Access code:&amp;nbsp\;&lt;br&gt;Host PIN: 3555&lt;/p&gt;&lt;br /&gt;&lt;br /&gt;Agenda:
  &lt;br /&gt;&lt;p&gt;6:30 - 8:30pm: Meeting&lt;/p&gt;
END:VEVENT
END:VCALENDAR

