BEGIN:VCALENDAR
VERSION:2.0
PRODID:IEEE vTools.Events//EN
CALSCALE:GREGORIAN
BEGIN:VTIMEZONE
TZID:America/Los_Angeles
BEGIN:DAYLIGHT
DTSTART:20260308T030000
TZOFFSETFROM:-0800
TZOFFSETTO:-0700
RRULE:FREQ=YEARLY;BYDAY=2SU;BYMONTH=3
TZNAME:PDT
END:DAYLIGHT
BEGIN:STANDARD
DTSTART:20261101T010000
TZOFFSETFROM:-0700
TZOFFSETTO:-0800
RRULE:FREQ=YEARLY;BYDAY=1SU;BYMONTH=11
TZNAME:PST
END:STANDARD
END:VTIMEZONE
BEGIN:VEVENT
DTSTAMP:20260324T212950Z
UID:F99ED212-9B95-4AE0-B5FE-832CA4C184BC
DTSTART;TZID=America/Los_Angeles:20260312T160000
DTEND;TZID=America/Los_Angeles:20260317T170000
DESCRIPTION:Present: Maureen\, Mickey\, Karl\, and Larry\,\n\nTreasurer&#39;s R
 eport - we have a balance of @$3.3K.\n\nAction items:\n\n- Maureen to let 
 IEEE Central know that Treasurer Mickey needs NextGen access DONE - gettin
 g settled with paperwork now\, he&#39;ll get our only credit card\n- Larry to 
 augment meeting notice for Beeb&#39;s April 22 meeting in vTools and add place
 holder for July 15 with &quot;working title&quot; AI below\n- Karl to check reserver
 vation at Beeb&#39;s April 22 and also reserve July 15\n- Mickey to follow up 
 with CHRS radio guy to ensure April 22 works\, and tentatively set up &quot;liv
 e&quot; tour October 15\n- Mickey and Maureen to look for speakers for July 15 
 - How to Use AI Safely &amp; Effectively\, budget max $500\n\nvTools: Larry to
  file these brief notes for our meeting in vTools with meeting update so t
 hat we&#39;re on the record for these meetings.\n\nChapter Meeting ideas:\n\n-
  April 22 - California Historical Radio Society/Museum Speaker - Mickey Co
 nfirming\n- July 15 - How to Use AI Safely &amp; Effectively - Mickey and Maur
 een looking for local speakers\n- October 21 - TENT - Alameda CHRS -- http
 s://californiahistoricalradio.com vintage gear\, broadcast &amp; ham/Lunch/pos
 sible USS Hornet tour\n\nNext meeting:\n\nApril 9 at 4PM!\n\nAgenda: \nMee
 ting called by Group Chair Maureen Vavra.\n\nVirtual: https://events.vtool
 s.ieee.org/m/549378
LOCATION:Virtual: https://events.vtools.ieee.org/m/549378
ORGANIZER:mwvavra@outlook.com
SEQUENCE:16
SUMMARY:LMAG ExCon Mar 26
URL;VALUE=URI:https://events.vtools.ieee.org/m/549378
X-ALT-DESC:Description: &lt;br /&gt;&lt;p class=&quot;MsoNormal&quot;&gt;&amp;nbsp\;&lt;strong&gt;Present:&lt;
 /strong&gt;&amp;nbsp\;Maureen\, Mickey\, Karl\, and Larry\,&lt;/p&gt;\n&lt;p class=&quot;MsoNor
 mal&quot;&gt;&lt;strong&gt;Treasurer&#39;s Report -&lt;/strong&gt;&amp;nbsp\;we have a balance of @$3.
 3K.&lt;/p&gt;\n&lt;p class=&quot;MsoNormal&quot;&gt;&amp;nbsp\;&lt;strong&gt;Action items:&lt;/strong&gt;&lt;/p&gt;\n&lt;
 ol style=&quot;margin-top: 0in\;&quot; start=&quot;1&quot; type=&quot;1&quot;&gt;\n&lt;li class=&quot;MsoNormal&quot; st
 yle=&quot;mso-list: l1 level1 lfo1\; tab-stops: list .5in\;&quot;&gt;Maureen to let IEE
 E Central know that Treasurer Mickey needs NextGen access DONE - getting s
 ettled with paperwork now\, he&#39;ll get our only credit card&lt;/li&gt;\n&lt;li class
 =&quot;MsoNormal&quot; style=&quot;mso-list: l1 level1 lfo1\; tab-stops: list .5in\;&quot;&gt;Lar
 ry to augment meeting notice for Beeb&#39;s April 22 meeting in vTools and add
  placeholder for July 15 with &quot;working title&quot; AI below&lt;/li&gt;\n&lt;li class=&quot;Ms
 oNormal&quot; style=&quot;mso-list: l1 level1 lfo1\; tab-stops: list .5in\;&quot;&gt;Karl to
  check reservervation at Beeb&#39;s April 22 and also reserve July 15&amp;nbsp\;&lt;/
 li&gt;\n&lt;li class=&quot;MsoNormal&quot; style=&quot;mso-list: l1 level1 lfo1\; tab-stops: li
 st .5in\;&quot;&gt;Mickey to follow up with CHRS radio guy to ensure April 22 work
 s\, and tentatively set up &quot;live&quot; tour October 15&amp;nbsp\;&lt;/li&gt;\n&lt;li class=&quot;
 MsoNormal&quot; style=&quot;mso-list: l1 level1 lfo1\; tab-stops: list .5in\;&quot;&gt;Micke
 y and Maureen to look for speakers for July 15 -&amp;nbsp\;&lt;em&gt;How to Use AI S
 afely &amp;amp\; Effectively&lt;/em&gt;\,&amp;nbsp\;budget max $500&lt;/li&gt;\n&lt;/ol&gt;\n&lt;p clas
 s=&quot;MsoNormal&quot;&gt;&lt;strong&gt;vTools:&lt;/strong&gt;&amp;nbsp\;Larry to file these brief not
 es for our meeting in vTools with meeting update so that we&#39;re on the reco
 rd for these meetings.&lt;/p&gt;\n&lt;p class=&quot;MsoNormal&quot;&gt;&amp;nbsp\;&lt;strong&gt;Chapter Me
 eting ideas:&lt;/strong&gt;&amp;nbsp\;&lt;/p&gt;\n&lt;ol style=&quot;margin-top: 0in\;&quot; start=&quot;1&quot; 
 type=&quot;1&quot;&gt;\n&lt;li class=&quot;MsoNormal&quot; style=&quot;mso-list: l0 level1 lfo2\; tab-sto
 ps: list .5in\;&quot;&gt;April 22 -&amp;nbsp\;&lt;em&gt;California Historical Radio Society/
 Museum&lt;/em&gt;&amp;nbsp\;Speaker - Mickey Confirming&lt;/li&gt;\n&lt;li class=&quot;MsoNormal&quot; 
 style=&quot;mso-list: l0 level1 lfo2\; tab-stops: list .5in\;&quot;&gt;July 15 -&amp;nbsp\;
 &lt;em&gt;How to Use AI Safely &amp;amp\; Effectively -&amp;nbsp\;&lt;/em&gt;Mickey and Mauree
 n looking for local speakers&lt;/li&gt;\n&lt;li class=&quot;MsoNormal&quot; style=&quot;mso-list: 
 l0 level1 lfo2\; tab-stops: list .5in\;&quot;&gt;October 21 - TENT - Alameda&lt;em&gt;&amp;n
 bsp\;CHRS -- https://californiahistoricalradio.com vintage gear\, broadcas
 t &amp;amp\; ham/&lt;/em&gt;Lunch/possible USS Hornet tour&amp;nbsp\;&lt;/li&gt;\n&lt;/ol&gt;\n&lt;p cl
 ass=&quot;MsoNormal&quot;&gt;&lt;strong&gt;Next meeting&lt;/strong&gt;:&lt;/p&gt;\n&lt;p class=&quot;MsoNormal&quot;&gt;A
 pril 9 at 4PM!&lt;/p&gt;\n&lt;p class=&quot;MsoNormal&quot;&gt;&amp;nbsp\;&lt;/p&gt;\n&lt;p class=&quot;MsoNormal&quot;
 &gt;&amp;nbsp\;&lt;/p&gt;\n&lt;p class=&quot;MsoNormal&quot;&gt;&amp;nbsp\;&lt;/p&gt;\n&lt;p class=&quot;MsoNormal&quot;&gt;&amp;nbsp
 \;&lt;/p&gt;&lt;br /&gt;&lt;br /&gt;Agenda: &lt;br /&gt;&lt;p&gt;Meeting called by Group Chair Maureen V
 avra.&lt;/p&gt;
END:VEVENT
END:VCALENDAR

