BEGIN:VCALENDAR
VERSION:2.0
PRODID:IEEE vTools.Events//EN
CALSCALE:GREGORIAN
BEGIN:VTIMEZONE
TZID:Africa/Nairobi
BEGIN:STANDARD
DTSTART:19420801T001500
TZOFFSETFROM:+0245
TZOFFSETTO:+0300
TZNAME:EAT
END:STANDARD
END:VTIMEZONE
BEGIN:VEVENT
DTSTAMP:20260331T092927Z
UID:50A6C44C-BCC5-4B5C-AE85-B3A72902BFC4
DTSTART;TZID=Africa/Nairobi:20260328T094500
DTEND;TZID=Africa/Nairobi:20260328T153000
DESCRIPTION:A relaxed\, outdoor session exploring how Artificial Intelligen
 ce is transforming Telecommunications Engineering\, featuring a keynote\, 
 lightning talks\, and networking. Being organized by a collaboration of IE
 EE Kenya ComSoc\, Photonics\,WIE\,YP \, Student Branches.\n\nAudience:\nSt
 udents and young professionals (18+) in tech and engineering. Even though 
 its an IWD event men are invited if any interested.\n\nVenue:\nKarura Fore
 st\n\nTheme:\nAI for Communications Technologies\, aligned with Internatio
 nal Women’s Day.#GivetoGain\n\nKarura Forest\, Nairobi\, Nairobi\, Kenya
LOCATION:Karura Forest\, Nairobi\, Nairobi\, Kenya
ORGANIZER:comsoc.kenya@ieee.org
SEQUENCE:26
SUMMARY:International Women&#39;s Day 2026 Picnic
URL;VALUE=URI:https://events.vtools.ieee.org/m/549750
X-ALT-DESC:Description: &lt;br /&gt;&lt;p&gt;&lt;br&gt;A relaxed\, outdoor session exploring 
 how Artificial Intelligence is transforming Telecommunications Engineering
 \, featuring a keynote\, lightning talks\, and networking. Being organized
  by a collaboration of &amp;nbsp\;IEEE Kenya ComSoc\, Photonics\,WIE\,YP \, St
 udent Branches.&lt;/p&gt;\n&lt;p&gt;Audience:&lt;br&gt;Students and young professionals (18+
 ) in tech and engineering. &amp;nbsp\;Even though its an IWD event men are inv
 ited if any interested.&lt;/p&gt;\n&lt;p&gt;Venue:&lt;br&gt;Karura Forest&lt;/p&gt;\n&lt;p&gt;Theme:&lt;br&gt;
 AI for Communications Technologies\, aligned with International Women&amp;rsqu
 o\;s Day.#GivetoGain&lt;/p&gt;
END:VEVENT
END:VCALENDAR

