BEGIN:VCALENDAR
VERSION:2.0
PRODID:IEEE vTools.Events//EN
CALSCALE:GREGORIAN
BEGIN:VTIMEZONE
TZID:Asia/Dhaka
BEGIN:DAYLIGHT
DTSTART:20380119T091407
TZOFFSETFROM:+0600
TZOFFSETTO:+0600
RRULE:FREQ=YEARLY;BYDAY=3TU;BYMONTH=1
TZNAME:+06
END:DAYLIGHT
BEGIN:STANDARD
DTSTART:20091231T230000
TZOFFSETFROM:+0700
TZOFFSETTO:+0600
RRULE:FREQ=YEARLY;BYDAY=-1TH;BYMONTH=12
TZNAME:+06
END:STANDARD
END:VTIMEZONE
BEGIN:VEVENT
DTSTAMP:20260321T062911Z
UID:72CC04EC-88F5-4954-968A-A74FF07D2C25
DTSTART;TZID=Asia/Dhaka:20260322T220000
DTEND;TZID=Asia/Dhaka:20260322T233000
DESCRIPTION:[]\nJoin us for an insightful and hands-on workshop on building
  and managing a successful IEEE Student Branch.\n\n[🎯] Workshop Title:\
 n\n&quot;Building a Successful IEEE Student Branch: Leadership &amp; vTools in Acti
 on – A Hands-on Workshop&quot;\n\n[👨‍🏫] Keynote Speaker:\n\nLiton Cha
 ndra Paul\n\nSenior Member\, IEEE\n\nPhD Student\, The University of Alaba
 ma\, USA\n\nAssistant Professor\, Department of EECE\,\n\nPabna University
  of Science &amp; Technology\, Bangladesh.\n\n[📅] Date: 22 March\n\n[⏰] T
 ime: 10:00 PM\n\n[💻] Platform: Zoom &amp; Google Meet\n\n[✨] What you wil
 l learn:\n\n* Effective leadership in IEEE Student Branch\n\n* Practical u
 se of IEEE vTools\n\n* Organizing impactful events and activities\n\n* Rea
 l-life experiences and guidance\n\nSpeaker(s): Liton Chandra Paul\, \n\nVi
 rtual: https://events.vtools.ieee.org/m/549886
LOCATION:Virtual: https://events.vtools.ieee.org/m/549886
ORGANIZER:mdmnb435@gmail.com
SEQUENCE:24
SUMMARY:Building a Successful IEEE Student Branch: Leadership &amp; vTools in A
 ction – A Hands-on Workshop
URL;VALUE=URI:https://events.vtools.ieee.org/m/549886
X-ALT-DESC:Description: &lt;br /&gt;&lt;div class=&quot;xdj266r x14z9mp xat24cr x1lziwak 
 x1vvkbs x126k92a&quot;&gt;\n&lt;div dir=&quot;auto&quot;&gt;&lt;img src=&quot;https://events.vtools.ieee.o
 rg/vtools_ui/media/display/1e59a9d9-caeb-4c4b-b2ae-aba4a9ed9cf7&quot; alt=&quot;&quot; wi
 dth=&quot;896&quot; height=&quot;500&quot;&gt;&lt;/div&gt;\n&lt;div dir=&quot;auto&quot;&gt;Join us for an insightful a
 nd hands-on workshop on building and managing a successful IEEE Student Br
 anch.&lt;/div&gt;\n&lt;/div&gt;\n&lt;div class=&quot;x14z9mp xat24cr x1lziwak x1vvkbs xtlvy1s 
 x126k92a&quot;&gt;\n&lt;div dir=&quot;auto&quot;&gt;&lt;span class=&quot;html-span xexx8yu xyri2b x18d9i69
  x1c1uobl x1hl2dhg x16tdsg8 x1vvkbs x3nfvp2 x1j61x8r x1fcty0u xdj266r xat2
 4cr xm2jcoa x1mpyi22 xxymvpz xlup9mm x1kky2od&quot;&gt;&lt;img class=&quot;xz74otr x15moka
 o x1ga7v0g x16uus16 xbiv7yw&quot; src=&quot;https://static.xx.fbcdn.net/images/emoji
 .php/v9/t4f/2/16/1f3af.png&quot; alt=&quot;🎯&quot; width=&quot;16&quot; height=&quot;16&quot;&gt;&lt;/span&gt; Work
 shop Title:&lt;/div&gt;\n&lt;/div&gt;\n&lt;div class=&quot;x14z9mp xat24cr x1lziwak x1vvkbs xt
 lvy1s x126k92a&quot;&gt;\n&lt;div dir=&quot;auto&quot;&gt;&quot;Building a Successful IEEE Student Bran
 ch: Leadership &amp;amp\; vTools in Action &amp;ndash\; A Hands-on Workshop&quot;&lt;/div&gt;
 \n&lt;div dir=&quot;auto&quot;&gt;&amp;nbsp\;&lt;/div&gt;\n&lt;/div&gt;\n&lt;div class=&quot;x14z9mp xat24cr x1lzi
 wak x1vvkbs xtlvy1s x126k92a&quot;&gt;\n&lt;div dir=&quot;auto&quot;&gt;&lt;span class=&quot;html-span xex
 x8yu xyri2b x18d9i69 x1c1uobl x1hl2dhg x16tdsg8 x1vvkbs x3nfvp2 x1j61x8r x
 1fcty0u xdj266r xat24cr xm2jcoa x1mpyi22 xxymvpz xlup9mm x1kky2od&quot;&gt;&lt;img cl
 ass=&quot;xz74otr x15mokao x1ga7v0g x16uus16 xbiv7yw&quot; src=&quot;https://static.xx.fb
 cdn.net/images/emoji.php/v9/tb6/2/16/1f468_200d_1f3eb.png&quot; alt=&quot;👨&amp;zwj\;
 🏫&quot; width=&quot;16&quot; height=&quot;16&quot;&gt;&lt;/span&gt; Keynote Speaker:&lt;/div&gt;\n&lt;/div&gt;\n&lt;div 
 class=&quot;x14z9mp xat24cr x1lziwak x1vvkbs xtlvy1s x126k92a&quot;&gt;\n&lt;div dir=&quot;auto
 &quot;&gt;Liton Chandra Paul&lt;/div&gt;\n&lt;/div&gt;\n&lt;div class=&quot;x14z9mp xat24cr x1lziwak x
 1vvkbs xtlvy1s x126k92a&quot;&gt;\n&lt;div dir=&quot;auto&quot;&gt;Senior Member\, IEEE&lt;/div&gt;\n&lt;/d
 iv&gt;\n&lt;div class=&quot;x14z9mp xat24cr x1lziwak x1vvkbs xtlvy1s x126k92a&quot;&gt;\n&lt;div
  dir=&quot;auto&quot;&gt;PhD Student\, The University of Alabama\, USA&lt;/div&gt;\n&lt;/div&gt;\n&lt;
 div class=&quot;x14z9mp xat24cr x1lziwak x1vvkbs xtlvy1s x126k92a&quot;&gt;\n&lt;div dir=&quot;
 auto&quot;&gt;Assistant Professor\, Department of EECE\,&lt;/div&gt;\n&lt;/div&gt;\n&lt;div class
 =&quot;x14z9mp xat24cr x1lziwak x1vvkbs xtlvy1s x126k92a&quot;&gt;\n&lt;div dir=&quot;auto&quot;&gt;Pab
 na University of Science &amp;amp\; Technology\, Bangladesh.&lt;/div&gt;\n&lt;/div&gt;\n&lt;d
 iv class=&quot;x14z9mp xat24cr x1lziwak x1vvkbs xtlvy1s x126k92a&quot;&gt;\n&lt;div dir=&quot;a
 uto&quot;&gt;&amp;nbsp\;&lt;/div&gt;\n&lt;div dir=&quot;auto&quot;&gt;&lt;span class=&quot;html-span xexx8yu xyri2b 
 x18d9i69 x1c1uobl x1hl2dhg x16tdsg8 x1vvkbs x3nfvp2 x1j61x8r x1fcty0u xdj2
 66r xat24cr xm2jcoa x1mpyi22 xxymvpz xlup9mm x1kky2od&quot;&gt;&lt;img class=&quot;xz74otr
  x15mokao x1ga7v0g x16uus16 xbiv7yw&quot; src=&quot;https://static.xx.fbcdn.net/imag
 es/emoji.php/v9/t1d/2/16/1f4c5.png&quot; alt=&quot;📅&quot; width=&quot;16&quot; height=&quot;16&quot;&gt;&lt;/sp
 an&gt; Date: 22 March&lt;/div&gt;\n&lt;/div&gt;\n&lt;div class=&quot;x14z9mp xat24cr x1lziwak x1v
 vkbs xtlvy1s x126k92a&quot;&gt;\n&lt;div dir=&quot;auto&quot;&gt;&lt;span class=&quot;html-span xexx8yu xy
 ri2b x18d9i69 x1c1uobl x1hl2dhg x16tdsg8 x1vvkbs x3nfvp2 x1j61x8r x1fcty0u
  xdj266r xat24cr xm2jcoa x1mpyi22 xxymvpz xlup9mm x1kky2od&quot;&gt;&lt;img class=&quot;xz
 74otr x15mokao x1ga7v0g x16uus16 xbiv7yw&quot; src=&quot;https://static.xx.fbcdn.net
 /images/emoji.php/v9/tb5/2/16/23f0.png&quot; alt=&quot;⏰&quot; width=&quot;16&quot; height=&quot;16&quot;&gt;&lt;
 /span&gt; Time: 10:00 PM&lt;/div&gt;\n&lt;/div&gt;\n&lt;div class=&quot;x14z9mp xat24cr x1lziwak 
 x1vvkbs xtlvy1s x126k92a&quot;&gt;\n&lt;div dir=&quot;auto&quot;&gt;&amp;nbsp\;&lt;/div&gt;\n&lt;div dir=&quot;auto&quot;
 &gt;&lt;span class=&quot;html-span xexx8yu xyri2b x18d9i69 x1c1uobl x1hl2dhg x16tdsg8
  x1vvkbs x3nfvp2 x1j61x8r x1fcty0u xdj266r xat24cr xm2jcoa x1mpyi22 xxymvp
 z xlup9mm x1kky2od&quot;&gt;&lt;img class=&quot;xz74otr x15mokao x1ga7v0g x16uus16 xbiv7yw
 &quot; src=&quot;https://static.xx.fbcdn.net/images/emoji.php/v9/t2b/2/16/1f4bb.png&quot;
  alt=&quot;💻&quot; width=&quot;16&quot; height=&quot;16&quot;&gt;&lt;/span&gt; Platform: Zoom &amp;amp\; Google Me
 et&lt;/div&gt;\n&lt;/div&gt;\n&lt;div class=&quot;x14z9mp xat24cr x1lziwak x1vvkbs xtlvy1s x12
 6k92a&quot;&gt;\n&lt;div dir=&quot;auto&quot;&gt;&amp;nbsp\;&lt;/div&gt;\n&lt;div dir=&quot;auto&quot;&gt;&lt;span class=&quot;html-
 span xexx8yu xyri2b x18d9i69 x1c1uobl x1hl2dhg x16tdsg8 x1vvkbs x3nfvp2 x1
 j61x8r x1fcty0u xdj266r xat24cr xm2jcoa x1mpyi22 xxymvpz xlup9mm x1kky2od&quot;
 &gt;&lt;img class=&quot;xz74otr x15mokao x1ga7v0g x16uus16 xbiv7yw&quot; src=&quot;https://stat
 ic.xx.fbcdn.net/images/emoji.php/v9/t75/2/16/2728.png&quot; alt=&quot;✨&quot; width=&quot;16
 &quot; height=&quot;16&quot;&gt;&lt;/span&gt; What you will learn:&lt;/div&gt;\n&lt;/div&gt;\n&lt;div class=&quot;x14z
 9mp xat24cr x1lziwak x1vvkbs xtlvy1s x126k92a&quot;&gt;\n&lt;div dir=&quot;auto&quot;&gt;* Effecti
 ve leadership in IEEE Student Branch&lt;/div&gt;\n&lt;/div&gt;\n&lt;div class=&quot;x14z9mp xa
 t24cr x1lziwak x1vvkbs xtlvy1s x126k92a&quot;&gt;\n&lt;div dir=&quot;auto&quot;&gt;* Practical use
  of IEEE vTools&lt;/div&gt;\n&lt;/div&gt;\n&lt;div class=&quot;x14z9mp xat24cr x1lziwak x1vvkb
 s xtlvy1s x126k92a&quot;&gt;\n&lt;div dir=&quot;auto&quot;&gt;* Organizing impactful events and ac
 tivities&lt;/div&gt;\n&lt;/div&gt;\n&lt;div class=&quot;x14z9mp xat24cr x1lziwak x1vvkbs xtlvy
 1s x126k92a&quot;&gt;\n&lt;div dir=&quot;auto&quot;&gt;* Real-life experiences and guidance&lt;/div&gt;\
 n&lt;/div&gt;
END:VEVENT
END:VCALENDAR

