BEGIN:VCALENDAR
VERSION:2.0
PRODID:IEEE vTools.Events//EN
CALSCALE:GREGORIAN
BEGIN:VTIMEZONE
TZID:America/Chicago
BEGIN:DAYLIGHT
DTSTART:20260308T030000
TZOFFSETFROM:-0600
TZOFFSETTO:-0500
RRULE:FREQ=YEARLY;BYDAY=2SU;BYMONTH=3
TZNAME:CDT
END:DAYLIGHT
BEGIN:STANDARD
DTSTART:20261101T010000
TZOFFSETFROM:-0500
TZOFFSETTO:-0600
RRULE:FREQ=YEARLY;BYDAY=1SU;BYMONTH=11
TZNAME:CST
END:STANDARD
END:VTIMEZONE
BEGIN:VEVENT
DTSTAMP:20260323T042912Z
UID:04770BED-FB80-4E07-9463-48629896D12F
DTSTART;TZID=America/Chicago:20260422T160000
DTEND;TZID=America/Chicago:20260422T193000
DESCRIPTION:SAE Chicago and IEEE VTS Chicago are pleased to work together w
 ith Argonne National Laboratory to provide this facility tour visit of Arg
 onne National Laboratory\, technical presentation and dinner.\n\nThis spec
 ial event will include guided tours of Argonne’s cutting-edge Transporta
 tion and Power Systems (TAPS) facilities\, followed by a featured presenta
 tion from Dr. Byungho Lee\, Director of Advanced Mobility and Charging Tec
 hnologies (AMCT).\n\nAttendees will gain insights into Argonne’s pioneer
 ing work in vehicle systems\, transportation electrification\, energy effi
 ciency\, smart grid integration\, and advanced mobility solutions. This is
  an excellent opportunity to network with industry professionals and explo
 re the technologies shaping tomorrow’s transportation landscape.\n\nCate
 ring &amp; Networking\n\nBuffet Dinner will be provided at the Argonne Guest H
 ouse. Please indicate any dietary restrictions during registration. A cash
  bar may be available (pending approval)\, allowing guests to purchase alc
 oholic beverages individually.\n\nTechnical Presentation by Dr. Byungho Le
 e\n\nTopics include:\n\n- History of Argonne labs and facilities\n- Transp
 ortation and Power Systems (TPS)\n- Advanced Mobility and Charging Technol
 ogies (AMCT)\n- Current research initiatives and industry applications\n- 
 Q&amp;A\n\n*PDH Certificate will be available upon request\n\nImportant Securi
 ty Information\n\nAll visitors must pass a security clearance to obtain an
  Argonne gate pass and attend this event. Link will be provided upon succe
 ssful Eventbrite registration. US citizens will need to register by April 
 14th. Non-US citizens are required to apply by Thursday\, March 26th as se
 curity clearance takes significantly longer. If we are not able to accommo
 date you for any reason\, refunds will be provided.\n\nWe look forward to 
 seeing you for this unique opportunity to experience Argonne’s world-cla
 ss research facilities firsthand. Please reach out with any questions. If 
 you are unable to join us for the ANL facility tour due to work or persona
 l commitments\, we can still accommodate you for the dinner and technical 
 presentation if interested.\n\nTo register please visit https://www.eventb
 rite.com/e/argonne-national-laboratory-facility-tour-technical-presentatio
 n-tickets-1984936106327.\n\nIEEE VTS Chicago members can use IEEEVTSCHI to
  get a complimentary ticket. Only limited number of complimentary tickets 
 are available.\n\nAfter registering for your ticket\, please go to the Arg
 onne visitor site to apply to get your pass to get into the facility: http
 s://apps.anl.gov/registration/visitors/new?sponsor_email=kstutenberg@anl.g
 ov&amp;arrival=2026-04-22&amp;departure=2026-04-22&amp;vip_ticket_request_no=FMS011722
 6&amp;event_ticket_request_no=\n\nAgenda: \n03:30 PM - 04:00 PM\n\nCheck-In at
  Security\n\n04:00 PM - 05:30 PM\n\nGuided ANL TAPS Facility Tour\n\n05:30
  PM - 06:00 PM\n\nDoors Open at Argonne Guest House\, Networking\, Buffet 
 Dinner\n\n06:00 PM - 06:15 PM\n\nWelcome &amp; Introductions - SAE Chicago &amp; I
 EEE VTS Chicago\n\n06:15 PM - 07:00 PM\n\nFeatured Technical Presentation 
 by Dr. Byungho Lee\n\nDr. Byungho Lee\n\n07:00 PM - 07:30 PM\n\nQ&amp;A\, Anno
 uncements\, &amp; Closing Remarks\n\nBldg: Argonnen National Laboratory\, 9700
  South Cass Avenue\, Lemont\, Illinois\, United States\, 60439
LOCATION:Bldg: Argonnen National Laboratory\, 9700 South Cass Avenue\, Lemo
 nt\, Illinois\, United States\, 60439
ORGANIZER:alvin.chin@ieee.org
SEQUENCE:46
SUMMARY:Argonne National Laboratory Facility Tour + Technical Presentation
URL;VALUE=URI:https://events.vtools.ieee.org/m/550236
X-ALT-DESC:Description: &lt;br /&gt;&lt;p&gt;SAE Chicago and IEEE VTS Chicago are pleas
 ed to work together with Argonne National Laboratory to provide this facil
 ity tour visit of Argonne National Laboratory\, technical presentation and
  dinner. &amp;nbsp\;&lt;/p&gt;\n&lt;div class=&quot;StructuredModuleRenderer_structuredConte
 nt__k7mNB StructuredModuleRenderer_text__GaXOv&quot; data-testid=&quot;text-content&quot;
 &gt;\n&lt;div&gt;\n&lt;p&gt;This special event will include guided tours of Argonne&amp;rsquo
 \;s cutting-edge Transportation and Power Systems (TAPS) facilities\, foll
 owed by a featured presentation from Dr. Byungho Lee\, Director of Advance
 d Mobility and Charging Technologies (AMCT).&lt;/p&gt;\n&lt;p&gt;Attendees will gain i
 nsights into Argonne&amp;rsquo\;s pioneering work in vehicle systems\, transpo
 rtation electrification\, energy efficiency\, smart grid integration\, and
  advanced mobility solutions. This is an excellent opportunity to network 
 with industry professionals and explore the technologies shaping tomorrow&amp;
 rsquo\;s transportation landscape.&lt;/p&gt;\n&lt;/div&gt;\n&lt;/div&gt;\n&lt;div class=&quot;Struct
 uredModuleRenderer_structuredContent__k7mNB StructuredModuleRenderer_text_
 _GaXOv&quot; data-testid=&quot;text-content&quot;&gt;\n&lt;div&gt;\n&lt;p&gt;&lt;strong&gt;Catering &amp;amp\; Net
 working&lt;/strong&gt;&lt;/p&gt;\n&lt;p&gt;Buffet Dinner will be provided at the Argonne Gue
 st House. Please indicate any dietary restrictions during registration. A 
 cash bar may be available (pending approval)\, allowing guests to purchase
  alcoholic beverages individually.&lt;/p&gt;\n&lt;p&gt;&amp;nbsp\;&lt;/p&gt;\n&lt;p&gt;&lt;strong&gt;Technic
 al Presentation by Dr. Byungho Lee&lt;/strong&gt;&lt;/p&gt;\n&lt;p&gt;Topics include:&lt;/p&gt;\n&lt;
 ul&gt;\n&lt;li&gt;History of Argonne labs and facilities&lt;/li&gt;\n&lt;li&gt;Transportation a
 nd Power Systems (TPS)&lt;/li&gt;\n&lt;li&gt;Advanced Mobility and Charging Technologi
 es (AMCT)&lt;/li&gt;\n&lt;li&gt;Current research initiatives and industry applications
 &lt;/li&gt;\n&lt;li&gt;Q&amp;amp\;A&lt;/li&gt;\n&lt;/ul&gt;\n&lt;p&gt;*PDH Certificate will be available upo
 n request&lt;/p&gt;\n&lt;p&gt;&amp;nbsp\;&lt;/p&gt;\n&lt;p&gt;&lt;strong&gt;Important Security Information&lt;/
 strong&gt;&lt;/p&gt;\n&lt;p&gt;All visitors must pass a security clearance to obtain an A
 rgonne gate pass and attend this event. Link will be provided upon success
 ful Eventbrite registration. US citizens will need to register by April 14
 th. Non-US citizens are required to apply by Thursday\, March 26th as secu
 rity clearance takes significantly longer. If we are not able to accommoda
 te you for any reason\, refunds will be provided.&lt;/p&gt;\n&lt;p&gt;&amp;nbsp\;&lt;/p&gt;\n&lt;p&gt;
 We look forward to seeing you for this unique opportunity to experience Ar
 gonne&amp;rsquo\;s world-class research facilities firsthand. Please reach out
  with any questions. If you are unable to join us for the ANL facility tou
 r due to work or personal commitments\, we can still accommodate you for t
 he dinner and technical presentation if interested.&lt;/p&gt;\n&lt;p&gt;&amp;nbsp\;&lt;/p&gt;\n&lt;
 p&gt;To register please visit &lt;a href=&quot;https://www.eventbrite.com/e/argonne-n
 ational-laboratory-facility-tour-technical-presentation-tickets-1984936106
 327&quot;&gt;https://www.eventbrite.com/e/argonne-national-laboratory-facility-tou
 r-technical-presentation-tickets-1984936106327&lt;/a&gt;. &amp;nbsp\;&lt;/p&gt;\n&lt;p&gt;IEEE V
 TS Chicago members can use IEEEVTSCHI to get a complimentary ticket. &amp;nbsp
 \;Only limited number of complimentary tickets are available.&lt;/p&gt;\n&lt;p&gt;Afte
 r registering for your ticket\, please go to the Argonne visitor site to a
 pply to get your pass to get into the facility: &lt;a href=&quot;https://apps.anl.
 gov/registration/visitors/new?sponsor_email=kstutenberg@anl.gov&amp;amp\;arriv
 al=2026-04-22&amp;amp\;departure=2026-04-22&amp;amp\;vip_ticket_request_no=FMS0117
 226&amp;amp\;event_ticket_request_no=&quot;&gt;https://apps.anl.gov/registration/visit
 ors/new?sponsor_email=kstutenberg@anl.gov&amp;amp\;arrival=2026-04-22&amp;amp\;dep
 arture=2026-04-22&amp;amp\;vip_ticket_request_no=FMS0117226&amp;amp\;event_ticket_
 request_no=&lt;/a&gt;&lt;/p&gt;\n&lt;p&gt;&amp;nbsp\;&lt;/p&gt;\n&lt;/div&gt;\n&lt;/div&gt;&lt;br /&gt;&lt;br /&gt;Agenda: &lt;br
  /&gt;&lt;div class=&quot;Slots_slotItem__sndG0&quot;&gt;\n&lt;p class=&quot;Typography_root__487rx #
 585163 Typography_body-md__487rx TimeRange_timeRange__vMQvI Typography_ali
 gn-match-parent__487rx&quot;&gt;&lt;time class=&quot;TimeRange_time__6uk7Q&quot; datetime=&quot;15:3
 0&quot;&gt;03:30 PM&lt;/time&gt;&lt;span class=&quot;TimeRange_time__6uk7Q&quot;&gt;&amp;nbsp\;-&amp;nbsp\;&lt;/spa
 n&gt;&lt;time class=&quot;TimeRange_time__6uk7Q&quot; datetime=&quot;16:00&quot;&gt;04:00 PM&lt;/time&gt;&lt;/p&gt;
 \n&lt;h3 class=&quot;Typography_root__487rx #585163 Slots_title__4ZkDT Typography_
 align-match-parent__487rx&quot;&gt;Check-In at Security&lt;/h3&gt;\n&lt;div class=&quot;Slots_ho
 sts__9k7jg&quot;&gt;&amp;nbsp\;&lt;/div&gt;\n&lt;p class=&quot;Typography_root__487rx #585163 Typogr
 aphy_body-md__487rx Slots_text__XMTot Typography_align-match-parent__487rx
 &quot;&gt;&amp;nbsp\;&lt;/p&gt;\n&lt;/div&gt;\n&lt;div class=&quot;Slots_slotItem__sndG0&quot;&gt;\n&lt;p class=&quot;Typo
 graphy_root__487rx #585163 Typography_body-md__487rx TimeRange_timeRange__
 vMQvI Typography_align-match-parent__487rx&quot;&gt;&lt;time class=&quot;TimeRange_time__6
 uk7Q&quot; datetime=&quot;16:00&quot;&gt;04:00 PM&lt;/time&gt;&lt;span class=&quot;TimeRange_time__6uk7Q&quot;&gt;
 &amp;nbsp\;-&amp;nbsp\;&lt;/span&gt;&lt;time class=&quot;TimeRange_time__6uk7Q&quot; datetime=&quot;17:30&quot;
 &gt;05:30 PM&lt;/time&gt;&lt;/p&gt;\n&lt;h3 class=&quot;Typography_root__487rx #585163 Slots_titl
 e__4ZkDT Typography_align-match-parent__487rx&quot;&gt;Guided ANL TAPS Facility To
 ur&lt;/h3&gt;\n&lt;div class=&quot;Slots_hosts__9k7jg&quot;&gt;&amp;nbsp\;&lt;/div&gt;\n&lt;p class=&quot;Typograp
 hy_root__487rx #585163 Typography_body-md__487rx Slots_text__XMTot Typogra
 phy_align-match-parent__487rx&quot;&gt;&amp;nbsp\;&lt;/p&gt;\n&lt;/div&gt;\n&lt;div class=&quot;Slots_slot
 Item__sndG0&quot;&gt;\n&lt;p class=&quot;Typography_root__487rx #585163 Typography_body-md
 __487rx TimeRange_timeRange__vMQvI Typography_align-match-parent__487rx&quot;&gt;&lt;
 time class=&quot;TimeRange_time__6uk7Q&quot; datetime=&quot;17:30&quot;&gt;05:30 PM&lt;/time&gt;&lt;span c
 lass=&quot;TimeRange_time__6uk7Q&quot;&gt;&amp;nbsp\;-&amp;nbsp\;&lt;/span&gt;&lt;time class=&quot;TimeRange_
 time__6uk7Q&quot; datetime=&quot;18:00&quot;&gt;06:00 PM&lt;/time&gt;&lt;/p&gt;\n&lt;h3 class=&quot;Typography_r
 oot__487rx #585163 Slots_title__4ZkDT Typography_align-match-parent__487rx
 &quot;&gt;Doors Open at Argonne Guest House\, Networking\, Buffet Dinner&lt;/h3&gt;\n&lt;di
 v class=&quot;Slots_hosts__9k7jg&quot;&gt;&amp;nbsp\;&lt;/div&gt;\n&lt;p class=&quot;Typography_root__487
 rx #585163 Typography_body-md__487rx Slots_text__XMTot Typography_align-ma
 tch-parent__487rx&quot;&gt;&amp;nbsp\;&lt;/p&gt;\n&lt;/div&gt;\n&lt;div class=&quot;Slots_slotItem__sndG0&quot;
 &gt;\n&lt;p class=&quot;Typography_root__487rx #585163 Typography_body-md__487rx Time
 Range_timeRange__vMQvI Typography_align-match-parent__487rx&quot;&gt;&lt;time class=&quot;
 TimeRange_time__6uk7Q&quot; datetime=&quot;18:00&quot;&gt;06:00 PM&lt;/time&gt;&lt;span class=&quot;TimeRa
 nge_time__6uk7Q&quot;&gt;&amp;nbsp\;-&amp;nbsp\;&lt;/span&gt;&lt;time class=&quot;TimeRange_time__6uk7Q&quot;
  datetime=&quot;18:15&quot;&gt;06:15 PM&lt;/time&gt;&lt;/p&gt;\n&lt;h3 class=&quot;Typography_root__487rx #
 585163 Slots_title__4ZkDT Typography_align-match-parent__487rx&quot;&gt;Welcome &amp;a
 mp\; Introductions - SAE Chicago &amp;amp\; IEEE VTS Chicago&lt;/h3&gt;\n&lt;div class=
 &quot;Slots_hosts__9k7jg&quot;&gt;&amp;nbsp\;&lt;/div&gt;\n&lt;p class=&quot;Typography_root__487rx #5851
 63 Typography_body-md__487rx Slots_text__XMTot Typography_align-match-pare
 nt__487rx&quot;&gt;&amp;nbsp\;&lt;/p&gt;\n&lt;/div&gt;\n&lt;div class=&quot;Slots_slotItem__sndG0&quot;&gt;\n&lt;p cl
 ass=&quot;Typography_root__487rx #585163 Typography_body-md__487rx TimeRange_ti
 meRange__vMQvI Typography_align-match-parent__487rx&quot;&gt;&lt;time class=&quot;TimeRang
 e_time__6uk7Q&quot; datetime=&quot;18:15&quot;&gt;06:15 PM&lt;/time&gt;&lt;span class=&quot;TimeRange_time
 __6uk7Q&quot;&gt;&amp;nbsp\;-&amp;nbsp\;&lt;/span&gt;&lt;time class=&quot;TimeRange_time__6uk7Q&quot; datetim
 e=&quot;19:00&quot;&gt;07:00 PM&lt;/time&gt;&lt;/p&gt;\n&lt;h3 class=&quot;Typography_root__487rx #585163 S
 lots_title__4ZkDT Typography_align-match-parent__487rx&quot;&gt;Featured Technical
  Presentation by Dr. Byungho Lee&lt;/h3&gt;\n&lt;div class=&quot;Slots_hosts__9k7jg&quot;&gt;\n&lt;
 div class=&quot;Hosts_host__ZjPE1&quot;&gt;\n&lt;div class=&quot;HostImageStack_stack__duwBX&quot;&gt;&amp;
 nbsp\;&lt;/div&gt;\n&lt;span class=&quot;Typography_root__487rx #585163 Typography_body-
 sm__487rx Hosts_name__cFcCF Typography_align-match-parent__487rx&quot;&gt;Dr. Byun
 gho Lee&lt;/span&gt;&lt;/div&gt;\n&lt;/div&gt;\n&lt;p class=&quot;Typography_root__487rx #585163 Typ
 ography_body-md__487rx Slots_text__XMTot Typography_align-match-parent__48
 7rx&quot;&gt;&amp;nbsp\;&lt;/p&gt;\n&lt;/div&gt;\n&lt;div class=&quot;Slots_slotItem__sndG0&quot;&gt;\n&lt;p class=&quot;T
 ypography_root__487rx #585163 Typography_body-md__487rx TimeRange_timeRang
 e__vMQvI Typography_align-match-parent__487rx&quot;&gt;&lt;time class=&quot;TimeRange_time
 __6uk7Q&quot; datetime=&quot;19:00&quot;&gt;07:00 PM&lt;/time&gt;&lt;span class=&quot;TimeRange_time__6uk7
 Q&quot;&gt;&amp;nbsp\;-&amp;nbsp\;&lt;/span&gt;&lt;time class=&quot;TimeRange_time__6uk7Q&quot; datetime=&quot;19:
 30&quot;&gt;07:30 PM&lt;/time&gt;&lt;/p&gt;\n&lt;h3 class=&quot;Typography_root__487rx #585163 Slots_t
 itle__4ZkDT Typography_align-match-parent__487rx&quot;&gt;Q&amp;amp\;A\, Announcements
 \, &amp;amp\; Closing Remarks&lt;/h3&gt;\n&lt;/div&gt;
END:VEVENT
END:VCALENDAR

