BEGIN:VCALENDAR
VERSION:2.0
PRODID:IEEE vTools.Events//EN
CALSCALE:GREGORIAN
BEGIN:VTIMEZONE
TZID:Asia/Kolkata
BEGIN:STANDARD
DTSTART:19451014T230000
TZOFFSETFROM:+0630
TZOFFSETTO:+0530
TZNAME:IST
END:STANDARD
END:VTIMEZONE
BEGIN:VEVENT
DTSTAMP:20260323T075717Z
UID:7E83F082-65CC-4E4B-A7BC-5DF9CD21C597
DTSTART;TZID=Asia/Kolkata:20260323T190000
DTEND;TZID=Asia/Kolkata:20260323T200000
DESCRIPTION:Panimalar Engineering College\, in association with IETE Chenna
 i Centre and IEEE Madras WIE AG\, organized Femmianza 26&#39; – Earth System
  Dynamics: Exploring Climate Variability and Global Impacts on March 23\, 
 2026\, via an online platform. The webinar featured an insightful session 
 by Jaraline Kirubavathy K\, Assistant Professor (SG) at KCG College of Tec
 hnology\, who shared her expertise on climate variability and earth system
  dynamics. The session focused on understanding global climate patterns\, 
 environmental changes\, and their impact on ecosystems and human life. The
  event witnessed active participation from around 50 students from the Dep
 artment of Electronics and Communication Engineering and various other ins
 titutions\, fostering an engaging and informative discussion. The session 
 was successfully coordinated by Mr. M. Arun (AP\, ECE).\n\nSpeaker(s): Dr.
  Jaraline Kirubavathy K\n\nAgenda: \n- Welcome Address\n- Introduction of 
 the Speaker\n- Technical Session by the Speaker\n- Interactive Q&amp;A Session
 \n- Vote of Thanks\n\nVirtual: https://events.vtools.ieee.org/m/550268
LOCATION:Virtual: https://events.vtools.ieee.org/m/550268
ORGANIZER:pececieee23@gmail.com
SEQUENCE:9
SUMMARY: Femmianza 26&#39; – Earth System Dynamics: Exploring Climate Variabi
 lity and Global Impacts 
URL;VALUE=URI:https://events.vtools.ieee.org/m/550268
X-ALT-DESC:Description: &lt;br /&gt;&lt;p&gt;Panimalar Engineering College\, in associa
 tion with &lt;span class=&quot;hover:entity-accent entity-underline inline cursor-
 pointer align-baseline&quot;&gt;&lt;span class=&quot;whitespace-normal&quot;&gt;IETE Chennai Centr
 e&lt;/span&gt;&lt;/span&gt; and IEEE Madras WIE AG\, organized &lt;strong data-start=&quot;147
 &quot; data-end=&quot;238&quot;&gt;Femmianza 26&#39; &amp;ndash\; Earth System Dynamics: Exploring C
 limate Variability and Global Impacts&lt;/strong&gt; on March 23\, 2026\, via an
  online platform. The webinar featured an insightful session by &lt;span clas
 s=&quot;hover:entity-accent entity-underline inline cursor-pointer align-baseli
 ne&quot;&gt;&lt;span class=&quot;whitespace-normal&quot;&gt;Jaraline Kirubavathy K&lt;/span&gt;&lt;/span&gt;\,
  Assistant Professor (SG) at &lt;span class=&quot;hover:entity-accent entity-under
 line inline cursor-pointer align-baseline&quot;&gt;&lt;span class=&quot;whitespace-normal&quot;
 &gt;KCG College of Technology&lt;/span&gt;&lt;/span&gt;\, who shared her expertise on cli
 mate variability and earth system dynamics. The session focused on underst
 anding global climate patterns\, environmental changes\, and their impact 
 on ecosystems and human life. The event witnessed active participation fro
 m around 50 students from the Department of Electronics and Communication 
 Engineering and various other institutions\, fostering an engaging and inf
 ormative discussion. The session was successfully coordinated by Mr. M. Ar
 un (AP\, ECE).&lt;/p&gt;&lt;br /&gt;&lt;br /&gt;Agenda: &lt;br /&gt;&lt;ul data-start=&quot;1238&quot; data-end
 =&quot;1373&quot;&gt;\n&lt;li data-section-id=&quot;ciw1ms&quot; data-start=&quot;1238&quot; data-end=&quot;1257&quot;&gt;W
 elcome Address&lt;/li&gt;\n&lt;li data-section-id=&quot;1fdto9v&quot; data-start=&quot;1258&quot; data-
 end=&quot;1289&quot;&gt;Introduction of the Speaker&lt;/li&gt;\n&lt;li data-section-id=&quot;ljnmik&quot; 
 data-start=&quot;1290&quot; data-end=&quot;1326&quot;&gt;Technical Session by the Speaker&lt;/li&gt;\n&lt;
 li data-section-id=&quot;1dq56aw&quot; data-start=&quot;1327&quot; data-end=&quot;1354&quot;&gt;Interactive
  Q&amp;amp\;A Session&lt;/li&gt;\n&lt;li data-section-id=&quot;1tmwfj6&quot; data-start=&quot;1355&quot; da
 ta-end=&quot;1373&quot;&gt;Vote of Thanks&lt;/li&gt;\n&lt;/ul&gt;
END:VEVENT
END:VCALENDAR

