BEGIN:VCALENDAR
VERSION:2.0
PRODID:IEEE vTools.Events//EN
CALSCALE:GREGORIAN
BEGIN:VTIMEZONE
TZID:America/Sao_Paulo
BEGIN:DAYLIGHT
DTSTART:20380119T001407
TZOFFSETFROM:-0300
TZOFFSETTO:-0300
RRULE:FREQ=YEARLY;BYDAY=3TU;BYMONTH=1
TZNAME:-03
END:DAYLIGHT
BEGIN:STANDARD
DTSTART:20190216T230000
TZOFFSETFROM:-0200
TZOFFSETTO:-0300
RRULE:FREQ=YEARLY;BYDAY=3SA;BYMONTH=2
TZNAME:-03
END:STANDARD
END:VTIMEZONE
BEGIN:VEVENT
DTSTAMP:20260323T140509Z
UID:6324E0B9-927F-4EC1-82A8-17A7CED36E65
DTSTART;TZID=America/Sao_Paulo:20260329T190000
DTEND;TZID=America/Sao_Paulo:20260402T210000
DESCRIPTION:The IEEE Student Branch at IDP is pleased to invite you to an e
 ssential workshop about: C and C++\n\nThis workshop is designed to take yo
 u from the basics to key concepts for advancing in programming.\n\nWe’ll
  start with C fundamentals (syntax\, loops\, functions)\, move on to point
 ers and their applications in data structures\, and finish with a practica
 l introduction to C++.\n\n👉 Register now: https://forms.gle/iqZyX3iNtXQ
 EhjTe6\n\nRoom: Lab Dell\, Bldg: IDP - Asa norte\, Setor de Grandes Áreas
  Norte 609 - Asa Norte\, Brasília - DF\, 70830-401\, BRASÍLIA\, Distrito
  Federal\, Brazil\,  70830-401
LOCATION:Room: Lab Dell\, Bldg: IDP - Asa norte\, Setor de Grandes Áreas N
 orte 609 - Asa Norte\, Brasília - DF\, 70830-401\, BRASÍLIA\, Distrito F
 ederal\, Brazil\,  70830-401
ORGANIZER:helennamassarrapaes@gmail.com
SEQUENCE:12
SUMMARY:C and C++ Workshop
URL;VALUE=URI:https://events.vtools.ieee.org/m/550309
X-ALT-DESC:Description: &lt;br /&gt;&lt;p data-start=&quot;41&quot; data-end=&quot;140&quot;&gt;The&amp;nbsp\;&lt;
 strong class=&quot;skrollable skrollable-between&quot; data-start=&quot;25&quot; data-end=&quot;55&quot;
 &gt;IEEE Student Branch at IDP&lt;/strong&gt; is pleased to invite you to an essent
 ial workshop about: &lt;strong&gt;C and C++&amp;nbsp\;&lt;/strong&gt;&lt;/p&gt;\n&lt;p data-start=&quot;
 41&quot; data-end=&quot;140&quot;&gt;This workshop is designed to take you from the basics t
 o key concepts for advancing in programming.&lt;/p&gt;\n&lt;p data-start=&quot;142&quot; data
 -end=&quot;313&quot;&gt;We&amp;rsquo\;ll start with C fundamentals (syntax\, loops\, functi
 ons)\, move on to pointers and their applications in data structures\, and
  finish with a practical introduction to C++.&lt;/p&gt;\n&lt;p data-start=&quot;142&quot; dat
 a-end=&quot;313&quot;&gt;👉&amp;nbsp\;&lt;strong class=&quot;skrollable skrollable-between&quot; data-
 start=&quot;748&quot; data-end=&quot;765&quot;&gt;Register now:&lt;/strong&gt;&amp;nbsp\; https://forms.gle
 /iqZyX3iNtXQEhjTe6&lt;/p&gt;
END:VEVENT
END:VCALENDAR

