BEGIN:VCALENDAR
VERSION:2.0
PRODID:IEEE vTools.Events//EN
CALSCALE:GREGORIAN
BEGIN:VTIMEZONE
TZID:America/Los_Angeles
BEGIN:DAYLIGHT
DTSTART:20260308T030000
TZOFFSETFROM:-0800
TZOFFSETTO:-0700
RRULE:FREQ=YEARLY;BYDAY=2SU;BYMONTH=3
TZNAME:PDT
END:DAYLIGHT
BEGIN:STANDARD
DTSTART:20261101T010000
TZOFFSETFROM:-0700
TZOFFSETTO:-0800
RRULE:FREQ=YEARLY;BYDAY=1SU;BYMONTH=11
TZNAME:PST
END:STANDARD
END:VTIMEZONE
BEGIN:VEVENT
DTSTAMP:20260419T225004Z
UID:34DD7AEA-ECED-403B-95D8-EFF5A3813509
DTSTART;TZID=America/Los_Angeles:20260421T180000
DTEND;TZID=America/Los_Angeles:20260421T190000
DESCRIPTION:Learn from prior Davis student interns.\n\nDavis\, California\,
  United States
LOCATION:Davis\, California\, United States
ORGANIZER:keipatel@ucdavis.edu
SEQUENCE:3
SUMMARY:IEEE Internship Panel
URL;VALUE=URI:https://events.vtools.ieee.org/m/550634
X-ALT-DESC:Description: &lt;br /&gt;&lt;p&gt;Learn from prior Davis student interns.&lt;/p
 &gt;
END:VEVENT
END:VCALENDAR

