BEGIN:VCALENDAR
VERSION:2.0
PRODID:IEEE vTools.Events//EN
CALSCALE:GREGORIAN
BEGIN:VTIMEZONE
TZID:America/New_York
BEGIN:DAYLIGHT
DTSTART:20260308T030000
TZOFFSETFROM:-0500
TZOFFSETTO:-0400
RRULE:FREQ=YEARLY;BYDAY=2SU;BYMONTH=3
TZNAME:EDT
END:DAYLIGHT
BEGIN:STANDARD
DTSTART:20261101T010000
TZOFFSETFROM:-0400
TZOFFSETTO:-0500
RRULE:FREQ=YEARLY;BYDAY=1SU;BYMONTH=11
TZNAME:EST
END:STANDARD
END:VTIMEZONE
BEGIN:VEVENT
DTSTAMP:20260327T010418Z
UID:E636070A-23DB-45F1-9040-1254CE5257DF
DTSTART;TZID=America/New_York:20260326T190000
DTEND;TZID=America/New_York:20260326T200000
DESCRIPTION:The IEEE Women in Engineering (WIE) Affinity Group – Hamilton
  Section is pleased to invite you to our March 2026 meeting. We look forwa
 rd to your participation and hope you will be able to join us.\n\nAgenda: 
 \n- Review of past events\n- Planning of upcoming events\n- Co-hosting opp
 ortunities &amp; partnerships\n- Outreach program : process and approach\n- Aw
 ard criteria review\n- New member recruitment planning\n\nVirtual: https:/
 /events.vtools.ieee.org/m/550640
LOCATION:Virtual: https://events.vtools.ieee.org/m/550640
ORGANIZER:aliciaanton@ieee.org
SEQUENCE:44
SUMMARY:WIE – Hamilton Section Meeting March 26\, 2026
URL;VALUE=URI:https://events.vtools.ieee.org/m/550640
X-ALT-DESC:Description: &lt;br /&gt;&lt;div class=&quot;flex flex-col text-sm pb-25&quot;&gt;\n&lt;a
 rticle class=&quot;text-token-text-primary w-full focus:outline-none [--shadow-
 height:45px] has-data-writing-block:pointer-events-none has-data-writing-b
 lock:-mt-(--shadow-height) has-data-writing-block:pt-(--shadow-height) [&amp;a
 mp\;:has([data-writing-block])&amp;gt\;*]:pointer-events-auto scroll-mt-[calc(
 var(--header-height)+min(200px\,max(70px\,20svh)))]&quot; dir=&quot;auto&quot; tabindex=&quot;
 -1&quot; data-turn-id=&quot;request-WEB:dedfc4f6-61aa-4939-abcf-9e70385d9513-0&quot; data
 -testid=&quot;conversation-turn-2&quot; data-scroll-anchor=&quot;true&quot; data-turn=&quot;assista
 nt&quot;&gt;\n&lt;div class=&quot;text-base my-auto mx-auto pb-10 [--thread-content-margin
 :--spacing(4)] @w-sm/main:[--thread-content-margin:--spacing(6)] @w-lg/mai
 n:[--thread-content-margin:--spacing(16)] px-(--thread-content-margin)&quot;&gt;\n
 &lt;div class=&quot;[--thread-content-max-width:40rem] @w-lg/main:[--thread-conten
 t-max-width:48rem] mx-auto max-w-(--thread-content-max-width) flex-1 group
 /turn-messages focus-visible:outline-hidden relative flex w-full min-w-0 f
 lex-col agent-turn&quot; tabindex=&quot;-1&quot;&gt;\n&lt;div class=&quot;flex max-w-full flex-col g
 row&quot;&gt;\n&lt;div class=&quot;min-h-8 text-message relative flex w-full flex-col item
 s-end gap-2 text-start break-words whitespace-normal [.text-message+&amp;amp\;
 ]:mt-1&quot; dir=&quot;auto&quot; data-message-author-role=&quot;assistant&quot; data-message-id=&quot;5
 ea47a64-7ddb-4a08-b970-cae3e08256b2&quot; data-message-model-slug=&quot;gpt-5-2&quot;&gt;\n&lt;
 div class=&quot;flex w-full flex-col gap-1 empty:hidden first:pt-[1px]&quot;&gt;\n&lt;div 
 class=&quot;markdown prose dark:prose-invert w-full wrap-break-word light markd
 own-new-styling&quot;&gt;\n&lt;p data-start=&quot;0&quot; data-end=&quot;200&quot; data-is-last-node=&quot;&quot; d
 ata-is-only-node=&quot;&quot;&gt;The IEEE Women in Engineering (WIE) Affinity Group &amp;nd
 ash\; Hamilton Section is pleased to invite you to our March 2026 meeting.
  We look forward to your participation and hope you will be able to join u
 s.&lt;/p&gt;\n&lt;/div&gt;\n&lt;/div&gt;\n&lt;/div&gt;\n&lt;/div&gt;\n&lt;div class=&quot;z-0 flex min-h-[46px] 
 justify-start&quot;&gt;&amp;nbsp\;&lt;/div&gt;\n&lt;div class=&quot;mt-3 w-full empty:hidden&quot;&gt;\n&lt;div
  class=&quot;text-center&quot;&gt;&amp;nbsp\;&lt;/div&gt;\n&lt;/div&gt;\n&lt;/div&gt;\n&lt;/div&gt;\n&lt;/article&gt;\n&lt;/
 div&gt;\n&lt;div class=&quot;pointer-events-none h-px w-px absolute bottom-0&quot; aria-hi
 dden=&quot;true&quot; data-edge=&quot;true&quot;&gt;&amp;nbsp\;&lt;/div&gt;\n&lt;p&gt;&amp;nbsp\;&lt;/p&gt;&lt;br /&gt;&lt;br /&gt;Agen
 da: &lt;br /&gt;&lt;p&gt;&amp;nbsp\;&lt;/p&gt;\n&lt;ul&gt;\n&lt;li data-section-id=&quot;qk5r2q&quot; data-start=&quot;5
 7&quot; data-end=&quot;82&quot;&gt;Review of past events&lt;/li&gt;\n&lt;li data-section-id=&quot;j1pm1z&quot; 
 data-start=&quot;83&quot; data-end=&quot;114&quot;&gt;Planning of upcoming events&lt;/li&gt;\n&lt;li data-
 section-id=&quot;di3d3j&quot; data-start=&quot;115&quot; data-end=&quot;158&quot;&gt;Co-hosting opportuniti
 es &amp;amp\; partnerships&lt;/li&gt;\n&lt;li data-section-id=&quot;d7ddfn&quot; data-start=&quot;159&quot;
  data-end=&quot;201&quot;&gt;Outreach program : process and approach&lt;/li&gt;\n&lt;li data-sec
 tion-id=&quot;lipedc&quot; data-start=&quot;202&quot; data-end=&quot;227&quot;&gt;Award criteria review&lt;/li
 &gt;\n&lt;li data-section-id=&quot;bq1mp1&quot; data-start=&quot;228&quot; data-end=&quot;261&quot; data-is-la
 st-node=&quot;&quot;&gt;New member recruitment planning&lt;/li&gt;\n&lt;/ul&gt;\n&lt;p&gt;&amp;nbsp\;&lt;/p&gt;\n&lt;p
 &gt;&amp;nbsp\;&lt;/p&gt;
END:VEVENT
END:VCALENDAR

