BEGIN:VCALENDAR
VERSION:2.0
PRODID:IEEE vTools.Events//EN
CALSCALE:GREGORIAN
BEGIN:VTIMEZONE
TZID:America/New_York
BEGIN:DAYLIGHT
DTSTART:20260308T030000
TZOFFSETFROM:-0500
TZOFFSETTO:-0400
RRULE:FREQ=YEARLY;BYDAY=2SU;BYMONTH=3
TZNAME:EDT
END:DAYLIGHT
BEGIN:STANDARD
DTSTART:20261101T010000
TZOFFSETFROM:-0400
TZOFFSETTO:-0500
RRULE:FREQ=YEARLY;BYDAY=1SU;BYMONTH=11
TZNAME:EST
END:STANDARD
END:VTIMEZONE
BEGIN:VEVENT
DTSTAMP:20260407T225338Z
UID:9616FBA0-2DE0-49DA-8A15-ED7C01DD91E8
DTSTART;TZID=America/New_York:20260422T170000
DTEND;TZID=America/New_York:20260422T203000
DESCRIPTION:IEEE Boston Reliability and SMTA Boston chapter will meet in pe
 rson on April 22\, with two presentations:\n\n&quot;Latest Updates to the Ultra
  HDI Test Board Design&quot; presented by Chrys Shea:\n\nThe UltraHDI Board jus
 t got an update. Last time Chrys presented the design\, it had some propos
 ed changes. Come and see which suggestions made the cut and which ones got
  recrafted. The presentation will walk attendees through the whats and why
 s of the new design and fabrication test features.\n\nAdditionally\, Chrys
  will be offering a sneak peek at the next revision of the standard SMTA M
 iniaturization Test Vehicle\, which will make its official debut this fall
  at SMTAI 2026!\n\nand\n\n&quot;SMT Equipment Performance Challenges in Ultra H
 DI Assembly&quot; presented by Mike Sivigny:\n\nAs Ultra HDI miniaturization pu
 shes SMT boundaries\, standard OEM &quot;factory-ready&quot; calibrations are no lon
 ger enough. Data reveals a staggering 90% initial specification failure ra
 te for routine validations and immediately following OEM installation.\nTh
 is presentation contrasts 3rd-party performance verification against inter
 nal machine measurements\, exposing the gap between &quot;installed&quot; and &quot;optim
 ized.&quot; Attendees will learn why relying solely on OEM calibration threaten
 s first-time-right quality and how rigorous\, independent validation is th
 e only way to protect profitability in high-precision assembly.\n\nCo-spon
 sored by: Boston SMTA Chapter\n\nSpeaker(s): Chrys Shea\, Mike Sivigny\n\n
 Agenda: \n5:00 pm - Registration &amp; Networking\n5:30 pm - Dinner\n6:00 pm -
  Presentation: &quot;Latest Updates to the Ultra HDI Test Board Design&quot; (Chrys 
 Shea\, Speaker)\n6:45 pm - Q &amp; A\n7:00 pm - Presentation: &quot;SMT Equipment P
 erformance Challenges in Ultra HDI Assembly&quot; (Mike Sivigny\, Speaker)\n7:4
 5 pm - Q &amp; A\n8:00 pm - Informal Networking\n\nRoom: Conference Center\, B
 ldg: Main 500-600 Lobby entrance\, Teradyne\, Inc.\, 600 Riverpark Drive\,
  North Reading\, Massachusetts\, United States\, 01864
LOCATION:Room: Conference Center\, Bldg: Main 500-600 Lobby entrance\, Tera
 dyne\, Inc.\, 600 Riverpark Drive\, North Reading\, Massachusetts\, United
  States\, 01864
ORGANIZER:rdelacru@ieee.org
SEQUENCE:143
SUMMARY:IEEE Boston Reliability and Boston SMTA joint event
URL;VALUE=URI:https://events.vtools.ieee.org/m/550899
X-ALT-DESC:Description: &lt;br /&gt;&lt;h4 class=&quot;MsoNormal&quot;&gt;&lt;span style=&quot;color: rgb
 (35\, 111\, 161)\;&quot;&gt;&lt;strong&gt;IEEE Boston Reliability&lt;/strong&gt;&lt;/span&gt; and &lt;s
 trong&gt;&lt;span style=&quot;color: rgb(52\, 73\, 94)\;&quot;&gt;SMTA Boston chapter&lt;/span&gt;&lt;
 /strong&gt; will meet in person on &lt;strong&gt;&lt;span style=&quot;color: rgb(230\, 126\
 , 35)\;&quot;&gt;April 22&lt;/span&gt;&lt;/strong&gt;\, &lt;em&gt;with two presentations&lt;/em&gt;:&lt;/h4&gt;\
 n&lt;h4 class=&quot;MsoNormal&quot;&gt;&lt;span style=&quot;color: rgb(52\, 73\, 94)\;&quot;&gt;&lt;strong&gt;&quot;L
 atest Updates to the Ultra HDI Test Board Design&quot;&lt;/strong&gt;&lt;/span&gt; presente
 d by Chrys Shea:&lt;/h4&gt;\n&lt;p&gt;The UltraHDI Board just got an update.&amp;nbsp\; La
 st time Chrys presented the design\, it had some proposed changes.&amp;nbsp\; 
 Come and see which suggestions made the cut and which ones got recrafted.&amp;
 nbsp\; The presentation will walk attendees through the whats and whys of 
 the new design and fabrication test features.&lt;/p&gt;\n&lt;p&gt;Additionally\, Chrys
  will be offering a sneak peek at the next revision of the standard SMTA M
 iniaturization Test Vehicle\, which will make its official debut this fall
  at SMTAI 2026!&amp;nbsp\;&lt;/p&gt;\n&lt;p&gt;and&amp;nbsp\;&lt;/p&gt;\n&lt;h4&gt;&lt;strong&gt;&lt;span style=&quot;co
 lor: rgb(52\, 73\, 94)\;&quot;&gt;&quot;SMT Equipment Performance Challenges in Ultra H
 DI Assembly&quot;&lt;/span&gt;&lt;/strong&gt; presented by Mike Sivigny:&lt;/h4&gt;\n&lt;p&gt;As Ultra 
 HDI miniaturization pushes SMT boundaries\, standard OEM &quot;factory-ready&quot; c
 alibrations are no longer enough. Data reveals a staggering 90% initial sp
 ecification failure rate for routine validations and immediately following
  OEM installation.&lt;br&gt;This presentation contrasts 3rd-party performance ve
 rification against internal machine measurements\, exposing the gap betwee
 n &quot;installed&quot; and &quot;optimized.&quot; Attendees will learn why relying solely on 
 OEM calibration threatens first-time-right quality and how rigorous\, inde
 pendent validation is the only way to protect profitability in high-precis
 ion assembly.&lt;/p&gt;&lt;br /&gt;&lt;br /&gt;Agenda: &lt;br /&gt;&lt;h4&gt;5:00 pm - Registration &amp;amp
 \; Networking&lt;br&gt;5:30 pm - Dinner&amp;nbsp\;&lt;br&gt;6:00 pm - Presentation: &quot;Lates
 t Updates to the Ultra HDI Test Board Design&quot; (Chrys Shea\, Speaker)&lt;br&gt;6:
 45 pm - Q &amp;amp\; A&lt;br&gt;7:00 pm - Presentation: &quot;SMT Equipment Performance C
 hallenges in Ultra HDI Assembly&quot; (Mike Sivigny\, Speaker)&lt;br&gt;7:45 pm - Q &amp;
 amp\; A&lt;br&gt;8:00 pm - Informal Networking&lt;/h4&gt;\n&lt;p&gt;&amp;nbsp\;&lt;/p&gt;
END:VEVENT
END:VCALENDAR

