BEGIN:VCALENDAR
VERSION:2.0
PRODID:IEEE vTools.Events//EN
CALSCALE:GREGORIAN
BEGIN:VTIMEZONE
TZID:Asia/Kolkata
BEGIN:STANDARD
DTSTART:19451014T230000
TZOFFSETFROM:+0630
TZOFFSETTO:+0530
TZNAME:IST
END:STANDARD
END:VTIMEZONE
BEGIN:VEVENT
DTSTAMP:20260326T155611Z
UID:A3080858-2F9A-4FFB-B027-DFF42D12AEC5
DTSTART;TZID=Asia/Kolkata:20260327T140000
DTEND;TZID=Asia/Kolkata:20260327T160000
DESCRIPTION:Institution&#39;s Innovation Council (IIC) &amp; Department of Informat
 ion Technology is Organising Guest Lecture on Al &amp; Inonovation Sprints: Ra
 pid Prototyping for Digital Tranformation\n\nBldg: IT BUilding\, IIMT COLL
 EGE OF ENGINEERING\, KP-3 \, Greater Noida\, Uttar Pradesh\, India\, 20131
 0
LOCATION:Bldg: IT BUilding\, IIMT COLLEGE OF ENGINEERING\, KP-3 \, Greater 
 Noida\, Uttar Pradesh\, India\, 201310
ORGANIZER:pankaj.maahi@gmail.com 
SEQUENCE:17
SUMMARY:Guest Lecture on Al &amp; Inonovation Sprints
URL;VALUE=URI:https://events.vtools.ieee.org/m/550931
X-ALT-DESC:Description: &lt;br /&gt;&lt;p&gt;Institution&#39;s Innovation Council (IIC) &amp;am
 p\; Department of Information Technology&amp;nbsp\;is Organising&amp;nbsp\;Guest L
 ecture&amp;nbsp\;on&amp;nbsp\;Al &amp;amp\; Inonovation Sprints:&amp;nbsp\;Rapid Prototypi
 ng for Digital Tranformation&lt;/p&gt;
END:VEVENT
END:VCALENDAR

