BEGIN:VCALENDAR
VERSION:2.0
PRODID:IEEE vTools.Events//EN
CALSCALE:GREGORIAN
BEGIN:VTIMEZONE
TZID:America/New_York
BEGIN:DAYLIGHT
DTSTART:20260308T030000
TZOFFSETFROM:-0500
TZOFFSETTO:-0400
RRULE:FREQ=YEARLY;BYDAY=2SU;BYMONTH=3
TZNAME:EDT
END:DAYLIGHT
BEGIN:STANDARD
DTSTART:20261101T010000
TZOFFSETFROM:-0400
TZOFFSETTO:-0500
RRULE:FREQ=YEARLY;BYDAY=1SU;BYMONTH=11
TZNAME:EST
END:STANDARD
END:VTIMEZONE
BEGIN:VEVENT
DTSTAMP:20260410T211215Z
UID:5CE92DA6-6CCA-4471-AEA7-08292DAF45FE
DTSTART;TZID=America/New_York:20260407T190000
DTEND;TZID=America/New_York:20260407T200000
DESCRIPTION:Attend the IEEE-GWU Elections for the 2026–2027 academic year
  and participate in shaping the future of the organization. This event pro
 vides an opportunity to learn about leadership roles\, hear from candidate
 s\, and vote for the next executive board.\n\nEvent Details:\nDate: April 
 7\, 2026\nTime: 7:00 PM\nLocation: SEH B1270\n\nAvailable Positions:\nChai
 r\, Vice Chair\, Secretary\, Treasurer\, HKN Chair\, Computer Society Chai
 r\n\nAll members are encouraged to attend\, engage in the election process
 \, and consider running for a position. Andy’s Pizza will be provided.\n
 \nGWU SEH\, Washington DC\, District of Columbia\, United States
LOCATION:GWU SEH\, Washington DC\, District of Columbia\, United States
ORGANIZER:joshua.shapo@gwmail.gwu.edu
SEQUENCE:7
SUMMARY:IEEE-GWU Elections: 2026-2027
URL;VALUE=URI:https://events.vtools.ieee.org/m/550986
X-ALT-DESC:Description: &lt;br /&gt;&lt;p data-start=&quot;23&quot; data-end=&quot;272&quot;&gt;Attend the 
 IEEE-GWU Elections for the 2026&amp;ndash\;2027 academic year and participate 
 in shaping the future of the organization. This event provides an opportun
 ity to learn about leadership roles\, hear from candidates\, and vote for 
 the next executive board.&lt;/p&gt;\n&lt;p data-start=&quot;274&quot; data-end=&quot;354&quot;&gt;&lt;strong 
 data-start=&quot;274&quot; data-end=&quot;292&quot;&gt;Event Details:&lt;/strong&gt;&lt;br data-start=&quot;292
 &quot; data-end=&quot;295&quot;&gt;Date: April 7\, 2026&lt;br data-start=&quot;314&quot; data-end=&quot;317&quot;&gt;T
 ime: 7:00 PM&lt;br data-start=&quot;330&quot; data-end=&quot;333&quot;&gt;Location: SEH B1270&lt;/p&gt;\n&lt;
 p data-start=&quot;356&quot; data-end=&quot;459&quot;&gt;&lt;strong data-start=&quot;356&quot; data-end=&quot;380&quot;&gt;
 Available Positions:&lt;/strong&gt;&lt;br data-start=&quot;380&quot; data-end=&quot;383&quot;&gt;Chair\, V
 ice Chair\, Secretary\, Treasurer\, HKN Chair\, Computer Society Chair&lt;/p&gt;
 \n&lt;p data-start=&quot;461&quot; data-end=&quot;598&quot; data-is-last-node=&quot;&quot; data-is-only-nod
 e=&quot;&quot;&gt;All members are encouraged to attend\, engage in the election process
 \, and consider running for a position. Andy&amp;rsquo\;s Pizza will be provid
 ed.&lt;/p&gt;
END:VEVENT
END:VCALENDAR

