BEGIN:VCALENDAR
VERSION:2.0
PRODID:IEEE vTools.Events//EN
CALSCALE:GREGORIAN
BEGIN:VTIMEZONE
TZID:America/Los_Angeles
BEGIN:DAYLIGHT
DTSTART:20260308T030000
TZOFFSETFROM:-0800
TZOFFSETTO:-0700
RRULE:FREQ=YEARLY;BYDAY=2SU;BYMONTH=3
TZNAME:PDT
END:DAYLIGHT
BEGIN:STANDARD
DTSTART:20261101T010000
TZOFFSETFROM:-0700
TZOFFSETTO:-0800
RRULE:FREQ=YEARLY;BYDAY=1SU;BYMONTH=11
TZNAME:PST
END:STANDARD
END:VTIMEZONE
BEGIN:VEVENT
DTSTAMP:20260401T202902Z
UID:58538398-0D0A-4899-816A-A6515E095557
DTSTART;TZID=America/Los_Angeles:20260521T170000
DTEND;TZID=America/Los_Angeles:20260521T170200
DESCRIPTION:Agentic AI systems are evolving from tool‑driven workflows in
 to autonomous agents that can perceive\, react\, and operate in dynamic en
 vironments. This talk uses OpenClaw as a reference architecture to explore
  how agentic systems can move beyond single‑machine orchestration toward
  perception‑aware\, production‑ready deployments.\n\nWe begin with Ope
 nClaw’s core design—gateway‑based orchestration\, tool execution\, a
 nd local‑first workflows—and examine its limitations when scaling towa
 rd real‑time\, autonomous behavior. From there\, we introduce architectu
 ral patterns for integrating perception signals and environment feedback\,
  enabling agents to reason and act in continuously changing contexts.\n\nT
 he session then covers key system challenges\, including state management\
 , observability\, and coordination\, along with practical approaches for s
 caling these systems across distributed environments. We conclude with con
 crete architectural principles for building robust\, perception‑aware ag
 entic systems that combine infrastructure rigor\, extensible toolchains\, 
 and real‑world responsiveness.\n\nVirtual: https://events.vtools.ieee.or
 g/m/550996
LOCATION:Virtual: https://events.vtools.ieee.org/m/550996
ORGANIZER:Chhavi.jain@gmail.com
SEQUENCE:96
SUMMARY:OpenClaw Architecture: From Tool‑Orchestrated Agents to Perceptio
 n‑Aware Autonomous Systems
URL;VALUE=URI:https://events.vtools.ieee.org/m/550996
X-ALT-DESC:Description: &lt;br /&gt;&lt;p class=&quot;my-2 [&amp;amp\;+p]:mt-4 [&amp;amp\;_strong
 :has(+br)]:inline-block [&amp;amp\;_strong:has(+br)]:pb-2&quot;&gt;Agentic AI systems 
 are evolving from tool‑driven workflows into autonomous agents that can 
 perceive\, react\, and operate in dynamic environments. This talk uses&amp;nbs
 p\;OpenClaw&amp;nbsp\;as a reference architecture to explore how agentic syste
 ms can move beyond single‑machine orchestration toward&amp;nbsp\;perception
 ‑aware\, production‑ready deployments.&lt;/p&gt;\n&lt;p class=&quot;my-2 [&amp;amp\;+p]:
 mt-4 [&amp;amp\;_strong:has(+br)]:inline-block [&amp;amp\;_strong:has(+br)]:pb-2&quot;&gt;
 We begin with OpenClaw&amp;rsquo\;s core design&amp;mdash\;gateway‑based orchest
 ration\, tool execution\, and local‑first workflows&amp;mdash\;and examine i
 ts limitations when scaling toward real‑time\, autonomous behavior. From
  there\, we introduce architectural patterns for integrating perception si
 gnals and environment feedback\, enabling agents to reason and act in cont
 inuously changing contexts.&lt;/p&gt;\n&lt;p class=&quot;my-2 [&amp;amp\;+p]:mt-4 [&amp;amp\;_st
 rong:has(+br)]:inline-block [&amp;amp\;_strong:has(+br)]:pb-2&quot;&gt;The session the
 n covers key system challenges\, including state management\, observabilit
 y\, and coordination\, along with practical approaches for scaling these s
 ystems across distributed environments. We conclude with concrete architec
 tural principles for building robust\, perception‑aware agentic systems 
 that combine infrastructure rigor\, extensible toolchains\, and real‑wor
 ld responsiveness.&lt;/p&gt;
END:VEVENT
END:VCALENDAR

