BEGIN:VCALENDAR
VERSION:2.0
PRODID:IEEE vTools.Events//EN
CALSCALE:GREGORIAN
BEGIN:VTIMEZONE
TZID:Asia/Kolkata
BEGIN:STANDARD
DTSTART:19451014T230000
TZOFFSETFROM:+0630
TZOFFSETTO:+0530
TZNAME:IST
END:STANDARD
END:VTIMEZONE
BEGIN:VEVENT
DTSTAMP:20260328T175716Z
UID:85001133-9B92-432D-8648-9F7A70422E31
DTSTART;TZID=Asia/Kolkata:20260328T120000
DTEND;TZID=Asia/Kolkata:20260328T130000
DESCRIPTION:[] AI Made Easy: A Workshop Series on AI Training\nSession 2: A
 I &amp; Data Science\n\nThe IEEE Student Branch\, UNSIET proudly presents an i
 nsightful webinar designed to help you explore the power of Artificial Int
 elligence and Data Science\n\nSpeaker(s): P Rahul Rao\n\nVirtual: https://
 events.vtools.ieee.org/m/551158
LOCATION:Virtual: https://events.vtools.ieee.org/m/551158
ORGANIZER:niharsrivastava1904@gmail.com
SEQUENCE:67
SUMMARY:AI Made Easy: A Workshop Series on AI Training - Session 2: AI &amp; Da
 ta Science
URL;VALUE=URI:https://events.vtools.ieee.org/m/551158
X-ALT-DESC:Description: &lt;br /&gt;&lt;p&gt;&lt;img src=&quot;https://events.vtools.ieee.org/v
 tools_ui/media/display/11b78018-a698-486f-9ab0-9a8f0a9c9fec&quot; alt=&quot;&quot; width=
 &quot;1131&quot; height=&quot;1600&quot;&gt; AI Made Easy: A Workshop Series on AI Training&lt;br&gt;Se
 ssion 2: AI &amp;amp\; Data Science&lt;/p&gt;\n&lt;p&gt;The IEEE Student Branch\, UNSIET p
 roudly presents an insightful webinar designed to help you explore the pow
 er of Artificial Intelligence and Data Science&lt;/p&gt;
END:VEVENT
END:VCALENDAR

