BEGIN:VCALENDAR
VERSION:2.0
PRODID:IEEE vTools.Events//EN
CALSCALE:GREGORIAN
BEGIN:VTIMEZONE
TZID:Asia/Kolkata
BEGIN:STANDARD
DTSTART:19451014T230000
TZOFFSETFROM:+0630
TZOFFSETTO:+0530
TZNAME:IST
END:STANDARD
END:VTIMEZONE
BEGIN:VEVENT
DTSTAMP:20260328T080024Z
UID:250AB3FB-CDB7-46BB-9610-92F9140F4EAF
DTSTART;TZID=Asia/Kolkata:20260329T143000
DTEND;TZID=Asia/Kolkata:20260329T153000
DESCRIPTION:BASAVESHWAR ENGINEERING COLLEGE BAGALKOT\n🔌 Department of El
 ectrical and Electronics Engineering\n🧠 IEEE Power and Energy Society S
 BC-35261A\n\n✨ Presents:\n🎓 Alumni Webinar on Practical Design of DC-
 DC Power Converter\n\n🗓️ Date: 29 March\, 2026\n⏰ Time: 2:30-3.30 P
 M\n📍 Platform: Google Meet\n\nJoin us for an insightful session and boo
 st your knowledge in emerging technologies!\n\nStudent Coordinator:\nMs. S
 hwetha Macha\n\nFaculty Coordinator:\nDr. Sangamesh Y. Goudappanavar\nIEEE
  Branch Counselor &amp; PES Advisor\, BEC Bgk\n\n--BEC IEEE PES Team\n\nBagalk
 ot\, Karnataka\, India\, 587102
LOCATION:Bagalkot\, Karnataka\, India\, 587102
ORGANIZER:priyaprakash02204@gmail.com
SEQUENCE:16
SUMMARY:Alumni Webinar on Practical Design on DC-DC Power Converters
URL;VALUE=URI:https://events.vtools.ieee.org/m/551301
X-ALT-DESC:Description: &lt;br /&gt;&lt;p&gt;BASAVESHWAR ENGINEERING COLLEGE BAGALKOT&lt;b
 r&gt;🔌 Department of Electrical and Electronics Engineering&lt;br&gt;🧠 IEEE P
 ower and Energy Society SBC-35261A&lt;/p&gt;\n&lt;p&gt;✨ Presents:&lt;br&gt;🎓 Alumni We
 binar on Practical Design of DC-DC Power Converter&lt;/p&gt;\n&lt;p&gt;🗓️ Date: 2
 9 March\, 2026&lt;br&gt;⏰ Time: 2:30-3.30 PM&lt;br&gt;📍 Platform: Google Meet&amp;nbs
 p\;&lt;/p&gt;\n&lt;p&gt;Join us for an insightful session and boost your knowledge in 
 emerging technologies!&lt;/p&gt;\n&lt;p&gt;Student Coordinator:&amp;nbsp\;&lt;br&gt;Ms. Shwetha 
 Macha&lt;/p&gt;\n&lt;p&gt;Faculty Coordinator:&lt;br&gt;Dr. Sangamesh Y. Goudappanavar&lt;br&gt;IE
 EE Branch Counselor &amp;amp\; PES Advisor\, BEC Bgk&lt;/p&gt;\n&lt;p&gt;--BEC IEEE PES Te
 am&lt;/p&gt;
END:VEVENT
END:VCALENDAR

