BEGIN:VCALENDAR
VERSION:2.0
PRODID:IEEE vTools.Events//EN
CALSCALE:GREGORIAN
BEGIN:VTIMEZONE
TZID:Africa/Algiers
BEGIN:STANDARD
DTSTART:19810501T010000
TZOFFSETFROM:+0000
TZOFFSETTO:+0100
TZNAME:CET
END:STANDARD
END:VTIMEZONE
BEGIN:VEVENT
DTSTAMP:20260330T215414Z
UID:59FA2941-76C9-4B43-96A4-ADE644A3B998
DTSTART;TZID=Africa/Algiers:20260623T000000
DTEND;TZID=Africa/Algiers:20260707T000200
DESCRIPTION:The IEEE Women in Engineering Day Celebration is a structured i
 nitiative aligned with the theme “Technology with Purpose: Innovate Resp
 onsibly\, Inspire Globally\, Lead with Integrity.” Guided by the framewo
 rk and recommended directions of the IEEE WIE Day Committee\, it is design
 ed to foster meaningful engagement across the IEEE community.\n\nRooted in
  the principles of the IEEE Code of Ethics\, the initiative aims to promot
 e responsible and ethical technology\, empower leadership in STEM\, encour
 age innovation with purpose\, and support impactful contributions aligned 
 with global challenges and community needs.\n\nESPRIT:private school of en
 gineering\, Tunis\, Ariana\, Tunisia\, 5089
LOCATION:ESPRIT:private school of engineering\, Tunis\, Ariana\, Tunisia\, 
 5089
ORGANIZER:ali.bentiba@ieee.org
SEQUENCE:16
SUMMARY:IEEE Wie Day Celebration
URL;VALUE=URI:https://events.vtools.ieee.org/m/551900
X-ALT-DESC:Description: &lt;br /&gt;&lt;p class=&quot;cvGsUA direction-ltr align-justify 
 para-style-body&quot;&gt;&lt;span class=&quot;a_GcMg font-feature-liga-off font-feature-cl
 ig-off font-feature-calt-off text-decoration-none text-strikethrough-none&quot;
 &gt;The IEEE Women in Engineering Day Celebration is a structured initiative 
 aligned with the theme &amp;ldquo\;Technology with Purpose: Innovate Responsib
 ly\, Inspire Globally\, Lead with Integrity.&amp;rdquo\; Guided by the framewo
 rk and recommended directions of the IEEE WIE Day Committee\, it is design
 ed to foster meaningful engagement across the IEEE community.&lt;/span&gt;&lt;/p&gt;\n
 &lt;p class=&quot;cvGsUA direction-ltr align-justify para-style-body&quot;&gt;&lt;span class=
 &quot;a_GcMg font-feature-liga-off font-feature-clig-off font-feature-calt-off 
 text-decoration-none text-strikethrough-none&quot;&gt;Rooted in the principles of 
 the IEEE Code of Ethics\, the initiative aims to promote responsible and e
 thical technology\, empower leadership in STEM\, encourage innovation with
  purpose\, and support impactful contributions aligned with global challen
 ges and community needs.&lt;/span&gt;&lt;/p&gt;
END:VEVENT
END:VCALENDAR

