BEGIN:VCALENDAR
VERSION:2.0
PRODID:IEEE vTools.Events//EN
CALSCALE:GREGORIAN
BEGIN:VTIMEZONE
TZID:America/Chicago
BEGIN:DAYLIGHT
DTSTART:20260308T030000
TZOFFSETFROM:-0600
TZOFFSETTO:-0500
RRULE:FREQ=YEARLY;BYDAY=2SU;BYMONTH=3
TZNAME:CDT
END:DAYLIGHT
BEGIN:STANDARD
DTSTART:20261101T010000
TZOFFSETFROM:-0500
TZOFFSETTO:-0600
RRULE:FREQ=YEARLY;BYDAY=1SU;BYMONTH=11
TZNAME:CST
END:STANDARD
END:VTIMEZONE
BEGIN:VEVENT
DTSTAMP:20260331T000148Z
UID:E53B462A-71FE-436F-8ACE-2C9027E45877
DTSTART;TZID=America/Chicago:20260331T160000
DTEND;TZID=America/Chicago:20260331T180000
DESCRIPTION:Come join us for a beginner-friendly workshop where you can lea
 rn the basics of soldering and take home your own temperature sensor kit! 
 Materials and equipment will be provided!\n\nRoom: 2.04.26A\, Bldg: Engine
 ering Building (EB)\, 1 UTSA Boulevard\, San Antonio\, Texas\, United Stat
 es\, 78249
LOCATION:Room: 2.04.26A\, Bldg: Engineering Building (EB)\, 1 UTSA Boulevar
 d\, San Antonio\, Texas\, United States\, 78249
ORGANIZER:ieeeutsa@gmail.com
SEQUENCE:9
SUMMARY:Soldering Workshop
URL;VALUE=URI:https://events.vtools.ieee.org/m/551944
X-ALT-DESC:Description: &lt;br /&gt;&lt;p&gt;Come join us for a beginner-friendly works
 hop where you can learn the basics of soldering and take home your own tem
 perature sensor kit! Materials and equipment will be provided!&lt;/p&gt;
END:VEVENT
END:VCALENDAR

