BEGIN:VCALENDAR
VERSION:2.0
PRODID:IEEE vTools.Events//EN
CALSCALE:GREGORIAN
BEGIN:VTIMEZONE
TZID:America/New_York
BEGIN:DAYLIGHT
DTSTART:20260308T030000
TZOFFSETFROM:-0500
TZOFFSETTO:-0400
RRULE:FREQ=YEARLY;BYDAY=2SU;BYMONTH=3
TZNAME:EDT
END:DAYLIGHT
BEGIN:STANDARD
DTSTART:20261101T010000
TZOFFSETFROM:-0400
TZOFFSETTO:-0500
RRULE:FREQ=YEARLY;BYDAY=1SU;BYMONTH=11
TZNAME:EST
END:STANDARD
END:VTIMEZONE
BEGIN:VEVENT
DTSTAMP:20260419T191008Z
UID:DAEB5A7C-A201-48EA-8D8B-60FB9EC9C971
DTSTART;TZID=America/New_York:20260505T200000
DTEND;TZID=America/New_York:20260505T213000
DESCRIPTION:May 2026 MOVE USA Operations Training Opportunities\n\nMOVE Ope
 rations Class – 3-part Virtual Series\n\nIEEE MOVE USA is offering a dyn
 amic three-part Virtual Operations Class designed for volunteers preparing
  for MOVE truck deployment\, as well as those interested in learning more 
 about the program. Attendance is required for existing drivers and crew me
 mbers and anyone seeking to advance to a MOVE Truck Driver or Crew Member 
 role. Attendance is encouraged for All MOVE volunteers.\n\nThe course cove
 rs key topics including deployment expectations\, truck equipment\, and es
 sential safety procedures. Each of the three sessions is conducted virtual
 ly and lasts approximately 90 minutes to two hours.\n\nParticipants will a
 lso gain an understanding of the differences among the three MOVE USA truc
 ks\, providing prospective drivers and crew members with a solid foundatio
 n in both the shared systems and the unique features of each vehicle.\n\nC
 o-sponsored by: IEEE-USA MOVE Program\n\nAgenda: \nThe Day 1 session will 
 provide an overview of the MOVE truck operation for MOVE-1\, MOVE-2 and MO
 VE-3 with a high-level understanding of truck operations\, power systems\,
  network systems and communications/radio systems. The differences between
  the three trucks will be discussed.\n\nThe Day 2 session will provide a d
 etailed orientation and discussion on truck operations\, maintenance and p
 ower generations systems. The differences between the three trucks will be
  discussed.\n\nThe Day 3 session will provide a detailed orientation and d
 iscussion on the networking and communications systems. An overview of the
  Cisco Meraki and radio systems operations and functionality will be provi
 ded. The differences between the three trucks will be discussed.\n\nPlease
  use the following links to register for all three training sessions.\n\nT
 his is a 3-part virtual class. Register to attend &gt;&gt;\n\n- Part 1: Tuesday\
 , 5 May 2026 from 8:00 - 9:30 PM ET &gt;&gt; https://events.vtools.ieee.org/m/55
 1951\n- Part 2: Tuesday\, 12 May 2026 from 8:00 - 9:30 PM ET &gt;&gt; https://ev
 ents.vtools.ieee.org/m/551952\n- Part 3: Tuesday\, 19 May 2026 from 8:00 -
  9:30 PM ET &gt;&gt; https://events.vtools.ieee.org/m/551953\n\nThere will be a 
 test after the third session - material will be provided for the test.\n\n
 Virtual: https://events.vtools.ieee.org/m/551951
LOCATION:Virtual: https://events.vtools.ieee.org/m/551951
ORGANIZER:l.arellano@ieee.org
SEQUENCE:86
SUMMARY:MOVE Virtual Operations Class - Part 1 of 3 
URL;VALUE=URI:https://events.vtools.ieee.org/m/551951
X-ALT-DESC:Description: &lt;br /&gt;&lt;p class=&quot;MsoNormal&quot; style=&quot;text-align: cente
 r\; margin: 0in 1.0in 6.0pt 0in\;&quot; align=&quot;center&quot;&gt;&lt;strong&gt;&lt;span style=&quot;fon
 t-size: 16.0pt\; font-family: &#39;Helvetica&#39;\,sans-serif\; mso-ascii-theme-fo
 nt: minor-latin\; mso-hansi-theme-font: minor-latin\; mso-bidi-theme-font:
  minor-latin\;&quot;&gt;&amp;nbsp\;May 2026 MOVE USA Operations Training Opportunities
 &lt;/span&gt;&lt;/strong&gt;&lt;/p&gt;\n&lt;p class=&quot;MsoNormal&quot; style=&quot;margin-right: 1.0in\;&quot;&gt;&amp;
 nbsp\;&lt;/p&gt;\n&lt;p class=&quot;MsoNormal&quot; style=&quot;margin-right: 1.0in\;&quot;&gt;&lt;strong&gt;&lt;sp
 an style=&quot;font-size: 12.0pt\; font-family: &#39;Helvetica&#39;\,sans-serif\; mso-a
 scii-theme-font: minor-latin\; mso-hansi-theme-font: minor-latin\; mso-bid
 i-theme-font: minor-latin\;&quot;&gt;MOVE Operations Class &amp;ndash\; 3-part Virtual
  Series&amp;nbsp\; &lt;/span&gt;&lt;/strong&gt;&lt;/p&gt;\n&lt;p class=&quot;MsoNormal&quot;&gt;&lt;span style=&quot;fon
 t-size: 12.0pt\; font-family: &#39;Helvetica&#39;\,sans-serif\; mso-ascii-theme-fo
 nt: minor-latin\; mso-hansi-theme-font: minor-latin\; mso-bidi-theme-font:
  minor-latin\;&quot;&gt;IEEE MOVE USA is offering a dynamic three-part Virtual Ope
 rations Class designed for volunteers preparing for MOVE truck deployment\
 , as well as those interested in learning more about the program. &lt;strong&gt;
 &lt;span style=&quot;font-size: 12.0pt\; font-family: &#39;Helvetica&#39;\,sans-serif\; ms
 o-fareast-font-family: Aptos\; mso-fareast-theme-font: minor-latin\; mso-l
 igatures: standardcontextual\; mso-ansi-language: EN-US\; mso-fareast-lang
 uage: EN-US\; mso-bidi-language: AR-SA\;&quot;&gt;Attendance is required&lt;/span&gt;&lt;/s
 trong&gt;&lt;span style=&quot;font-size: 12.0pt\; font-family: &#39;Helvetica&#39;\,sans-seri
 f\; mso-fareast-font-family: Aptos\; mso-fareast-theme-font: minor-latin\;
  mso-ligatures: standardcontextual\; mso-ansi-language: EN-US\; mso-fareas
 t-language: EN-US\; mso-bidi-language: AR-SA\;&quot;&gt; for existing drivers and 
 crew members and anyone seeking to advance to a MOVE Truck Driver or Crew 
 Member role.&lt;span style=&quot;mso-spacerun: yes\;&quot;&gt;&amp;nbsp\; &lt;/span&gt;&lt;strong&gt;Atten
 dance is&lt;/strong&gt; &lt;strong&gt;encouraged&lt;/strong&gt; for &lt;strong&gt;All MOVE volunte
 ers. &lt;/strong&gt;&lt;/span&gt;&amp;nbsp\;&amp;nbsp\;&lt;/span&gt;&lt;/p&gt;\n&lt;p class=&quot;MsoNormal&quot;&gt;&lt;span
  style=&quot;font-size: 12.0pt\; font-family: &#39;Helvetica&#39;\,sans-serif\; mso-asc
 ii-theme-font: minor-latin\; mso-hansi-theme-font: minor-latin\; mso-bidi-
 theme-font: minor-latin\;&quot;&gt;The course covers key topics including deployme
 nt expectations\, truck equipment\, and essential safety procedures. Each 
 of the three sessions is conducted virtually and lasts approximately 90 mi
 nutes to two hours.&lt;/span&gt;&lt;/p&gt;\n&lt;p class=&quot;MsoNormal&quot;&gt;&lt;span style=&quot;font-siz
 e: 12.0pt\; font-family: &#39;Helvetica&#39;\,sans-serif\; mso-ascii-theme-font: m
 inor-latin\; mso-hansi-theme-font: minor-latin\; mso-bidi-theme-font: mino
 r-latin\;&quot;&gt;Participants will also gain an understanding of the differences
  among the three MOVE USA trucks\, providing prospective drivers and crew 
 members with a solid foundation in both the shared systems and the unique 
 features of each vehicle.&lt;/span&gt;&lt;/p&gt;&lt;br /&gt;&lt;br /&gt;Agenda: &lt;br /&gt;&lt;p class=&quot;Ms
 oNormal&quot; style=&quot;margin: 0in .75in .0001pt .25in\;&quot;&gt;&lt;span style=&quot;font-size:
  12.0pt\; font-family: &#39;Helvetica&#39;\,sans-serif\; mso-ascii-theme-font: min
 or-latin\; mso-hansi-theme-font: minor-latin\; mso-bidi-theme-font: minor-
 latin\;&quot;&gt;&lt;strong&gt;The Day 1 session&lt;/strong&gt; will provide an overview of th
 e MOVE truck operation for MOVE-1\, MOVE-2 and MOVE-3 with a high-level un
 derstanding of truck operations\, power systems\, network systems and comm
 unications/radio systems.&lt;span style=&quot;mso-spacerun: yes\;&quot;&gt;&amp;nbsp\; &lt;/span&gt;
 The differences between the three trucks will be discussed.&lt;/span&gt;&lt;/p&gt;\n&lt;p
  class=&quot;MsoNormal&quot; style=&quot;margin: 0in .75in .0001pt .25in\;&quot;&gt;&lt;span style=&quot;
 font-size: 12.0pt\; font-family: &#39;Helvetica&#39;\,sans-serif\; mso-ascii-theme
 -font: minor-latin\; mso-hansi-theme-font: minor-latin\; mso-bidi-theme-fo
 nt: minor-latin\;&quot;&gt;&lt;strong&gt;The Day 2 session &lt;/strong&gt;will provide a detai
 led orientation and discussion on truck operations\, maintenance and power
  generations systems.&lt;span style=&quot;mso-spacerun: yes\;&quot;&gt;&amp;nbsp\; &lt;/span&gt;The 
 differences between the three trucks will be discussed.&lt;span style=&quot;mso-sp
 acerun: yes\;&quot;&gt;&amp;nbsp\;&amp;nbsp\; &lt;/span&gt;&lt;/span&gt;&lt;/p&gt;\n&lt;p class=&quot;MsoNormal&quot; sty
 le=&quot;margin: 0in .75in .0001pt .25in\;&quot;&gt;&lt;span style=&quot;font-size: 12.0pt\; fo
 nt-family: &#39;Helvetica&#39;\,sans-serif\; mso-ascii-theme-font: minor-latin\; m
 so-hansi-theme-font: minor-latin\; mso-bidi-theme-font: minor-latin\;&quot;&gt;&lt;st
 rong&gt;The Day 3 session&lt;/strong&gt; will provide a detailed orientation and di
 scussion on the networking and communications systems.&lt;span style=&quot;mso-spa
 cerun: yes\;&quot;&gt;&amp;nbsp\; &lt;/span&gt;An overview of the Cisco Meraki and radio sys
 tems operations and functionality will be provided.&lt;span style=&quot;mso-spacer
 un: yes\;&quot;&gt;&amp;nbsp\; &lt;/span&gt;The differences between the three trucks will be
  discussed.&lt;span style=&quot;mso-spacerun: yes\;&quot;&gt;&amp;nbsp\; &lt;/span&gt;&lt;/span&gt;&lt;/p&gt;\n&lt;
 p style=&quot;background: white\; margin: 0in 1.0in 7.5pt .25in\;&quot;&gt;&amp;nbsp\;&lt;/p&gt;\
 n&lt;p style=&quot;background: white\; margin: 0in 1.0in 7.5pt .25in\;&quot;&gt;&lt;span styl
 e=&quot;font-family: &#39;Helvetica&#39;\,sans-serif\; mso-ascii-theme-font: minor-lati
 n\; mso-hansi-theme-font: minor-latin\; mso-bidi-theme-font: minor-latin\;
  color: black\;&quot;&gt;Please use the following links&lt;strong&gt;&lt;span style=&quot;font-f
 amily: &#39;Helvetica&#39;\,sans-serif\; mso-ascii-theme-font: minor-latin\; mso-h
 ansi-theme-font: minor-latin\; mso-bidi-theme-font: minor-latin\;&quot;&gt;&amp;nbsp\;
 &lt;u&gt;to register for all three training sessions&lt;/u&gt;.&lt;/span&gt;&lt;/strong&gt;&lt;/span&gt;
 &lt;/p&gt;\n&lt;p class=&quot;MsoNormal&quot;&gt;&lt;span style=&quot;font-size: 12.0pt\; font-family: &#39;
 Helvetica&#39;\,sans-serif\; mso-ascii-theme-font: minor-latin\; mso-hansi-the
 me-font: minor-latin\; mso-bidi-theme-font: minor-latin\;&quot;&gt;&amp;nbsp\;&lt;/span&gt;&lt;
 span style=&quot;font-size: 12.0pt\; font-family: &#39;Helvetica&#39;\,sans-serif\; mso
 -ascii-theme-font: minor-latin\; mso-hansi-theme-font: minor-latin\; mso-b
 idi-theme-font: minor-latin\;&quot;&gt;This is a 3-part virtual class.&amp;nbsp\; &lt;str
 ong&gt;Register to attend &amp;gt\;&amp;gt\;&lt;/strong&gt;&amp;nbsp\; &lt;/span&gt;&lt;/p&gt;\n&lt;ul style=&quot;
 margin-top: 0in\;&quot; type=&quot;disc&quot;&gt;\n&lt;li class=&quot;MsoNormal&quot; style=&quot;color: #6161
 61\; margin-right: 1.0in\; mso-margin-bottom-alt: auto\; mso-list: l0 leve
 l1 lfo1\; tab-stops: list .5in\; background: white\;&quot;&gt;&lt;span style=&quot;font-si
 ze: 12.0pt\; font-family: &#39;Helvetica&#39;\,sans-serif\; mso-ascii-theme-font: 
 minor-latin\; mso-hansi-theme-font: minor-latin\; mso-bidi-theme-font: min
 or-latin\; color: black\;&quot;&gt;Part 1: &lt;span style=&quot;font-size: 12.0pt\; font-f
 amily: &#39;Helvetica&#39;\,sans-serif\; mso-fareast-font-family: &#39;Times New Roman
 &#39;\; color: black\; mso-ligatures: standardcontextual\; mso-ansi-language: 
 EN-US\; mso-fareast-language: EN-US\; mso-bidi-language: AR-SA\;&quot;&gt;Tuesday\
 , 5 May 2026 from 8:00&lt;/span&gt;&amp;nbsp\;- 9:30 PM ET &amp;gt\;&amp;gt\;&lt;/span&gt;&lt;span st
 yle=&quot;font-size: 12.0pt\; font-family: &#39;Helvetica&#39;\,sans-serif\; mso-ascii-
 theme-font: minor-latin\; mso-hansi-theme-font: minor-latin\; mso-bidi-the
 me-font: minor-latin\;&quot;&gt;&amp;nbsp\;&lt;/span&gt;&lt;span style=&quot;font-size: 12.0pt\; fon
 t-family: &#39;Helvetica&#39;\,sans-serif\; mso-ascii-theme-font: minor-latin\; ms
 o-hansi-theme-font: minor-latin\; mso-bidi-theme-font: minor-latin\; color
 : black\; mso-color-alt: windowtext\;&quot;&gt;&lt;a href=&quot;https://events.vtools.ieee
 .org/m/551951&quot;&gt;https://events.vtools.ieee.org/m/551951&lt;/a&gt;&lt;/span&gt;&lt;/li&gt;\n&lt;l
 i class=&quot;MsoNormal&quot; style=&quot;color: #616161\; mso-margin-top-alt: auto\; mar
 gin-right: 1.0in\; mso-margin-bottom-alt: auto\; mso-list: l0 level1 lfo1\
 ; tab-stops: list .5in\; background: white\;&quot;&gt;&lt;span style=&quot;font-size: 12.0
 pt\; font-family: &#39;Helvetica&#39;\,sans-serif\; mso-ascii-theme-font: minor-la
 tin\; mso-hansi-theme-font: minor-latin\; mso-bidi-theme-font: minor-latin
 \; color: black\;&quot;&gt;Part 2: &lt;span style=&quot;font-size: 12.0pt\; font-family: &#39;
 Helvetica&#39;\,sans-serif\; mso-fareast-font-family: &#39;Times New Roman&#39;\; colo
 r: black\; mso-ligatures: standardcontextual\; mso-ansi-language: EN-US\; 
 mso-fareast-language: EN-US\; mso-bidi-language: AR-SA\;&quot;&gt;Tuesday\, 12 May
  2026 from 8:00 -&lt;/span&gt; 9:30 PM ET &amp;gt\;&amp;gt\; &lt;a href=&quot;https://events.vto
 ols.ieee.org/m/551952&quot;&gt;https://events.vtools.ieee.org/m/551952&lt;/a&gt;&lt;/span&gt;&lt;
 /li&gt;\n&lt;li class=&quot;MsoNormal&quot; style=&quot;color: #616161\; mso-margin-top-alt: au
 to\; margin-right: 1.0in\; mso-margin-bottom-alt: auto\; mso-list: l0 leve
 l1 lfo1\; tab-stops: list .5in\; background: white\;&quot;&gt;&lt;span style=&quot;font-si
 ze: 12.0pt\; font-family: &#39;Helvetica&#39;\,sans-serif\; mso-ascii-theme-font: 
 minor-latin\; mso-hansi-theme-font: minor-latin\; mso-bidi-theme-font: min
 or-latin\; color: black\;&quot;&gt;Part 3: &lt;span style=&quot;font-size: 12.0pt\; font-f
 amily: &#39;Helvetica&#39;\,sans-serif\; mso-fareast-font-family: &#39;Times New Roman
 &#39;\; color: black\; mso-ligatures: standardcontextual\; mso-ansi-language: 
 EN-US\; mso-fareast-language: EN-US\; mso-bidi-language: AR-SA\;&quot;&gt;Tuesday\
 , 19 May 2026 from 8:00 -&lt;/span&gt; 9:30 PM ET &amp;gt\;&amp;gt\;&lt;/span&gt;&lt;span style=&quot;
 font-size: 12.0pt\; font-family: &#39;Helvetica&#39;\,sans-serif\; mso-ascii-theme
 -font: minor-latin\; mso-hansi-theme-font: minor-latin\; mso-bidi-theme-fo
 nt: minor-latin\;&quot;&gt;&amp;nbsp\;&lt;/span&gt;&lt;span style=&quot;font-size: 12.0pt\; font-fam
 ily: &#39;Helvetica&#39;\,sans-serif\; mso-ascii-theme-font: minor-latin\; mso-han
 si-theme-font: minor-latin\; mso-bidi-theme-font: minor-latin\; color: bla
 ck\; mso-color-alt: windowtext\;&quot;&gt;&lt;a href=&quot;https://events.vtools.ieee.org/
 m/551953&quot;&gt;https://events.vtools.ieee.org/m/551953&lt;/a&gt;&lt;/span&gt;&lt;/li&gt;\n&lt;/ul&gt;\n
 &lt;p style=&quot;background: white\; margin: 0in 1.0in 7.5pt .25in\;&quot;&gt;&lt;strong&gt;&lt;sp
 an style=&quot;font-family: &#39;Helvetica&#39;\,sans-serif\; mso-ascii-theme-font: min
 or-latin\; mso-hansi-theme-font: minor-latin\; mso-bidi-theme-font: minor-
 latin\; color: black\;&quot;&gt;There will be a test&amp;nbsp\;&lt;u&gt;after the third sess
 ion&lt;/u&gt;&amp;nbsp\;&lt;/span&gt;&lt;/strong&gt;&lt;span style=&quot;font-family: &#39;Helvetica&#39;\,sans-
 serif\; mso-ascii-theme-font: minor-latin\; mso-hansi-theme-font: minor-la
 tin\; mso-bidi-theme-font: minor-latin\; color: black\;&quot;&gt;- material will b
 e provided for the test.&lt;/span&gt;&lt;/p&gt;
END:VEVENT
END:VCALENDAR

