BEGIN:VCALENDAR
VERSION:2.0
PRODID:IEEE vTools.Events//EN
CALSCALE:GREGORIAN
BEGIN:VTIMEZONE
TZID:America/New_York
BEGIN:DAYLIGHT
DTSTART:20260308T030000
TZOFFSETFROM:-0500
TZOFFSETTO:-0400
RRULE:FREQ=YEARLY;BYDAY=2SU;BYMONTH=3
TZNAME:EDT
END:DAYLIGHT
BEGIN:STANDARD
DTSTART:20261101T010000
TZOFFSETFROM:-0400
TZOFFSETTO:-0500
RRULE:FREQ=YEARLY;BYDAY=1SU;BYMONTH=11
TZNAME:EST
END:STANDARD
END:VTIMEZONE
BEGIN:VEVENT
DTSTAMP:20260411T130351Z
UID:3715C9C9-9803-4B83-A48F-C04B6D70F12E
DTSTART;TZID=America/New_York:20260422T120000
DTEND;TZID=America/New_York:20260422T130000
DESCRIPTION:The global nuclear industry is seeing a nuclear resurgence driv
 en by growing electricity demands and advancements in life-saving medical 
 isotopes. This has created an urgent demand for advanced nuclear research 
 infrastructure and training in Canada and around the world.\n\nMcMaster Un
 iversity as Canada’s premier nuclear research and education institution 
 plays a critical role in addressing these needs for Canada. McMaster Nucle
 ar is anchored by a suite of world-class facilities that drive innovation 
 in energy\, medicine\, and materials science. At the heart of this ecosyst
 em is the country’s most powerful research reactor (the McMaster Nuclear
  Reactor\, MNR). Recent investments are enabling first the MNR transition 
 to 24/5 in 2024 and in early 2027 to 24/7. Maximizing the use of the MNR a
 nd associated nuclear research facilities has enhanced the university’s 
 research and training capacity. Both research highlights and the growth of
  our outreach and educational activities will be shared.\n\nA live Q&amp;A wit
 h registered attendees will follow the presentation. Please visit our webs
 ite at bit.ly/nuclear_series2 for additional details. Recorded webinars wi
 ll be posted there shortly thereafter for free on-demand viewing.\n\nIn ad
 dition\, please ensure you also register at:\n\nhttps://us06web.zoom.us/we
 binar/register/WN_SioQ-dr1T56onOJGn3ssFQ#/registration as provided in the 
 webinar location below to receive the Zoom link.\n\nSpeaker(s): Dr. Karin 
 Stephenson\, Event Moderator:  Dr. Maike Luiken\n\nVirtual: https://events
 .vtools.ieee.org/m/551959
LOCATION:Virtual: https://events.vtools.ieee.org/m/551959
ORGANIZER:vandamma@londonhydro.com
SEQUENCE:27
SUMMARY:Nuclear at McMaster University
URL;VALUE=URI:https://events.vtools.ieee.org/m/551959
X-ALT-DESC:Description: &lt;br /&gt;&lt;p&gt;The global nuclear industry is seeing a nu
 clear resurgence driven by growing electricity demands and advancements in
  life-saving medical isotopes.&amp;nbsp\; This has created an urgent demand fo
 r advanced nuclear research infrastructure and training in Canada and arou
 nd the world.&amp;nbsp\;&amp;nbsp\;&lt;/p&gt;\n&lt;p&gt;McMaster University as Canada&amp;rsquo\;s
  premier nuclear research and education institution plays a critical role 
 in addressing these needs for Canada.&amp;nbsp\; McMaster Nuclear is anchored 
 by a suite of world-class facilities that drive innovation in energy\, med
 icine\, and materials science. At the heart of this ecosystem is the count
 ry&amp;rsquo\;s most powerful research reactor (the McMaster Nuclear Reactor\,
  MNR).&amp;nbsp\; Recent investments are enabling first the MNR transition to 
 24/5 in 2024 and in early 2027 to 24/7.&amp;nbsp\; Maximizing the use of the M
 NR and associated nuclear research facilities has enhanced the university&amp;
 rsquo\;s research and training capacity.&amp;nbsp\; Both research highlights a
 nd the growth of our outreach and educational activities will be shared.&amp;n
 bsp\;&lt;/p&gt;\n&lt;p&gt;A live Q&amp;amp\;A with registered attendees will follow the pr
 esentation. Please visit our website at bit.ly/nuclear_series2 for additio
 nal details. &amp;nbsp\;Recorded webinars will be posted there shortly thereaf
 ter for free on-demand viewing.&amp;nbsp\;&lt;/p&gt;\n&lt;p&gt;&lt;strong&gt;In addition\, pleas
 e ensure you also register at:&lt;/strong&gt;&lt;/p&gt;\n&lt;p&gt;&lt;strong&gt;&lt;a href=&quot;https://u
 s06web.zoom.us/webinar/register/WN_SioQ-dr1T56onOJGn3ssFQ#/registration&quot;&gt;h
 ttps://us06web.zoom.us/webinar/register/WN_SioQ-dr1T56onOJGn3ssFQ#/registr
 ation&lt;/a&gt;&amp;nbsp\;&lt;/strong&gt;as provided in the webinar location below to rece
 ive the Zoom link.&lt;/p&gt;
END:VEVENT
END:VCALENDAR

