BEGIN:VCALENDAR
VERSION:2.0
PRODID:IEEE vTools.Events//EN
CALSCALE:GREGORIAN
BEGIN:VTIMEZONE
TZID:America/New_York
BEGIN:DAYLIGHT
DTSTART:20260308T030000
TZOFFSETFROM:-0500
TZOFFSETTO:-0400
RRULE:FREQ=YEARLY;BYDAY=2SU;BYMONTH=3
TZNAME:EDT
END:DAYLIGHT
BEGIN:STANDARD
DTSTART:20261101T010000
TZOFFSETFROM:-0400
TZOFFSETTO:-0500
RRULE:FREQ=YEARLY;BYDAY=1SU;BYMONTH=11
TZNAME:EST
END:STANDARD
END:VTIMEZONE
BEGIN:VEVENT
DTSTAMP:20260422T001214Z
UID:93E2AC5B-467E-415D-BDF1-2C707AA61269
DTSTART;TZID=America/New_York:20260425T173000
DTEND;TZID=America/New_York:20260425T200000
DESCRIPTION:Description:\n\nJoin the IEEE Young Professionals (Region 3) an
 d IEEE Computer Society for the first event in the Tech Futures 2026 Deep 
 Dive Series\, focused on Cybersecurity.\n\nThis hybrid event will be hoste
 d in person in Orlando and streamed live for virtual attendees. It brings 
 together experts from academia\, industry\, and IEEE to share insights on 
 emerging cybersecurity trends\, real-world challenges\, and future directi
 ons.\n\nFeatured Speakers:\n\n- Gracie Pereira\, VP &amp; Head of Cybersecurit
 y\, DigitalNet.ai\n- Elyson De La Cruz\, Chief Information Security Office
 r\, Imagine Believe Realize\, LLC &amp; Cyber Warfare Officer\, USAF Reserves\
 n- Franco Mezzarapa\, Offensive and Hardware Security Researcher\, The DRA
 CO Lab\, University of Central Florida (PI: Prof. Mike Borowczak)\n\nAbout
  the Series:\nThe IEEE Tech Futures 2026 Series is a region-wide initiativ
 e led by IEEE Region 3 Young Professionals and the Computer Society. It is
  designed to engage students\, young professionals\, and members in explor
 ing impactful emerging technologies identified in the Computer Society Tec
 hnology Predictions 2026 report.\n\nThrough a combination of virtual and l
 ocally hosted hybrid events\, this series aims to strengthen collaboration
 \, expand technical knowledge\, and foster industry-academia engagement ac
 ross Region 3.\n\nKey Objectives:\n\n- Explore emerging technologies and f
 uture industry trends\n- Strengthen collaboration between IEEE Young Profe
 ssionals and the Computer Society\n- Provide accessible\, high-quality tec
 hnical programming\n- Enable impactful local hybrid events across sections
 \n- Foster industry engagement through expert talks and discussions\n\nWe 
 look forward to your participation in this exciting kickoff session on cyb
 ersecurity.\n\nCo-sponsored by: IEEE Computer Society and IEEE Foundation\
 n\nSpeaker(s): Andy Seely\, Michael Castiglia\, Franco Mezzarapa\, Gracie 
 Pereira\, Elyson De La Cruz\n\nAgenda: \n5:30 PM - 5:45 PM: Check-in and I
 nformal Networking\n\n5:45 PM - 6:00 PM: Welcome and Opening Remarks (Mich
 ael Castiglia\, Nihad Bassis\, Andy Seely)\n\n6:00 PM - 6:30 PM: Cybersecu
 rity Landscape &amp; Future Trends (Gracie Pereira)\n\n6:30 PM - 7:00 PM: The 
 simple\, not-so-simple life of a Penetration Tester and Red Team Member (E
 lyson De La Cruz)\n\n7:00 PM - 7:30 PM: Hardware Side Channels with Demo (
 DRACO Lab - Franco Mezzarapa)\n\n7:45 PM - 7:50 PM: Closing Remarks and Co
 ntinuing Involvement (Michael Castiglia\, Eren Siegman\, Andy Seely)\n\n8:
 00 PM - 8:30 PM: Networking - Hosted by Women in Engineering (Sonali Das)\
 n\nRoom: 101AB\, Bldg: L3Harris Corporation Engineering Center (HEC)\, 432
 8 Scorpus St\, Orlando\, Florida\, United States\, 32816\, Virtual: https:
 //events.vtools.ieee.org/m/552721
LOCATION:Room: 101AB\, Bldg: L3Harris Corporation Engineering Center (HEC)\
 , 4328 Scorpus St\, Orlando\, Florida\, United States\, 32816\, Virtual: h
 ttps://events.vtools.ieee.org/m/552721
ORGANIZER:michael.castiglia@ucf.edu
SEQUENCE:130
SUMMARY:IEEE Tech Futures 2026: Cybersecurity Deep Dive - In Person - Orlan
 do
URL;VALUE=URI:https://events.vtools.ieee.org/m/552721
X-ALT-DESC:Description: &lt;br /&gt;&lt;p data-start=&quot;188&quot; data-end=&quot;204&quot;&gt;&lt;strong da
 ta-start=&quot;188&quot; data-end=&quot;204&quot;&gt;Description:&lt;/strong&gt;&lt;/p&gt;\n&lt;p data-start=&quot;20
 6&quot; data-end=&quot;373&quot;&gt;Join the IEEE Young Professionals (Region 3) and IEEE Co
 mputer Society for the first event in the &lt;strong data-start=&quot;304&quot; data-en
 d=&quot;342&quot;&gt;Tech Futures 2026 Deep Dive Series&lt;/strong&gt;\, focused on &lt;strong d
 ata-start=&quot;355&quot; data-end=&quot;372&quot;&gt;Cybersecurity&lt;/strong&gt;.&lt;/p&gt;\n&lt;p data-start=
 &quot;375&quot; data-end=&quot;628&quot;&gt;This hybrid event will be hosted in person in Orlando
  and streamed live for virtual attendees. It brings together experts from 
 academia\, industry\, and IEEE to share insights on emerging cybersecurity
  trends\, real-world challenges\, and future directions.&lt;/p&gt;\n&lt;p data-star
 t=&quot;630&quot; data-end=&quot;652&quot;&gt;&lt;strong data-start=&quot;630&quot; data-end=&quot;652&quot;&gt;Featured Sp
 eakers:&lt;/strong&gt;&lt;/p&gt;\n&lt;ul data-start=&quot;653&quot; data-end=&quot;915&quot;&gt;\n&lt;li data-secti
 on-id=&quot;1t14lu8&quot; data-start=&quot;653&quot; data-end=&quot;714&quot;&gt;Gracie Pereira\, VP &amp;amp\;
  Head of Cybersecurity\, DigitalNet.ai&lt;/li&gt;\n&lt;li data-section-id=&quot;13ngpav&quot;
  data-start=&quot;715&quot; data-end=&quot;841&quot;&gt;Elyson De La Cruz\, Chief Information Sec
 urity Officer\, Imagine Believe Realize\, LLC &amp;amp\; Cyber Warfare Officer
 \, USAF Reserves&lt;/li&gt;\n&lt;li data-section-id=&quot;tpflj9&quot; data-start=&quot;842&quot; data-
 end=&quot;915&quot;&gt;Franco Mezzarapa\, Offensive and Hardware Security Researcher\, 
 The DRACO Lab\, University of Central Florida (PI: Prof. Mike Borowczak)&lt;/
 li&gt;\n&lt;/ul&gt;\n&lt;p data-start=&quot;917&quot; data-end=&quot;1253&quot;&gt;&lt;strong data-start=&quot;917&quot; d
 ata-end=&quot;938&quot;&gt;About the Series:&lt;/strong&gt;&lt;br data-start=&quot;938&quot; data-end=&quot;941
 &quot;&gt;The IEEE Tech Futures 2026 Series is a region-wide initiative led by IEE
 E Region 3 Young Professionals and the Computer Society. It is designed to
  engage students\, young professionals\, and members in exploring impactfu
 l emerging technologies identified in the Computer Society Technology Pred
 ictions 2026 report.&lt;/p&gt;\n&lt;p data-start=&quot;1255&quot; data-end=&quot;1452&quot;&gt;Through a c
 ombination of virtual and locally hosted hybrid events\, this series aims 
 to strengthen collaboration\, expand technical knowledge\, and foster indu
 stry-academia engagement across Region 3.&lt;/p&gt;\n&lt;p data-start=&quot;1454&quot; data-e
 nd=&quot;1473&quot;&gt;&lt;strong data-start=&quot;1454&quot; data-end=&quot;1473&quot;&gt;Key Objectives:&lt;/stron
 g&gt;&lt;/p&gt;\n&lt;ul data-start=&quot;1474&quot; data-end=&quot;1805&quot;&gt;\n&lt;li data-section-id=&quot;md3rm
 v&quot; data-start=&quot;1474&quot; data-end=&quot;1534&quot;&gt;Explore emerging technologies and fut
 ure industry trends&lt;/li&gt;\n&lt;li data-section-id=&quot;inwra&quot; data-start=&quot;1535&quot; da
 ta-end=&quot;1621&quot;&gt;Strengthen collaboration between IEEE Young Professionals an
 d the Computer Society&lt;/li&gt;\n&lt;li data-section-id=&quot;wv6d91&quot; data-start=&quot;1622
 &quot; data-end=&quot;1680&quot;&gt;Provide accessible\, high-quality technical programming&lt;
 /li&gt;\n&lt;li data-section-id=&quot;hqfmdr&quot; data-start=&quot;1681&quot; data-end=&quot;1737&quot;&gt;Enabl
 e impactful local hybrid events across sections&lt;/li&gt;\n&lt;li data-section-id=
 &quot;17m6r96&quot; data-start=&quot;1738&quot; data-end=&quot;1805&quot;&gt;Foster industry engagement thr
 ough expert talks and discussions&lt;/li&gt;\n&lt;/ul&gt;\n&lt;p data-start=&quot;1807&quot; data-e
 nd=&quot;1895&quot;&gt;We look forward to your participation in this exciting kickoff s
 ession on cybersecurity.&lt;/p&gt;&lt;br /&gt;&lt;br /&gt;Agenda: &lt;br /&gt;&lt;p&gt;5:30 PM - 5:45 PM
 : Check-in and Informal Networking&lt;/p&gt;\n&lt;p&gt;5:45 PM - 6:00 PM: Welcome and 
 Opening Remarks (Michael Castiglia\, Nihad Bassis\, Andy Seely)&lt;/p&gt;\n&lt;p&gt;6:
 00 PM - 6:30 PM: Cybersecurity Landscape &amp;amp\; Future Trends (Gracie Pere
 ira)&lt;/p&gt;\n&lt;p&gt;6:30 PM - 7:00 PM: The simple\, not-so-simple life of a Penet
 ration Tester and Red Team Member (Elyson De La Cruz)&lt;/p&gt;\n&lt;p&gt;7:00 PM - 7:
 30 PM: Hardware Side Channels with Demo (DRACO Lab - Franco Mezzarapa)&lt;/p&gt;
 \n&lt;p&gt;7:45 PM - 7:50 PM: Closing Remarks and Continuing Involvement (Michae
 l Castiglia\, Eren Siegman\, Andy Seely)&lt;/p&gt;\n&lt;p&gt;8:00 PM - 8:30 PM: Networ
 king - Hosted by Women in Engineering (Sonali Das)&lt;/p&gt;\n&lt;p&gt;&amp;nbsp\;&lt;/p&gt;
END:VEVENT
END:VCALENDAR

