BEGIN:VCALENDAR
VERSION:2.0
PRODID:IEEE vTools.Events//EN
CALSCALE:GREGORIAN
BEGIN:VTIMEZONE
TZID:Asia/Colombo
BEGIN:DAYLIGHT
DTSTART:20380119T084407
TZOFFSETFROM:+0530
TZOFFSETTO:+0530
RRULE:FREQ=YEARLY;BYDAY=3TU;BYMONTH=1
TZNAME:+0530
END:DAYLIGHT
BEGIN:STANDARD
DTSTART:20060415T000000
TZOFFSETFROM:+0600
TZOFFSETTO:+0530
RRULE:FREQ=YEARLY;BYDAY=3SA;BYMONTH=4
TZNAME:+0530
END:STANDARD
END:VTIMEZONE
BEGIN:VEVENT
DTSTAMP:20260411T030145Z
UID:DB28A133-BE1B-4B36-9645-4018C74DED81
DTSTART;TZID=Asia/Colombo:20260409T200000
DTEND;TZID=Asia/Colombo:20260409T210000
DESCRIPTION:Date\n\n9 April 2026\n\nTime\n\n20:00 onwards (Colombo)\n\nAgen
 da: \nAgenda\n\nTime\n\nActivity\n\n20:00 - 20:10\n\nPreliminaries\n\n20:1
 0 - 20:50\n\nIndividual executive committee member reporting\n\n1. Vice Ch
 air (Chair Elect)/ Committee Chair - Professional Activities/ Section Regi
 stration\n\n2. Immediate Past Chair/ Coordinator (International Reach and 
 Conference support)\n\n3. Assistant Treasurer/ Representative (Industry Re
 lations)\n\n4. Committee Chair - Educational Activities\n\n6. Committee Ch
 air – Technical Activities\n\n6. Committee Chair - Membership Developmen
 t\n\n7. Committee Chair - Awards (Awards and Recognition)\n\n8. Committee 
 Chair - Student Activities\n\n9. Committee Chair - Student Representative\
 n\n10. Women in Engineering Representative\n\n11. Young Professionals Repr
 esentative\n\n12. SIGHT Representative\n\n13. Assistant Secretary/ Coordin
 ator (Chapter/ Subsection Coordinator)\n\n14. Representative (Editorial Ac
 tivities)\n\n15. Treasurer\n\n16. Secretary\n\n20:50 - 21:00\n\nAny other 
 matters\n\nVirtual: https://events.vtools.ieee.org/m/553074
LOCATION:Virtual: https://events.vtools.ieee.org/m/553074
ORGANIZER:s.thiruchittampalam@ieee.org
SEQUENCE:12
SUMMARY:IEEE Sri Lanka Section Executive Committee Meeting - April 2026
URL;VALUE=URI:https://events.vtools.ieee.org/m/553074
X-ALT-DESC:Description: &lt;br /&gt;&lt;div dir=&quot;ltr&quot; align=&quot;left&quot;&gt;\n&lt;table&gt;&lt;colgrou
 p&gt;&lt;col width=&quot;129&quot;&gt;&lt;col width=&quot;513&quot;&gt;&lt;/colgroup&gt;\n&lt;tbody&gt;\n&lt;tr&gt;\n&lt;td&gt;\n&lt;p d
 ir=&quot;ltr&quot;&gt;Date&lt;/p&gt;\n&lt;/td&gt;\n&lt;td colspan=&quot;3&quot;&gt;\n&lt;p dir=&quot;ltr&quot;&gt;9 April 2026&lt;/p&gt;\
 n&lt;/td&gt;\n&lt;/tr&gt;\n&lt;tr&gt;\n&lt;td&gt;\n&lt;p dir=&quot;ltr&quot;&gt;Time&lt;/p&gt;\n&lt;/td&gt;\n&lt;td colspan=&quot;3&quot;&gt;\
 n&lt;p dir=&quot;ltr&quot;&gt;20:00 onwards (Colombo)&lt;/p&gt;\n&lt;/td&gt;\n&lt;/tr&gt;\n&lt;/tbody&gt;\n&lt;/table
 &gt;\n&lt;/div&gt;\n&lt;p&gt;&amp;nbsp\;&lt;/p&gt;&lt;br /&gt;&lt;br /&gt;Agenda: &lt;br /&gt;&lt;p dir=&quot;ltr&quot;&gt;Agenda&lt;/p&gt;
 \n&lt;div dir=&quot;ltr&quot; align=&quot;left&quot;&gt;\n&lt;table style=&quot;width: 65.5367%\; height: 11
 58.67px\;&quot;&gt;&lt;colgroup&gt;&lt;col style=&quot;width: 17.1622%\;&quot; width=&quot;103&quot;&gt;&lt;col style
 =&quot;width: 82.8118%\;&quot; width=&quot;497&quot;&gt;&lt;/colgroup&gt;\n&lt;tbody&gt;\n&lt;tr style=&quot;height: 
 26.375px\;&quot;&gt;\n&lt;td style=&quot;height: 26.375px\;&quot;&gt;\n&lt;p dir=&quot;ltr&quot;&gt;Time&lt;/p&gt;\n&lt;/td
 &gt;\n&lt;td style=&quot;height: 26.375px\;&quot;&gt;\n&lt;p dir=&quot;ltr&quot;&gt;Activity&lt;/p&gt;\n&lt;/td&gt;\n&lt;/tr
 &gt;\n&lt;tr style=&quot;height: 76.7708px\;&quot;&gt;\n&lt;td style=&quot;height: 76.7708px\;&quot;&gt;\n&lt;p 
 dir=&quot;ltr&quot;&gt;20:00 - 20:10&lt;/p&gt;\n&lt;/td&gt;\n&lt;td style=&quot;height: 76.7708px\;&quot;&gt;\n&lt;p d
 ir=&quot;ltr&quot;&gt;Preliminaries&amp;nbsp\;&lt;/p&gt;\n&lt;/td&gt;\n&lt;/tr&gt;\n&lt;tr style=&quot;height: 54.375
 px\;&quot;&gt;\n&lt;td style=&quot;height: 54.375px\;&quot;&gt;\n&lt;p dir=&quot;ltr&quot;&gt;20:10 - 20:50&lt;/p&gt;\n&lt;
 /td&gt;\n&lt;td style=&quot;height: 54.375px\;&quot;&gt;\n&lt;p dir=&quot;ltr&quot;&gt;Individual executive c
 ommittee member reporting&lt;/p&gt;\n&lt;/td&gt;\n&lt;/tr&gt;\n&lt;tr style=&quot;height: 54.375px\;
 &quot;&gt;\n&lt;td style=&quot;height: 54.375px\;&quot;&gt;\n&lt;p dir=&quot;ltr&quot;&gt;&amp;nbsp\;&lt;/p&gt;\n&lt;/td&gt;\n&lt;td 
 style=&quot;height: 54.375px\;&quot;&gt;\n&lt;p dir=&quot;ltr&quot;&gt;1. &amp;nbsp\; &amp;nbsp\; Vice Chair (C
 hair Elect)/ Committee Chair - Professional Activities/ Section Registrati
 on&lt;/p&gt;\n&lt;/td&gt;\n&lt;/tr&gt;\n&lt;tr style=&quot;height: 76.7708px\;&quot;&gt;\n&lt;td style=&quot;height:
  76.7708px\;&quot;&gt;\n&lt;p dir=&quot;ltr&quot;&gt;&amp;nbsp\;&lt;/p&gt;\n&lt;/td&gt;\n&lt;td style=&quot;height: 76.770
 8px\;&quot;&gt;\n&lt;p dir=&quot;ltr&quot;&gt;2. &amp;nbsp\; &amp;nbsp\; Immediate Past Chair/ Coordinator
  (International Reach and Conference support)&lt;/p&gt;\n&lt;/td&gt;\n&lt;/tr&gt;\n&lt;tr style
 =&quot;height: 54.375px\;&quot;&gt;\n&lt;td style=&quot;height: 54.375px\;&quot;&gt;\n&lt;p dir=&quot;ltr&quot;&gt;&amp;nbs
 p\;&lt;/p&gt;\n&lt;/td&gt;\n&lt;td style=&quot;height: 54.375px\;&quot;&gt;\n&lt;p dir=&quot;ltr&quot;&gt;3. &amp;nbsp\; &amp;
 nbsp\; Assistant Treasurer/ Representative (Industry Relations)&lt;/p&gt;\n&lt;/td&gt;
 \n&lt;/tr&gt;\n&lt;tr style=&quot;height: 54.375px\;&quot;&gt;\n&lt;td style=&quot;height: 54.375px\;&quot;&gt;\
 n&lt;p dir=&quot;ltr&quot;&gt;&amp;nbsp\;&lt;/p&gt;\n&lt;/td&gt;\n&lt;td style=&quot;height: 54.375px\;&quot;&gt;\n&lt;p dir=
 &quot;ltr&quot;&gt;4. &amp;nbsp\; &amp;nbsp\; Committee Chair - Educational Activities&lt;/p&gt;\n&lt;/t
 d&gt;\n&lt;/tr&gt;\n&lt;tr style=&quot;height: 54.375px\;&quot;&gt;\n&lt;td style=&quot;height: 54.375px\;&quot;
 &gt;\n&lt;p dir=&quot;ltr&quot;&gt;&amp;nbsp\;&lt;/p&gt;\n&lt;/td&gt;\n&lt;td style=&quot;height: 54.375px\;&quot;&gt;\n&lt;p di
 r=&quot;ltr&quot;&gt;6. &amp;nbsp\; &amp;nbsp\; Committee Chair &amp;ndash\; Technical Activities&lt;/
 p&gt;\n&lt;/td&gt;\n&lt;/tr&gt;\n&lt;tr style=&quot;height: 54.375px\;&quot;&gt;\n&lt;td style=&quot;height: 54.3
 75px\;&quot;&gt;\n&lt;p dir=&quot;ltr&quot;&gt;&amp;nbsp\;&lt;/p&gt;\n&lt;/td&gt;\n&lt;td style=&quot;height: 54.375px\;&quot;&gt;
 \n&lt;p dir=&quot;ltr&quot;&gt;6. &amp;nbsp\; &amp;nbsp\; Committee Chair - Membership Development
 &lt;/p&gt;\n&lt;/td&gt;\n&lt;/tr&gt;\n&lt;tr style=&quot;height: 54.375px\;&quot;&gt;\n&lt;td style=&quot;height: 54
 .375px\;&quot;&gt;\n&lt;p dir=&quot;ltr&quot;&gt;&amp;nbsp\;&lt;/p&gt;\n&lt;/td&gt;\n&lt;td style=&quot;height: 54.375px\;
 &quot;&gt;\n&lt;p dir=&quot;ltr&quot;&gt;7. &amp;nbsp\; &amp;nbsp\; Committee Chair - Awards (Awards and R
 ecognition)&lt;/p&gt;\n&lt;/td&gt;\n&lt;/tr&gt;\n&lt;tr style=&quot;height: 54.375px\;&quot;&gt;\n&lt;td style=
 &quot;height: 54.375px\;&quot;&gt;\n&lt;p dir=&quot;ltr&quot;&gt;&amp;nbsp\;&lt;/p&gt;\n&lt;/td&gt;\n&lt;td style=&quot;height:
  54.375px\;&quot;&gt;\n&lt;p dir=&quot;ltr&quot;&gt;8. &amp;nbsp\; &amp;nbsp\; Committee Chair - Student A
 ctivities&lt;/p&gt;\n&lt;/td&gt;\n&lt;/tr&gt;\n&lt;tr style=&quot;height: 54.375px\;&quot;&gt;\n&lt;td style=&quot;h
 eight: 54.375px\;&quot;&gt;\n&lt;p dir=&quot;ltr&quot;&gt;&amp;nbsp\;&lt;/p&gt;\n&lt;/td&gt;\n&lt;td style=&quot;height: 5
 4.375px\;&quot;&gt;\n&lt;p dir=&quot;ltr&quot;&gt;9. &amp;nbsp\; &amp;nbsp\; Committee Chair - Student Rep
 resentative&lt;/p&gt;\n&lt;/td&gt;\n&lt;/tr&gt;\n&lt;tr style=&quot;height: 54.375px\;&quot;&gt;\n&lt;td style=
 &quot;height: 54.375px\;&quot;&gt;\n&lt;p dir=&quot;ltr&quot;&gt;&amp;nbsp\;&lt;/p&gt;\n&lt;/td&gt;\n&lt;td style=&quot;height:
  54.375px\;&quot;&gt;\n&lt;p dir=&quot;ltr&quot;&gt;10.&amp;nbsp\; Women in Engineering Representative
 &lt;/p&gt;\n&lt;/td&gt;\n&lt;/tr&gt;\n&lt;tr style=&quot;height: 54.375px\;&quot;&gt;\n&lt;td style=&quot;height: 54
 .375px\;&quot;&gt;\n&lt;p dir=&quot;ltr&quot;&gt;&amp;nbsp\;&lt;/p&gt;\n&lt;/td&gt;\n&lt;td style=&quot;height: 54.375px\;
 &quot;&gt;\n&lt;p dir=&quot;ltr&quot;&gt;11.&amp;nbsp\; Young Professionals Representative&lt;/p&gt;\n&lt;/td&gt;\
 n&lt;/tr&gt;\n&lt;tr style=&quot;height: 54.375px\;&quot;&gt;\n&lt;td style=&quot;height: 54.375px\;&quot;&gt;\n
 &lt;p dir=&quot;ltr&quot;&gt;&amp;nbsp\;&lt;/p&gt;\n&lt;/td&gt;\n&lt;td style=&quot;height: 54.375px\;&quot;&gt;\n&lt;p dir=&quot;
 ltr&quot;&gt;12.&amp;nbsp\; SIGHT Representative&lt;/p&gt;\n&lt;/td&gt;\n&lt;/tr&gt;\n&lt;tr style=&quot;height:
  54.375px\;&quot;&gt;\n&lt;td style=&quot;height: 54.375px\;&quot;&gt;\n&lt;p dir=&quot;ltr&quot;&gt;&amp;nbsp\;&lt;/p&gt;\n
 &lt;/td&gt;\n&lt;td style=&quot;height: 54.375px\;&quot;&gt;\n&lt;p dir=&quot;ltr&quot;&gt;13.&amp;nbsp\; Assistant 
 Secretary/ Coordinator (Chapter/ Subsection Coordinator)&lt;/p&gt;\n&lt;/td&gt;\n&lt;/tr&gt;
 \n&lt;tr style=&quot;height: 54.375px\;&quot;&gt;\n&lt;td style=&quot;height: 54.375px\;&quot;&gt;\n&lt;p dir
 =&quot;ltr&quot;&gt;&amp;nbsp\;&lt;/p&gt;\n&lt;/td&gt;\n&lt;td style=&quot;height: 54.375px\;&quot;&gt;\n&lt;p dir=&quot;ltr&quot;&gt;1
 4.&amp;nbsp\; Representative (Editorial Activities)&lt;/p&gt;\n&lt;/td&gt;\n&lt;/tr&gt;\n&lt;tr sty
 le=&quot;height: 54.375px\;&quot;&gt;\n&lt;td style=&quot;height: 54.375px\;&quot;&gt;\n&lt;p dir=&quot;ltr&quot;&gt;&amp;n
 bsp\;&lt;/p&gt;\n&lt;/td&gt;\n&lt;td style=&quot;height: 54.375px\;&quot;&gt;\n&lt;p dir=&quot;ltr&quot;&gt;15.&amp;nbsp\;
  Treasurer&lt;/p&gt;\n&lt;/td&gt;\n&lt;/tr&gt;\n&lt;tr style=&quot;height: 54.375px\;&quot;&gt;\n&lt;td style=&quot;
 height: 54.375px\;&quot;&gt;\n&lt;p dir=&quot;ltr&quot;&gt;&amp;nbsp\;&lt;/p&gt;\n&lt;/td&gt;\n&lt;td style=&quot;height: 
 54.375px\;&quot;&gt;\n&lt;p dir=&quot;ltr&quot;&gt;16.&amp;nbsp\; Secretary&lt;/p&gt;\n&lt;/td&gt;\n&lt;/tr&gt;\n&lt;tr sty
 le=&quot;height: 54.375px\;&quot;&gt;\n&lt;td style=&quot;height: 54.375px\;&quot;&gt;\n&lt;p dir=&quot;ltr&quot;&gt;20
 :50 - 21:00&lt;/p&gt;\n&lt;/td&gt;\n&lt;td style=&quot;height: 54.375px\;&quot;&gt;\n&lt;p dir=&quot;ltr&quot;&gt;Any 
 other matters&lt;/p&gt;\n&lt;/td&gt;\n&lt;/tr&gt;\n&lt;/tbody&gt;\n&lt;/table&gt;\n&lt;/div&gt;\n&lt;p&gt;&amp;nbsp\;&lt;/p
 &gt;
END:VEVENT
END:VCALENDAR

