BEGIN:VCALENDAR
VERSION:2.0
PRODID:IEEE vTools.Events//EN
CALSCALE:GREGORIAN
BEGIN:VTIMEZONE
TZID:America/New_York
BEGIN:DAYLIGHT
DTSTART:20260308T030000
TZOFFSETFROM:-0500
TZOFFSETTO:-0400
RRULE:FREQ=YEARLY;BYDAY=2SU;BYMONTH=3
TZNAME:EDT
END:DAYLIGHT
BEGIN:STANDARD
DTSTART:20261101T010000
TZOFFSETFROM:-0400
TZOFFSETTO:-0500
RRULE:FREQ=YEARLY;BYDAY=1SU;BYMONTH=11
TZNAME:EST
END:STANDARD
END:VTIMEZONE
BEGIN:VEVENT
DTSTAMP:20260420T012944Z
UID:65753E91-BEF4-4154-A62C-CE8040235F24
DTSTART;TZID=America/New_York:20260425T083000
DTEND;TZID=America/New_York:20260425T120000
DESCRIPTION:As part of the annual Drone Safety Day initiative led by the Fe
 deral Aviation Administration\, this event aims to educate students\, dron
 e enthusiasts\, and professionals on safe and responsible drone operations
 .\n\nWith the 2026 theme “Fly Right”\, this workshop focuses on promot
 ing awareness of drone safety—especially around critical infrastructure 
 such as power lines and substations.\n\nHosted at the University of North 
 Carolina at Charlotte in collaboration with the Electric Power Research In
 stitute (EPRI) and Duke Energy\, this event brings together experts from a
 viation\, utilities\, and public safety to provide both technical knowledg
 e and practical insights.\n\nParticipants will gain understanding of:\n\n-
  FAA regulations and safe drone operating practices\n- Airspace awareness 
 and compliance tools\n- Identification of power grid infrastructure and as
 sociated risks\n- Why flying near electrical equipment can be dangerous\n-
  Pre-flight and post-flight safety procedures\n- Real-world applications o
 f drones in utility operations\n\nA key highlight of the event is an inter
 active panel discussion featuring representatives from the FAA\, utility i
 ndustry\, and Law enforcement. Attendees will have the opportunity to ask 
 questions directly to experts and gain insights into real-world drone oper
 ations and safety challenges.\n\nThe event also includes a live outdoor dr
 one demonstration\, where participants will observe:\n\n- Pre-flight safet
 y checks\n- Safe flight operations\n- Emergency procedures\n- Post-flight 
 best practices\n\nWhether you are a beginner\, hobbyist\, student\, or pro
 fessional drone operator\, this event will provide valuable knowledge to h
 elp you fly safely\, responsibly\, and confidently.\n\nCo-sponsored by: EP
 RI\, Duke Energy\, and UNC Charlotte\n\nAgenda: \nDrone Safety Day 2026 
 – Agenda\n\nBldg: Energy Production &amp; Infrastructure Center (EPIC)\, 870
 0 Phillips Rd\, Charlotte\, North Carolina\, United States\, 28223
LOCATION:Bldg: Energy Production &amp; Infrastructure Center (EPIC)\, 8700 Phil
 lips Rd\, Charlotte\, North Carolina\, United States\, 28223
ORGANIZER:sunny.b@ieee.org
SEQUENCE:41
SUMMARY:Drone Safety Day 2026: FLY RIGHT Around Electrical Infrastructure
URL;VALUE=URI:https://events.vtools.ieee.org/m/553406
X-ALT-DESC:Description: &lt;br /&gt;&lt;p data-start=&quot;157&quot; data-end=&quot;372&quot;&gt;As part of
  the annual Drone Safety Day initiative led by the &lt;span class=&quot;hover:enti
 ty-accent entity-underline inline cursor-pointer align-baseline&quot;&gt;&lt;span cla
 ss=&quot;whitespace-normal&quot;&gt;Federal Aviation Administration&lt;/span&gt;&lt;/span&gt;\, thi
 s event aims to educate students\, drone enthusiasts\, and professionals o
 n safe and responsible drone operations.&lt;/p&gt;\n&lt;p data-start=&quot;374&quot; data-end
 =&quot;554&quot;&gt;With the 2026 theme &lt;strong data-start=&quot;394&quot; data-end=&quot;409&quot;&gt;&amp;ldquo\
 ;Fly Right&amp;rdquo\;&lt;/strong&gt;\, this workshop focuses on promoting awareness
  of drone safety&amp;mdash\;especially around &lt;strong data-start=&quot;490&quot; data-en
 d=&quot;553&quot;&gt;critical infrastructure such as power lines and substations&lt;/stron
 g&gt;.&lt;/p&gt;\n&lt;p data-start=&quot;556&quot; data-end=&quot;837&quot;&gt;Hosted at the &lt;span class=&quot;hov
 er:entity-accent entity-underline inline cursor-pointer align-baseline&quot;&gt;&lt;s
 pan class=&quot;whitespace-normal&quot;&gt;University of North Carolina at Charlotte&lt;/s
 pan&gt;&lt;/span&gt; in collaboration with the &lt;span class=&quot;hover:entity-accent ent
 ity-underline inline cursor-pointer align-baseline&quot;&gt;&lt;span class=&quot;whitespac
 e-normal&quot;&gt;Electric Power Research Institute (EPRI)&lt;/span&gt;&lt;/span&gt; and Duke 
 Energy\, this event brings together experts from aviation\, utilities\, an
 d public safety to provide both&amp;nbsp\;&lt;strong data-start=&quot;790&quot; data-end=&quot;8
 36&quot;&gt;technical knowledge and practical insights&lt;/strong&gt;.&lt;/p&gt;\n&lt;p data-star
 t=&quot;839&quot; data-end=&quot;879&quot;&gt;Participants will gain understanding of:&lt;/p&gt;\n&lt;ul d
 ata-start=&quot;881&quot; data-end=&quot;1215&quot;&gt;\n&lt;li data-section-id=&quot;5frsj8&quot; data-start=
 &quot;881&quot; data-end=&quot;935&quot;&gt;FAA regulations and safe drone operating practices&lt;/l
 i&gt;\n&lt;li data-section-id=&quot;qey6m8&quot; data-start=&quot;936&quot; data-end=&quot;979&quot;&gt;Airspace 
 awareness and compliance tools&lt;/li&gt;\n&lt;li data-section-id=&quot;y76oio&quot; data-sta
 rt=&quot;980&quot; data-end=&quot;1048&quot;&gt;Identification of power grid infrastructure and a
 ssociated risks&lt;/li&gt;\n&lt;li data-section-id=&quot;d9dbp4&quot; data-start=&quot;1049&quot; data-
 end=&quot;1106&quot;&gt;Why flying near electrical equipment can be dangerous&lt;/li&gt;\n&lt;li
  data-section-id=&quot;a7jlq&quot; data-start=&quot;1107&quot; data-end=&quot;1155&quot;&gt;Pre-flight and 
 post-flight safety procedures&lt;/li&gt;\n&lt;li data-section-id=&quot;o67t19&quot; data-star
 t=&quot;1156&quot; data-end=&quot;1215&quot;&gt;Real-world applications of drones in utility oper
 ations&lt;/li&gt;\n&lt;/ul&gt;\n&lt;p data-start=&quot;1217&quot; data-end=&quot;1521&quot;&gt;A key highlight o
 f the event is an &lt;strong data-start=&quot;1252&quot; data-end=&quot;1284&quot;&gt;interactive pa
 nel discussion&lt;/strong&gt; featuring representatives from the FAA\, utility i
 ndustry\, and Law enforcement. Attendees will have the opportunity to&amp;nbsp
 \;&lt;strong data-start=&quot;1410&quot; data-end=&quot;1447&quot;&gt;ask questions directly to expe
 rts&lt;/strong&gt; and gain insights into real-world drone operations and safety
  challenges.&lt;/p&gt;\n&lt;p data-start=&quot;1523&quot; data-end=&quot;1619&quot;&gt;The event also incl
 udes a &lt;strong data-start=&quot;1549&quot; data-end=&quot;1585&quot;&gt;live outdoor drone demons
 tration&lt;/strong&gt;\, where participants will observe:&lt;/p&gt;\n&lt;ul data-start=&quot;1
 621&quot; data-end=&quot;1732&quot;&gt;\n&lt;li data-section-id=&quot;1vir7yr&quot; data-start=&quot;1621&quot; dat
 a-end=&quot;1649&quot;&gt;Pre-flight safety checks&lt;/li&gt;\n&lt;li data-section-id=&quot;1hkatmv&quot; 
 data-start=&quot;1650&quot; data-end=&quot;1676&quot;&gt;Safe flight operations&lt;/li&gt;\n&lt;li data-se
 ction-id=&quot;4hs55r&quot; data-start=&quot;1677&quot; data-end=&quot;1701&quot;&gt;Emergency procedures&lt;/
 li&gt;\n&lt;li data-section-id=&quot;1qkz7al&quot; data-start=&quot;1702&quot; data-end=&quot;1732&quot;&gt;Post-
 flight best practices&lt;/li&gt;\n&lt;/ul&gt;\n&lt;p data-start=&quot;1734&quot; data-end=&quot;1913&quot;&gt;Wh
 ether you are a beginner\, hobbyist\, student\, or professional drone oper
 ator\, this event will provide valuable knowledge to help you &lt;strong data
 -start=&quot;1868&quot; data-end=&quot;1912&quot;&gt;fly safely\, responsibly\, and confidently&lt;/
 strong&gt;.&lt;/p&gt;\n&lt;p data-start=&quot;1734&quot; data-end=&quot;1913&quot;&gt;&lt;img src=&quot;https://event
 s.vtools.ieee.org/vtools_ui/media/display/42af6ac9-d3f6-49e9-9321-448781f7
 18fa&quot; width=&quot;558&quot; height=&quot;744&quot;&gt;&lt;/p&gt;\n&lt;p data-start=&quot;1734&quot; data-end=&quot;1913&quot;&gt;
 &amp;nbsp\;&lt;/p&gt;&lt;br /&gt;&lt;br /&gt;Agenda: &lt;br /&gt;&lt;h2 data-section-id=&quot;nvfaqy&quot; data-sta
 rt=&quot;244&quot; data-end=&quot;277&quot;&gt;Drone Safety Day 2026 &amp;ndash\; Agenda&lt;/h2&gt;\n&lt;div c
 lass=&quot;TyagGW_tableContainer&quot;&gt;\n&lt;div class=&quot;group TyagGW_tableWrapper flex 
 flex-col-reverse w-fit&quot; tabindex=&quot;-1&quot;&gt;&lt;img src=&quot;https://events.vtools.ieee
 .org/vtools_ui/media/display/a6a97621-c5c7-4649-9f07-6ed96f4dc7f0&quot; width=&quot;
 652&quot; height=&quot;385&quot;&gt;&lt;/div&gt;\n&lt;/div&gt;
END:VEVENT
END:VCALENDAR

