BEGIN:VCALENDAR
VERSION:2.0
PRODID:IEEE vTools.Events//EN
CALSCALE:GREGORIAN
BEGIN:VTIMEZONE
TZID:America/Chicago
BEGIN:DAYLIGHT
DTSTART:20260308T030000
TZOFFSETFROM:-0600
TZOFFSETTO:-0500
RRULE:FREQ=YEARLY;BYDAY=2SU;BYMONTH=3
TZNAME:CDT
END:DAYLIGHT
BEGIN:STANDARD
DTSTART:20261101T010000
TZOFFSETFROM:-0500
TZOFFSETTO:-0600
RRULE:FREQ=YEARLY;BYDAY=1SU;BYMONTH=11
TZNAME:CST
END:STANDARD
END:VTIMEZONE
BEGIN:VEVENT
DTSTAMP:20260416T204238Z
UID:256008F0-08F8-4D2F-831B-755222A4F7F1
DTSTART;TZID=America/Chicago:20260415T173000
DTEND;TZID=America/Chicago:20260415T183000
DESCRIPTION:Join us for a beginner-friendly introduction to Linux\, explori
 ng its history\, core principles\, and evolution into a powerful open-sour
 ce operating system. This crash course will teach you an easy way to use L
 inux via WSL. You will also learn about real-world applications of Linux i
 n servers\, cybersecurity\, and cloud computing\, and how to get started.\
 n\nDenton\, Texas\, United States
LOCATION:Denton\, Texas\, United States
ORGANIZER:julian.ac.cruz@outlook.com
SEQUENCE:123
SUMMARY:Linux CrashCourse
URL;VALUE=URI:https://events.vtools.ieee.org/m/553600
X-ALT-DESC:Description: &lt;br /&gt;&lt;p data-pm-slice=&quot;0 0 []&quot;&gt;Join us for a begin
 ner-friendly introduction to Linux\, exploring its history\, core principl
 es\, and evolution into a powerful open-source operating system. This cras
 h course will teach you an easy way to use Linux via WSL. You will also le
 arn about real-world applications of Linux in servers\, cybersecurity\, an
 d cloud computing\, and how to get started.&lt;/p&gt;
END:VEVENT
END:VCALENDAR

