BEGIN:VCALENDAR
VERSION:2.0
PRODID:IEEE vTools.Events//EN
CALSCALE:GREGORIAN
BEGIN:VTIMEZONE
TZID:America/Argentina/Buenos_Aires
BEGIN:DAYLIGHT
DTSTART:20380119T001407
TZOFFSETFROM:-0300
TZOFFSETTO:-0300
RRULE:FREQ=YEARLY;BYDAY=3TU;BYMONTH=1
TZNAME:-03
END:DAYLIGHT
BEGIN:STANDARD
DTSTART:20090314T230000
TZOFFSETFROM:-0200
TZOFFSETTO:-0300
RRULE:FREQ=YEARLY;BYDAY=2SA;BYMONTH=3
TZNAME:-03
END:STANDARD
END:VTIMEZONE
BEGIN:VEVENT
DTSTAMP:20260415T221326Z
UID:DA3218AA-664F-4F3B-87A6-8D0CAE89B93F
DTSTART;TZID=America/Argentina/Buenos_Aires:20260513T090000
DTEND;TZID=America/Argentina/Buenos_Aires:20260515T190000
DESCRIPTION:Nos es grato anunciarles que el XXI Taller de Óptica y Fotóni
 ca (TOPFOT)\, y el XVI Encuentro de Estudiantes de Óptica y Fotónica (EE
 OF) se llevarán a cabo en la Facultad de Ciencias Exactas y Naturales de 
 la Universidad de Buenos Aires (FCEyN - UBA) entre el 13 y 15 de mayo de 2
 026. Este año el EEOF TOPFOT se enfocará en un eje estratégico: la indu
 stria fotónica\, el emprendedurismo y la transferencia desde el sector ci
 entífico-tecnológico. Un espacio para conectar la investigación cientí
 fica con el desarrollo social y productivo.\n\nEl encuentro se desarrollar
 á en tres jornadas temáticas. En una de ellas se presentarán los proyec
 tos finalistas y se premiarán los equipos ganadores del concurso TOPFOT C
 rea. Este concurso\, que se está llevando a cabo con la participación de
  13 excelentes proyectos\, ya inició con un entrenamiento de 6 encuentros
  co-organizado junto a CITES\, orientado a entender diversos aspectos de l
 as empresas de base tecnológica de deep tech. Durante el EEOF se dará un
  entrenamiento express para quienes no hayan participado de la competencia
 .\n\nDurante las demás jornadas habrá testimonios de empresas\, cámaras
  e instituciones con casos éxito de transferencia y desarrollo en fotóni
 ca\, análisis de estrategias regionales y sectoriales\, propiedad intelec
 tual\, política científico-tecnológica\, con la participación de docen
 tes\, investigadorxs\, emprendedorxs\, gestorxs y funcionarixs del sistema
  científico-tecnológico nacional y regional.\n\nEn el siguiente link [EE
 OF TOPFOT 2026](https://forms.gle/gRzhL7cV8Cv8BV2LA) lxs invitamos a reali
 zar la inscripción a esta edición del evento\, la cual estará abierta h
 asta el lunes 20 de abril de 2026 inclusive. Como todos los años\, se int
 entará otorgar ayudas económicas para alojamiento\, traslados y almuerzo
 s. La fecha límite de inscripción para quienes deseen obtener el apoyo e
 conómico es el lunes 20 de abril de 2026 inclusive. El otorgamiento y niv
 el de cobertura de las ayudas será informado el miércoles 22 de abril de
  2026. La fecha límite para la presentación de resúmenes es el lunes 27
  de abril de 2026 inclusive. Ante cualquier duda o consulta\, comunicarse 
 al correo eeoftopfot@gmail.com.\n\nToda la información de este evento pod
 rán encontrarla en la página web del [EEOF TOPFOT 2026](https://sites.go
 ogle.com/view/topfoteeof2026/inicio).\n\nRoom: Aula 1401 \, Bldg: Pabelló
 n 0+inf\, Intendente Güiraldes 2160\, CABA\, Buenos Aires\, Argentina\, 1
 428
LOCATION:Room: Aula 1401 \, Bldg: Pabellón 0+inf\, Intendente Güiraldes 2
 160\, CABA\, Buenos Aires\, Argentina\, 1428
ORGANIZER:camilaborrazas5@gmail.com
SEQUENCE:56
SUMMARY:TOPFOT-EEOF 2026
URL;VALUE=URI:https://events.vtools.ieee.org/m/553754
X-ALT-DESC:Description: &lt;br /&gt;&lt;p&gt;Nos es grato anunciarles que el XXI Taller
  de &amp;Oacute\;ptica y Fot&amp;oacute\;nica (TOPFOT)\, y el XVI Encuentro de Est
 udiantes de &amp;Oacute\;ptica y Fot&amp;oacute\;nica (EEOF) se llevar&amp;aacute\;n a
  cabo en la Facultad de Ciencias Exactas y Naturales de la Universidad de 
 Buenos Aires (FCEyN - UBA) entre el 13 y 15 de mayo de 2026. Este a&amp;ntilde
 \;o el EEOF TOPFOT se enfocar&amp;aacute\; en un eje estrat&amp;eacute\;gico: la i
 ndustria fot&amp;oacute\;nica\, el emprendedurismo y la transferencia desde el
  sector cient&amp;iacute\;fico-tecnol&amp;oacute\;gico. Un espacio para conectar l
 a investigaci&amp;oacute\;n cient&amp;iacute\;fica con el desarrollo social y prod
 uctivo.&lt;/p&gt;\n&lt;p&gt;El encuentro se desarrollar&amp;aacute\; en tres jornadas tem&amp;
 aacute\;ticas. En una de ellas se presentar&amp;aacute\;n los proyectos finali
 stas y se premiar&amp;aacute\;n los equipos ganadores del concurso TOPFOT Crea
 . Este concurso\, que se est&amp;aacute\; llevando a cabo con la participaci&amp;o
 acute\;n de 13 excelentes proyectos\, ya inici&amp;oacute\; con un entrenamien
 to de 6 encuentros co-organizado junto a CITES\, orientado a entender dive
 rsos aspectos de las empresas de base tecnol&amp;oacute\;gica de deep tech. Du
 rante el EEOF se dar&amp;aacute\; un entrenamiento express para quienes no hay
 an participado de la competencia.&lt;/p&gt;\n&lt;p&gt;Durante las dem&amp;aacute\;s jornad
 as habr&amp;aacute\; testimonios de empresas\, c&amp;aacute\;maras e instituciones
  con casos &amp;eacute\;xito de transferencia y desarrollo en fot&amp;oacute\;nica
 \, an&amp;aacute\;lisis de estrategias regionales y sectoriales\, propiedad in
 telectual\, pol&amp;iacute\;tica cient&amp;iacute\;fico-tecnol&amp;oacute\;gica\, con 
 la participaci&amp;oacute\;n de docentes\, investigadorxs\, emprendedorxs\, ge
 storxs y funcionarixs del sistema cient&amp;iacute\;fico-tecnol&amp;oacute\;gico n
 acional y regional.&lt;/p&gt;\n&lt;p&gt;En el siguiente link &lt;a href=&quot;https://forms.gl
 e/gRzhL7cV8Cv8BV2LA&quot;&gt;EEOF TOPFOT 2026&lt;/a&gt; lxs invitamos a realizar la insc
 ripci&amp;oacute\;n a esta edici&amp;oacute\;n del evento\, la cual estar&amp;aacute\;
  abierta hasta el lunes 20 de abril de 2026 inclusive. Como todos los a&amp;nt
 ilde\;os\, se intentar&amp;aacute\; otorgar ayudas econ&amp;oacute\;micas para alo
 jamiento\, traslados y almuerzos. La fecha l&amp;iacute\;mite de inscripci&amp;oac
 ute\;n para quienes deseen obtener el apoyo econ&amp;oacute\;mico es el lunes 
 20 de abril de 2026 inclusive. El otorgamiento y nivel de cobertura de las
  ayudas ser&amp;aacute\; informado el mi&amp;eacute\;rcoles 22 de abril de 2026. L
 a fecha l&amp;iacute\;mite para la presentaci&amp;oacute\;n de res&amp;uacute\;menes e
 s el lunes 27 de abril de 2026 inclusive. Ante cualquier duda o consulta\,
  comunicarse al correo &lt;a href=&quot;mailto:eeoftopfot@gmail.com&quot;&gt;eeoftopfot@gm
 ail.com&lt;/a&gt;.&lt;/p&gt;\n&lt;p&gt;Toda la informaci&amp;oacute\;n de este evento podr&amp;aacut
 e\;n encontrarla en la p&amp;aacute\;gina web del &lt;a href=&quot;https://sites.googl
 e.com/view/topfoteeof2026/inicio&quot;&gt;EEOF TOPFOT 2026&lt;/a&gt;.&lt;/p&gt;\n&lt;p&gt;&lt;img src=&quot;
 https://events.vtools.ieee.org/vtools_ui/media/display/d4ba5087-edad-4bff-
 a321-5c20a6f3e360&quot; width=&quot;532&quot; height=&quot;666&quot;&gt;&lt;/p&gt;
END:VEVENT
END:VCALENDAR

