BEGIN:VCALENDAR
VERSION:2.0
PRODID:IEEE vTools.Events//EN
CALSCALE:GREGORIAN
BEGIN:VTIMEZONE
TZID:America/Denver
BEGIN:DAYLIGHT
DTSTART:20260308T030000
TZOFFSETFROM:-0700
TZOFFSETTO:-0600
RRULE:FREQ=YEARLY;BYDAY=2SU;BYMONTH=3
TZNAME:MDT
END:DAYLIGHT
BEGIN:STANDARD
DTSTART:20261101T010000
TZOFFSETFROM:-0600
TZOFFSETTO:-0700
RRULE:FREQ=YEARLY;BYDAY=1SU;BYMONTH=11
TZNAME:MST
END:STANDARD
END:VTIMEZONE
BEGIN:VEVENT
DTSTAMP:20260409T210807Z
UID:10438482-728E-4C2A-A934-5095375E54A2
DTSTART;TZID=America/Denver:20260507T170000
DTEND;TZID=America/Denver:20260507T200000
DESCRIPTION:Social event for all\, but especially graduating seniors\n\nFor
 t Collins\, Colorado\, United States\, 80525
LOCATION:Fort Collins\, Colorado\, United States\, 80525
ORGANIZER:rtoftness@gmail.com
SEQUENCE:5
SUMMARY:Grip n&#39; Greet\,
URL;VALUE=URI:https://events.vtools.ieee.org/m/553946
X-ALT-DESC:Description: &lt;br /&gt;&lt;p&gt;Social event for all\, but especially grad
 uating seniors&lt;/p&gt;
END:VEVENT
END:VCALENDAR

