BEGIN:VCALENDAR
VERSION:2.0
PRODID:IEEE vTools.Events//EN
CALSCALE:GREGORIAN
BEGIN:VTIMEZONE
TZID:America/Denver
BEGIN:DAYLIGHT
DTSTART:20260308T030000
TZOFFSETFROM:-0700
TZOFFSETTO:-0600
RRULE:FREQ=YEARLY;BYDAY=2SU;BYMONTH=3
TZNAME:MDT
END:DAYLIGHT
BEGIN:STANDARD
DTSTART:20261101T010000
TZOFFSETFROM:-0600
TZOFFSETTO:-0700
RRULE:FREQ=YEARLY;BYDAY=1SU;BYMONTH=11
TZNAME:MST
END:STANDARD
END:VTIMEZONE
BEGIN:VEVENT
DTSTAMP:20260409T211805Z
UID:AF19AC9D-B31E-4244-AAB2-18D946FCCA85
DTSTART;TZID=America/Denver:20260716T180000
DTEND;TZID=America/Denver:20260716T203000
DESCRIPTION:A presentation on using AI tools in the workflow of engineering
  design\n\nMore details in the future\n\nFort Collins\, Colorado\, United 
 States\, 80525
LOCATION:Fort Collins\, Colorado\, United States\, 80525
ORGANIZER:rtoftness@gmail.com
SEQUENCE:8
SUMMARY:AI-tools in the Engineering Workflow\,
URL;VALUE=URI:https://events.vtools.ieee.org/m/553951
X-ALT-DESC:Description: &lt;br /&gt;&lt;p&gt;A presentation on using AI tools in the wo
 rkflow of engineering design&lt;/p&gt;\n&lt;p&gt;More details in the future&lt;/p&gt;
END:VEVENT
END:VCALENDAR

