BEGIN:VCALENDAR
VERSION:2.0
PRODID:IEEE vTools.Events//EN
CALSCALE:GREGORIAN
BEGIN:VTIMEZONE
TZID:America/Denver
BEGIN:DAYLIGHT
DTSTART:20260308T030000
TZOFFSETFROM:-0700
TZOFFSETTO:-0600
RRULE:FREQ=YEARLY;BYDAY=2SU;BYMONTH=3
TZNAME:MDT
END:DAYLIGHT
BEGIN:STANDARD
DTSTART:20261101T010000
TZOFFSETFROM:-0600
TZOFFSETTO:-0700
RRULE:FREQ=YEARLY;BYDAY=1SU;BYMONTH=11
TZNAME:MST
END:STANDARD
END:VTIMEZONE
BEGIN:VEVENT
DTSTAMP:20260411T204229Z
UID:DF3DCD68-DD76-4CD6-8972-EE7AC410E02E
DTSTART;TZID=America/Denver:20260427T180000
DTEND;TZID=America/Denver:20260427T191500
DESCRIPTION:Join us for an evening of recognition\, mentorship\, hands-on l
 earning\, and community connection at the next IEEE Pikes Peak Section STE
 AM-TEAMS Monthly Meeting.\n\nMonday\, April 27\, 2026\n6:00 PM – 7:15 PM
 \n21st Century Library. ENT Conference Room\n1175 Chapel Hills Drive\nColo
 rado Springs\, CO 80920\n\n[]\n\nThis month’s meeting is a special oppor
 tunity to bring together IEEE members\, student members\, families\, guest
 s\, and past and present volunteers for an evening of learning\, recogniti
 on\, and community connection.\n\nWe will be recognizing our 2025 STEAM-TE
 AMS participants with challenge coins as a small token of appreciation for
  the time\, service\, and encouragement they have given to others through 
 STEM and STEAM outreach.\n\nWe will also share a brief Light Snap Circuits
  demonstration as a fun introduction to photonics\, along with updates con
 nected to the Cool Science Festival and Fair.\n\nThis gathering reflects s
 omething we deeply value in the IEEE Pikes Peak Section: building not only
  programs\, but people. Through mentorship\, hands-on learning\, and commu
 nity engagement\, we continue working to make leadership more welcoming\, 
 more visible\, and more meaningful for the next generation.\n\nIf you are 
 interested in:\n\n- STEM and STEAM activities\n- mentoring students and yo
 ung professionals\n- family-friendly engineering outreach\n- growing leade
 rship through service and encouragement\n\nwe would be glad to have you jo
 in us.\n\nWebsite: https://r5.ieee.org/pikespeak\n\n#IEEE #IEEEPikesPeakSe
 ction #STEAMTEAMS #STEM #STEAM #Mentorship #Photonics #EngineeringEducatio
 n #FamilyFriendly #VolunteerLeadership #CoolScience\n\nSpeaker(s): John\, 
 \n\nAgenda: \n- Introductions\n- Presentation to Entry-Level Challenge Coi
 ns to S.T.A.R. (STEAM TEAMS Ambassadors for Outreach) Mentors/Volunteers (
 [Achieving Region 5 Priorities: Leadership Force Multiplier to Scale Leade
 rship Capacity | IEEE Pikes Peak Section](https://r5.ieee.org/pikespeak/le
 adership-multiplier/#1772463897417-cf469292-ee94))\n- Cool Science Support
  (https://coolscience.org) and Sample SNAP Circuits Demos/Phet Simulations
  ([PhET Demos Photonics | IEEE Pikes Peak Section](https://r5.ieee.org/pik
 espeak/phet-demos-photonics/)) and Collaboration.\n\nRoom: ENT Conference 
 Room\, Bldg: 21st Century Library\, 1175 Chapel Hills Drive\, Colorado Spr
 ings\, Colorado\, United States\, 80920
LOCATION:Room: ENT Conference Room\, Bldg: 21st Century Library\, 1175 Chap
 el Hills Drive\, Colorado Springs\, Colorado\, United States\, 80920
ORGANIZER:john.santiago@ieee.org
SEQUENCE:52
SUMMARY:April STEAM TEAMS Meeting: Challenge Coin Recognition and Sample Li
 ght Snap Circuits Demos (Photonics)
URL;VALUE=URI:https://events.vtools.ieee.org/m/554342
X-ALT-DESC:Description: &lt;br /&gt;&lt;p&gt;Join us for an evening of recognition\, me
 ntorship\, hands-on learning\, and community connection at the next &lt;stron
 g&gt;IEEE Pikes Peak Section STEAM-TEAMS Monthly Meeting&lt;/strong&gt;.&lt;/p&gt;\n&lt;p da
 ta-start=&quot;144&quot; data-end=&quot;284&quot;&gt;&lt;strong data-start=&quot;144&quot; data-end=&quot;170&quot;&gt;Mond
 ay\, April 27\, 2026&lt;/strong&gt;&lt;br data-start=&quot;170&quot; data-end=&quot;173&quot;&gt;&lt;strong d
 ata-start=&quot;173&quot; data-end=&quot;194&quot;&gt;6:00 PM &amp;ndash\; 7:15 PM&lt;/strong&gt;&lt;br data-s
 tart=&quot;194&quot; data-end=&quot;197&quot;&gt;&lt;strong data-start=&quot;197&quot; data-end=&quot;221&quot;&gt;21st Cen
 tury Library. ENT Conference Room&lt;/strong&gt;&lt;br data-start=&quot;221&quot; data-end=&quot;2
 24&quot;&gt;&lt;strong data-start=&quot;224&quot; data-end=&quot;251&quot;&gt;1175 Chapel Hills Drive&lt;/stron
 g&gt;&lt;br data-start=&quot;251&quot; data-end=&quot;254&quot;&gt;&lt;strong data-start=&quot;254&quot; data-end=&quot;2
 84&quot;&gt;Colorado Springs\, CO 80920&lt;/strong&gt;&lt;/p&gt;\n&lt;p data-start=&quot;286&quot; data-end
 =&quot;501&quot;&gt;&lt;img style=&quot;display: block\; margin-left: auto\; margin-right: auto
 \;&quot; src=&quot;https://events.vtools.ieee.org/vtools_ui/media/display/6a31e764-7
 ba9-4be1-bf6b-367f332267d9&quot; alt=&quot;&quot; width=&quot;364&quot; height=&quot;546&quot;&gt;&lt;/p&gt;\n&lt;p data-
 start=&quot;286&quot; data-end=&quot;501&quot;&gt;This month&amp;rsquo\;s meeting is a special opport
 unity to bring together&amp;nbsp\;&lt;strong data-start=&quot;350&quot; data-end=&quot;434&quot;&gt;IEEE
  members\, student members\, families\, guests\, and past and present volu
 nteers&lt;/strong&gt; for an evening of learning\, recognition\, and community c
 onnection.&lt;/p&gt;\n&lt;p data-start=&quot;503&quot; data-end=&quot;717&quot;&gt;We will be recognizing 
 our &lt;strong data-start=&quot;530&quot; data-end=&quot;563&quot;&gt;2025 STEAM-TEAMS participants&lt;
 /strong&gt; with challenge coins as a small token of appreciation for the tim
 e\, service\, and encouragement they have given to others through STEM and
  STEAM outreach.&lt;/p&gt;\n&lt;p data-start=&quot;719&quot; data-end=&quot;895&quot;&gt;We will also shar
 e a brief &lt;strong data-start=&quot;746&quot; data-end=&quot;769&quot;&gt;Light Snap Circuits&lt;/str
 ong&gt; demonstration as a fun introduction to &lt;strong data-start=&quot;809&quot; data-
 end=&quot;822&quot;&gt;photonics&lt;/strong&gt;\, along with updates connected to the &lt;strong
  data-start=&quot;860&quot; data-end=&quot;894&quot;&gt;Cool Science Festival and Fair&lt;/strong&gt;.&lt;
 /p&gt;\n&lt;p data-start=&quot;897&quot; data-end=&quot;1197&quot;&gt;This gathering reflects something
  we deeply value in the IEEE Pikes Peak Section: building not only program
 s\, but people. Through mentorship\, hands-on learning\, and community eng
 agement\, we continue working to make leadership more welcoming\, more vis
 ible\, and more meaningful for the next generation.&lt;/p&gt;\n&lt;p data-start=&quot;11
 99&quot; data-end=&quot;1224&quot;&gt;If you are interested in:&lt;/p&gt;\n&lt;ul data-start=&quot;1225&quot; d
 ata-end=&quot;1391&quot;&gt;\n&lt;li data-section-id=&quot;1957mrt&quot; data-start=&quot;1225&quot; data-end=
 &quot;1252&quot;&gt;STEM and STEAM activities&lt;/li&gt;\n&lt;li data-section-id=&quot;zur2jo&quot; data-s
 tart=&quot;1253&quot; data-end=&quot;1297&quot;&gt;mentoring students and young professionals&lt;/li
 &gt;\n&lt;li data-section-id=&quot;1dwzf5q&quot; data-start=&quot;1298&quot; data-end=&quot;1336&quot;&gt;family-
 friendly engineering outreach&lt;/li&gt;\n&lt;li data-section-id=&quot;1dyie68&quot; data-sta
 rt=&quot;1337&quot; data-end=&quot;1391&quot;&gt;growing leadership through service and encourage
 ment&lt;/li&gt;\n&lt;/ul&gt;\n&lt;p data-start=&quot;1393&quot; data-end=&quot;1430&quot;&gt;we would be glad to
  have you join us.&lt;/p&gt;\n&lt;p data-start=&quot;1432&quot; data-end=&quot;1474&quot;&gt;&lt;strong data-
 start=&quot;1432&quot; data-end=&quot;1444&quot;&gt;Website:&lt;/strong&gt; &lt;a class=&quot;decorated-link&quot; h
 ref=&quot;https://r5.ieee.org/pikespeak&quot; target=&quot;_new&quot; rel=&quot;noopener&quot; data-star
 t=&quot;1445&quot; data-end=&quot;1474&quot;&gt;https://r5.ieee.org/pikespeak&lt;/a&gt;&lt;/p&gt;\n&lt;p data-st
 art=&quot;1476&quot; data-end=&quot;1623&quot;&gt;#IEEE #IEEEPikesPeakSection #STEAMTEAMS #STEM #
 STEAM #Mentorship #Photonics #EngineeringEducation #FamilyFriendly #Volunt
 eerLeadership #CoolScience&lt;/p&gt;&lt;br /&gt;&lt;br /&gt;Agenda: &lt;br /&gt;&lt;ul&gt;\n&lt;li&gt;Introduc
 tions&lt;/li&gt;\n&lt;li&gt;Presentation to Entry-Level Challenge Coins to S.T.A.R. (S
 TEAM TEAMS Ambassadors for Outreach) Mentors/Volunteers (&lt;a href=&quot;https://
 r5.ieee.org/pikespeak/leadership-multiplier/#1772463897417-cf469292-ee94&quot;&gt;
 Achieving Region 5 Priorities: Leadership Force Multiplier to Scale Leader
 ship Capacity | IEEE Pikes Peak Section&lt;/a&gt;)&lt;/li&gt;\n&lt;li&gt;Cool Science Suppor
 t (&lt;a href=&quot;https://coolscience.org&quot;&gt;https://coolscience.org&lt;/a&gt;) and Samp
 le SNAP Circuits Demos/Phet Simulations (&lt;a href=&quot;https://r5.ieee.org/pike
 speak/phet-demos-photonics/&quot;&gt;PhET Demos Photonics | IEEE Pikes Peak Sectio
 n&lt;/a&gt;) and Collaboration.&lt;/li&gt;\n&lt;/ul&gt;
END:VEVENT
END:VCALENDAR

