BEGIN:VCALENDAR
VERSION:2.0
PRODID:IEEE vTools.Events//EN
CALSCALE:GREGORIAN
BEGIN:VTIMEZONE
TZID:America/La_Paz
BEGIN:DAYLIGHT
DTSTART:20380118T231407
TZOFFSETFROM:-0400
TZOFFSETTO:-0400
RRULE:FREQ=YEARLY;BYDAY=3MO;BYMONTH=1
TZNAME:-04
END:DAYLIGHT
BEGIN:STANDARD
DTSTART:19320320T233236
TZOFFSETFROM:-0427
TZOFFSETTO:-0400
RRULE:FREQ=YEARLY;BYDAY=3SU;BYMONTH=3
TZNAME:-04
END:STANDARD
END:VTIMEZONE
BEGIN:VEVENT
DTSTAMP:20260418T144758Z
UID:4BB0EC38-01F7-449D-B552-FDA953F83F52
DTSTART;TZID=America/La_Paz:20260416T163000
DTEND;TZID=America/La_Paz:20260416T201000
DESCRIPTION:📍 ¡Descubre el mundo de oportunidades que IEEE tiene para t
 i!\n\nLa Rama Estudiantil IEEE UMSA te invita cordialmente al Roadshow 202
 6\, un evento diseñado para mostrarte cómo potenciar tu formación acad
 émica y profesional a través de la red técnica más grande del mundo.\n
 \n¿Qué aprenderás en este evento?\n\n-\n🚀 Beneficios de la membresí
 a: Acceso a recursos técnicos\, becas y redes de contacto globales.\n\n-\
 n💡 Nuestros Capítulos y Grupos de Afinidad: Conoce el trabajo de las s
 ociedades técnicas dentro de la UMSA.\n\n-\n🏆 Proyectos y Logros: Insp
 írate con los proyectos ganadores (como StemLab) y las actividades de lid
 erazgo que realizamos.\n\n-\n🤝 Networking: Conecta con otros estudiante
 s de ingeniería y mentores del sector.\n\nDetalles del evento:\n\n-\n📅
  Fecha: Jueves\, 16 de abril de 2026.\n\n-\n🏢 Lugar: 6to piso\, auditor
 io facultad de Informatica UMSA.\n\n-\n👥 Dirigido a: Estudiantes de Ing
 eniería Electrónica y carreras afines.\n\n¡No pierdas la oportunidad de
  ser parte de la comunidad que está transformando la tecnología en Boliv
 ia!\n\nRoom: Auditorio 6to piso\, Bldg: Facultad de Ciencias Puras y Natur
 ales - Edificio de Informática\, v. Villazón N° 1995 (Monoblock Central
 )\, Nuestra señora de La Paz\, La Paz\, Bolivia\, 0000
LOCATION:Room: Auditorio 6to piso\, Bldg: Facultad de Ciencias Puras y Natu
 rales - Edificio de Informática\, v. Villazón N° 1995 (Monoblock Centra
 l)\, Nuestra señora de La Paz\, La Paz\, Bolivia\, 0000
ORGANIZER:joselenin540@ieee.org
SEQUENCE:21
SUMMARY:Roadshow IEEE UMSA 2026: Tu puerta de entrada a oportunidades globa
 les
URL;VALUE=URI:https://events.vtools.ieee.org/m/554783
X-ALT-DESC:Description: &lt;br /&gt;&lt;p data-path-to-node=&quot;8&quot;&gt;&lt;strong data-path-to
 -node=&quot;8&quot; data-index-in-node=&quot;0&quot;&gt;📍 &amp;iexcl\;Descubre el mundo de oportun
 idades que IEEE tiene para ti!&lt;/strong&gt;&lt;/p&gt;\n&lt;p data-path-to-node=&quot;9&quot;&gt;La R
 ama Estudiantil &lt;strong data-path-to-node=&quot;9&quot; data-index-in-node=&quot;20&quot;&gt;IEEE
  UMSA&lt;/strong&gt; te invita cordialmente al &lt;strong data-path-to-node=&quot;9&quot; dat
 a-index-in-node=&quot;56&quot;&gt;Roadshow 2026&lt;/strong&gt;\, un evento dise&amp;ntilde\;ado p
 ara mostrarte c&amp;oacute\;mo potenciar tu formaci&amp;oacute\;n acad&amp;eacute\;mic
 a y profesional a trav&amp;eacute\;s de la red t&amp;eacute\;cnica m&amp;aacute\;s gra
 nde del mundo.&lt;/p&gt;\n&lt;p data-path-to-node=&quot;10&quot;&gt;&lt;strong data-path-to-node=&quot;1
 0&quot; data-index-in-node=&quot;0&quot;&gt;&amp;iquest\;Qu&amp;eacute\; aprender&amp;aacute\;s en este 
 evento?&lt;/strong&gt;&lt;/p&gt;\n&lt;ul data-path-to-node=&quot;11&quot;&gt;\n&lt;li&gt;\n&lt;p data-path-to-n
 ode=&quot;11\,0\,0&quot;&gt;🚀 &lt;strong data-path-to-node=&quot;11\,0\,0&quot; data-index-in-nod
 e=&quot;3&quot;&gt;Beneficios de la membres&amp;iacute\;a:&lt;/strong&gt; Acceso a recursos t&amp;eac
 ute\;cnicos\, becas y redes de contacto globales.&lt;/p&gt;\n&lt;/li&gt;\n&lt;li&gt;\n&lt;p dat
 a-path-to-node=&quot;11\,1\,0&quot;&gt;💡 &lt;strong data-path-to-node=&quot;11\,1\,0&quot; data-i
 ndex-in-node=&quot;3&quot;&gt;Nuestros Cap&amp;iacute\;tulos y Grupos de Afinidad:&lt;/strong&gt;
  Conoce el trabajo de las sociedades t&amp;eacute\;cnicas dentro de la UMSA.&lt;/
 p&gt;\n&lt;/li&gt;\n&lt;li&gt;\n&lt;p data-path-to-node=&quot;11\,2\,0&quot;&gt;🏆 &lt;strong data-path-to
 -node=&quot;11\,2\,0&quot; data-index-in-node=&quot;3&quot;&gt;Proyectos y Logros:&lt;/strong&gt; Insp&amp;
 iacute\;rate con los proyectos ganadores (como StemLab) y las actividades 
 de liderazgo que realizamos.&lt;/p&gt;\n&lt;/li&gt;\n&lt;li&gt;\n&lt;p data-path-to-node=&quot;11\,3
 \,0&quot;&gt;🤝 &lt;strong data-path-to-node=&quot;11\,3\,0&quot; data-index-in-node=&quot;3&quot;&gt;Netw
 orking:&lt;/strong&gt; Conecta con otros estudiantes de ingenier&amp;iacute\;a y men
 tores del sector.&lt;/p&gt;\n&lt;/li&gt;\n&lt;/ul&gt;\n&lt;p data-path-to-node=&quot;12&quot;&gt;&lt;strong dat
 a-path-to-node=&quot;12&quot; data-index-in-node=&quot;0&quot;&gt;Detalles del evento:&lt;/strong&gt;&lt;/
 p&gt;\n&lt;ul data-path-to-node=&quot;13&quot;&gt;\n&lt;li&gt;\n&lt;p data-path-to-node=&quot;13\,0\,0&quot;&gt;
 📅 &lt;strong data-path-to-node=&quot;13\,0\,0&quot; data-index-in-node=&quot;3&quot;&gt;Fecha:&lt;/s
 trong&gt; Jueves\, 16 de abril de 2026.&lt;/p&gt;\n&lt;/li&gt;\n&lt;li&gt;\n&lt;p data-path-to-nod
 e=&quot;13\,1\,0&quot;&gt;🏢 &lt;strong data-path-to-node=&quot;13\,1\,0&quot; data-index-in-node=
 &quot;3&quot;&gt;Lugar:&lt;/strong&gt; 6to piso\, auditorio facultad de Informatica UMSA.&lt;/p&gt;
 \n&lt;/li&gt;\n&lt;li&gt;\n&lt;p data-path-to-node=&quot;13\,2\,0&quot;&gt;👥 &lt;strong data-path-to-n
 ode=&quot;13\,2\,0&quot; data-index-in-node=&quot;3&quot;&gt;Dirigido a:&lt;/strong&gt; Estudiantes de 
 Ingenier&amp;iacute\;a Electr&amp;oacute\;nica y carreras afines.&lt;/p&gt;\n&lt;/li&gt;\n&lt;/ul
 &gt;\n&lt;p data-path-to-node=&quot;14&quot;&gt;&lt;strong data-path-to-node=&quot;14&quot; data-index-in-
 node=&quot;0&quot;&gt;&amp;iexcl\;No pierdas la oportunidad de ser parte de la comunidad qu
 e est&amp;aacute\; transformando la tecnolog&amp;iacute\;a en Bolivia!&lt;/strong&gt;&lt;/p
 &gt;
END:VEVENT
END:VCALENDAR

