BEGIN:VCALENDAR
VERSION:2.0
PRODID:IEEE vTools.Events//EN
CALSCALE:GREGORIAN
BEGIN:VTIMEZONE
TZID:America/Chicago
BEGIN:DAYLIGHT
DTSTART:20260308T030000
TZOFFSETFROM:-0600
TZOFFSETTO:-0500
RRULE:FREQ=YEARLY;BYDAY=2SU;BYMONTH=3
TZNAME:CDT
END:DAYLIGHT
BEGIN:STANDARD
DTSTART:20261101T010000
TZOFFSETFROM:-0500
TZOFFSETTO:-0600
RRULE:FREQ=YEARLY;BYDAY=1SU;BYMONTH=11
TZNAME:CST
END:STANDARD
END:VTIMEZONE
BEGIN:VEVENT
DTSTAMP:20260419T211754Z
UID:44E2C061-CE21-4AF4-8893-23B5AB48230F
DTSTART;TZID=America/Chicago:20260416T170000
DTEND;TZID=America/Chicago:20260416T180000
DESCRIPTION:The business environment in the U.S. has become a target for ad
 versaries\, both criminal and national.\n\nBecause of this\, the defenders
  of networks and business systems must use all the tools at their disposal
 \, and use coherent and thoughtful processes to protect those networks. Th
 is practical and real-world presentation is an introductory level presenta
 tion on following:\n\n- the mindsets that defenders must have\,\n- the pro
 cesses that they need to employ\,\n- the tools that they need to utilize\,
 \n- the architectures that they will operate in\, and\n- some of the servi
 ces available to assist those businesses.\n\nRoom: JBHT 216\, Bldg: JBHT\,
  227 N Harmon Ave\, Fayetteville\, Arkansas\, United States\, 72701
LOCATION:Room: JBHT 216\, Bldg: JBHT\, 227 N Harmon Ave\, Fayetteville\, Ar
 kansas\, United States\, 72701
ORGANIZER:cfarnell@uark.edu
SEQUENCE:12
SUMMARY:Active Defense: The steps\, architectures\, and tools to protect yo
 ur environment.
URL;VALUE=URI:https://events.vtools.ieee.org/m/554909
X-ALT-DESC:Description: &lt;br /&gt;&lt;p class=&quot;MsoNormal&quot;&gt;&lt;span style=&quot;font-size: 
 10.0pt\; font-family: &#39;Helvetica&#39;\,sans-serif\; mso-fareast-font-family: &#39;
 Times New Roman&#39;\;&quot;&gt;The business environment in the U.S. has become a targ
 et for adversaries\, both criminal and national.&amp;nbsp\; &lt;/span&gt;&lt;/p&gt;\n&lt;p cl
 ass=&quot;MsoNormal&quot;&gt;&lt;span style=&quot;font-size: 10.0pt\; font-family: &#39;Helvetica&#39;\
 ,sans-serif\; mso-fareast-font-family: &#39;Times New Roman&#39;\;&quot;&gt;Because of thi
 s\, the defenders of networks and business systems must use all the tools 
 at their disposal\, and use coherent and thoughtful processes to protect t
 hose networks.&amp;nbsp\; This practical and real-world presentation is an int
 roductory level presentation on following:&lt;/span&gt;&lt;/p&gt;\n&lt;ul type=&quot;disc&quot; dat
 a-setdir=&quot;false&quot;&gt;\n&lt;li class=&quot;MsoNormal&quot; style=&quot;mso-margin-top-alt: auto\;
  mso-margin-bottom-alt: auto\; mso-list: l0 level1 lfo1\; tab-stops: list 
 .5in\;&quot;&gt;&lt;span style=&quot;font-size: 10.0pt\; font-family: &#39;Helvetica&#39;\,sans-se
 rif\; mso-fareast-font-family: &#39;Times New Roman&#39;\;&quot;&gt;the mindsets that defe
 nders must have\,&amp;nbsp\;&lt;/span&gt;&lt;/li&gt;\n&lt;li class=&quot;MsoNormal&quot; style=&quot;mso-mar
 gin-top-alt: auto\; mso-margin-bottom-alt: auto\; mso-list: l0 level1 lfo1
 \; tab-stops: list .5in\;&quot;&gt;&lt;span style=&quot;font-size: 10.0pt\; font-family: &#39;
 Helvetica&#39;\,sans-serif\; mso-fareast-font-family: &#39;Times New Roman&#39;\;&quot;&gt;the
  processes that they need to employ\,&lt;/span&gt;&lt;/li&gt;\n&lt;li class=&quot;MsoNormal&quot; s
 tyle=&quot;mso-margin-top-alt: auto\; mso-margin-bottom-alt: auto\; mso-list: l
 0 level1 lfo1\; tab-stops: list .5in\;&quot;&gt;&lt;span style=&quot;font-size: 10.0pt\; f
 ont-family: &#39;Helvetica&#39;\,sans-serif\; mso-fareast-font-family: &#39;Times New 
 Roman&#39;\;&quot;&gt;the tools that they need to utilize\,&lt;/span&gt;&lt;/li&gt;\n&lt;li class=&quot;Ms
 oNormal&quot; style=&quot;mso-margin-top-alt: auto\; mso-margin-bottom-alt: auto\; m
 so-list: l0 level1 lfo1\; tab-stops: list .5in\;&quot;&gt;&lt;span style=&quot;font-size: 
 10.0pt\; font-family: &#39;Helvetica&#39;\,sans-serif\; mso-fareast-font-family: &#39;
 Times New Roman&#39;\;&quot;&gt;the architectures that they will operate in\, and&lt;/spa
 n&gt;&lt;/li&gt;\n&lt;li class=&quot;MsoNormal&quot; style=&quot;mso-margin-top-alt: auto\; mso-margi
 n-bottom-alt: auto\; mso-list: l0 level1 lfo1\; tab-stops: list .5in\;&quot;&gt;&lt;s
 pan style=&quot;font-size: 10.0pt\; font-family: &#39;Helvetica&#39;\,sans-serif\; mso-
 fareast-font-family: &#39;Times New Roman&#39;\;&quot;&gt;some of the services available t
 o assist those businesses.&lt;/span&gt;&lt;/li&gt;\n&lt;/ul&gt;
END:VEVENT
END:VCALENDAR

