BEGIN:VCALENDAR
VERSION:2.0
PRODID:IEEE vTools.Events//EN
CALSCALE:GREGORIAN
BEGIN:VTIMEZONE
TZID:America/Los_Angeles
BEGIN:DAYLIGHT
DTSTART:20260308T030000
TZOFFSETFROM:-0800
TZOFFSETTO:-0700
RRULE:FREQ=YEARLY;BYDAY=2SU;BYMONTH=3
TZNAME:PDT
END:DAYLIGHT
BEGIN:STANDARD
DTSTART:20261101T010000
TZOFFSETFROM:-0700
TZOFFSETTO:-0800
RRULE:FREQ=YEARLY;BYDAY=1SU;BYMONTH=11
TZNAME:PST
END:STANDARD
END:VTIMEZONE
BEGIN:VEVENT
DTSTAMP:20260414T215612Z
UID:7CD35E82-EB45-4EB1-944D-123D87B25349
DTSTART;TZID=America/Los_Angeles:20260324T120000
DTEND;TZID=America/Los_Angeles:20260324T130000
DESCRIPTION:Come join us on Tuesday for our fifth general meeting of the se
 mester! Come get some free pizza and stay up-to-date on our club events! T
 his is also a great opportunity to pick up your IEEE Student Member Shirts
  if you&#39;re a paid student member!\n\nWe will also have a guest speaker fro
 m Avimosa Wireless! This presentation highlights examples of current techn
 ologies and where they are being used today\, while exploring key challeng
 es in modern telecommunications as data demand continues to grow alongside
  the rise of AI in everyday life.\n\nRoom: 405\, Bldg: 9\, 3801 W Temple A
 ve\, Pomona\, California\, United States\, 91768
LOCATION:Room: 405\, Bldg: 9\, 3801 W Temple Ave\, Pomona\, California\, Un
 ited States\, 91768
ORGANIZER:lui@cpp.edu
SEQUENCE:5
SUMMARY:IEEE CPP Student Branch Fifth General Meeting - Spring 2025
URL;VALUE=URI:https://events.vtools.ieee.org/m/554995
X-ALT-DESC:Description: &lt;br /&gt;&lt;p&gt;Come join us on Tuesday for our fifth gene
 ral meeting of the semester! Come get some free pizza&amp;nbsp\;and stay up-to
 -date on our club events! This is also a great opportunity to pick up your
  IEEE Student Member Shirts if you&#39;re a paid student member!&lt;/p&gt;\n&lt;p&gt;We wi
 ll also have a guest speaker from Avimosa Wireless! This presentation high
 lights examples of current technologies and where they are being used toda
 y\, while exploring key challenges in modern telecommunications as data de
 mand continues to grow alongside the rise of AI in everyday life.&lt;/p&gt;
END:VEVENT
END:VCALENDAR

