BEGIN:VCALENDAR
VERSION:2.0
PRODID:IEEE vTools.Events//EN
CALSCALE:GREGORIAN
BEGIN:VTIMEZONE
TZID:America/Los_Angeles
BEGIN:DAYLIGHT
DTSTART:20260308T030000
TZOFFSETFROM:-0800
TZOFFSETTO:-0700
RRULE:FREQ=YEARLY;BYDAY=2SU;BYMONTH=3
TZNAME:PDT
END:DAYLIGHT
BEGIN:STANDARD
DTSTART:20261101T010000
TZOFFSETFROM:-0700
TZOFFSETTO:-0800
RRULE:FREQ=YEARLY;BYDAY=1SU;BYMONTH=11
TZNAME:PST
END:STANDARD
END:VTIMEZONE
BEGIN:VEVENT
DTSTAMP:20260414T215630Z
UID:00B6C9DC-0163-44D6-B7E1-5E93210259EF
DTSTART;TZID=America/Los_Angeles:20260407T120000
DTEND;TZID=America/Los_Angeles:20260407T130000
DESCRIPTION:Join us this Tuesday for the sixth general meeting of the year!
  We&#39;ll be holding elections for next year&#39;s board\, so if you&#39;re running f
 or a position\, make sure to attend and advocate for your position. Even i
 f you&#39;re not running\, come to get some free pizza\, get updates on our cl
 ub events\, and and vote for the future of the IEEE student branch!\n\nRoo
 m: 405\, Bldg: 9\, 3801 W Temple Ave\, Pomona\, California\, United States
 \, 91768
LOCATION:Room: 405\, Bldg: 9\, 3801 W Temple Ave\, Pomona\, California\, Un
 ited States\, 91768
ORGANIZER:lui@cpp.edu
SEQUENCE:4
SUMMARY:IEEE CPP Student Branch Sixth General Meeting - Spring 2025
URL;VALUE=URI:https://events.vtools.ieee.org/m/554998
X-ALT-DESC:Description: &lt;br /&gt;&lt;p&gt;Join us this Tuesday for the sixth general
  meeting of the year! We&#39;ll be holding elections for next year&#39;s board\, s
 o if you&#39;re running for a position\, make sure to attend and advocate for 
 your position. Even if you&#39;re not running\, come to get some free pizza\, 
 get updates on our club events\, and and vote for the future of the IEEE s
 tudent branch!&lt;/p&gt;
END:VEVENT
END:VCALENDAR

