BEGIN:VCALENDAR
VERSION:2.0
PRODID:IEEE vTools.Events//EN
CALSCALE:GREGORIAN
BEGIN:VTIMEZONE
TZID:America/Los_Angeles
BEGIN:DAYLIGHT
DTSTART:20260308T030000
TZOFFSETFROM:-0800
TZOFFSETTO:-0700
RRULE:FREQ=YEARLY;BYDAY=2SU;BYMONTH=3
TZNAME:PDT
END:DAYLIGHT
BEGIN:STANDARD
DTSTART:20261101T010000
TZOFFSETFROM:-0700
TZOFFSETTO:-0800
RRULE:FREQ=YEARLY;BYDAY=1SU;BYMONTH=11
TZNAME:PST
END:STANDARD
END:VTIMEZONE
BEGIN:VEVENT
DTSTAMP:20260414T215425Z
UID:EF05AD0D-AFC5-4EA4-92BB-9BE8B42C999F
DTSTART;TZID=America/Los_Angeles:20260417T130000
DTEND;TZID=America/Los_Angeles:20260417T150000
DESCRIPTION:Come learn about the wonderful world of amplifiers and how to u
 se them! This is something that you encounter in job interviews and real l
 ife circuits\, so come see how to use some of the most powerful tools in a
 nalog circuit design! Part two of this workshop will be a lab to build som
 e op-amp circuits!\n\nRoom: 405\, Bldg: 9\, 3801 W Temple Ave\, Pomona\, C
 alifornia\, United States\, 91768
LOCATION:Room: 405\, Bldg: 9\, 3801 W Temple Ave\, Pomona\, California\, Un
 ited States\, 91768
ORGANIZER:lui@cpp.edu
SEQUENCE:2
SUMMARY:Op Amp Workshop Part 2
URL;VALUE=URI:https://events.vtools.ieee.org/m/555000
X-ALT-DESC:Description: &lt;br /&gt;&lt;p&gt;Come learn about the wonderful world of am
 plifiers and how to use them! This is something that you encounter in job 
 interviews and real life circuits\, so come see how to use some of the mos
 t powerful tools in analog circuit design! Part two of this workshop will 
 be a lab to build some op-amp circuits!&lt;/p&gt;
END:VEVENT
END:VCALENDAR

