BEGIN:VCALENDAR
VERSION:2.0
PRODID:IEEE vTools.Events//EN
CALSCALE:GREGORIAN
BEGIN:VTIMEZONE
TZID:America/Los_Angeles
BEGIN:DAYLIGHT
DTSTART:20260308T030000
TZOFFSETFROM:-0800
TZOFFSETTO:-0700
RRULE:FREQ=YEARLY;BYDAY=2SU;BYMONTH=3
TZNAME:PDT
END:DAYLIGHT
BEGIN:STANDARD
DTSTART:20261101T010000
TZOFFSETFROM:-0700
TZOFFSETTO:-0800
RRULE:FREQ=YEARLY;BYDAY=1SU;BYMONTH=11
TZNAME:PST
END:STANDARD
END:VTIMEZONE
BEGIN:VEVENT
DTSTAMP:20260415T053121Z
UID:61238C47-F788-4FE8-91BE-9518737AF941
DTSTART;TZID=America/Los_Angeles:20260412T190000
DTEND;TZID=America/Los_Angeles:20260412T193000
DESCRIPTION:This meeting we prepared for the upcoming involvement fair\, an
 d the FAST Enterprises collaboration workshop event\n\nVirtual: https://ev
 ents.vtools.ieee.org/m/555071
LOCATION:Virtual: https://events.vtools.ieee.org/m/555071
ORGANIZER:aquinren@uw.edu
SEQUENCE:8
SUMMARY:IEEE UWT Student Branch - Spring 2026 Officer Meeting (#2) - Event 
 Plans
URL;VALUE=URI:https://events.vtools.ieee.org/m/555071
X-ALT-DESC:Description: &lt;br /&gt;&lt;p&gt;This meeting we prepared for the upcoming 
 involvement fair\, and the FAST Enterprises collaboration workshop event&lt;/
 p&gt;
END:VEVENT
END:VCALENDAR

