BEGIN:VCALENDAR
VERSION:2.0
PRODID:IEEE vTools.Events//EN
CALSCALE:GREGORIAN
BEGIN:VTIMEZONE
TZID:America/Sao_Paulo
BEGIN:DAYLIGHT
DTSTART:20380119T001407
TZOFFSETFROM:-0300
TZOFFSETTO:-0300
RRULE:FREQ=YEARLY;BYDAY=3TU;BYMONTH=1
TZNAME:-03
END:DAYLIGHT
BEGIN:STANDARD
DTSTART:20190216T230000
TZOFFSETFROM:-0200
TZOFFSETTO:-0300
RRULE:FREQ=YEARLY;BYDAY=3SA;BYMONTH=2
TZNAME:-03
END:STANDARD
END:VTIMEZONE
BEGIN:VEVENT
DTSTAMP:20260415T134852Z
UID:3CB1B32F-25B4-41C1-B288-4C8A444FC3BE
DTSTART;TZID=America/Sao_Paulo:20260623T090000
DTEND;TZID=America/Sao_Paulo:20260623T150000
DESCRIPTION:Evento de Capacitações e palestras para inspirar meninas na 
 área de STEM.\n\nAgenda: Workshop de Cibersegurança 09:00 - 12:00\n\nPal
 estra 1: Inspirando mulheres com RF 13:00\n\nPalestra 2: Inspirando mulher
 es com Eletrônica 14:00\n\nBrasília\, Distrito Federal\, Brazil
LOCATION:Brasília\, Distrito Federal\, Brazil
ORGANIZER:adriadias3@gmail.com
SEQUENCE:21
SUMMARY:WIE Day na FCTE: Competências e Inspirações 
URL;VALUE=URI:https://events.vtools.ieee.org/m/555132
X-ALT-DESC:Description: &lt;br /&gt;&lt;p&gt;Evento de Capacita&amp;ccedil\;&amp;otilde\;es e p
 alestras para inspirar meninas na &amp;aacute\;rea de STEM.&lt;/p&gt;\n&lt;p&gt;&amp;nbsp\;&lt;/p
 &gt;\n&lt;p&gt;Agenda: Workshop de Ciberseguran&amp;ccedil\;a 09:00 - 12:00&lt;/p&gt;\n&lt;p&gt;Pal
 estra 1: Inspirando mulheres com RF 13:00&lt;/p&gt;\n&lt;p&gt;Palestra 2: Inspirando m
 ulheres com Eletr&amp;ocirc\;nica 14:00&lt;/p&gt;
END:VEVENT
END:VCALENDAR

