BEGIN:VCALENDAR
VERSION:2.0
PRODID:IEEE vTools.Events//EN
CALSCALE:GREGORIAN
BEGIN:VTIMEZONE
TZID:Europe/Zagreb
BEGIN:DAYLIGHT
DTSTART:20260329T030000
TZOFFSETFROM:+0100
TZOFFSETTO:+0200
RRULE:FREQ=YEARLY;BYDAY=-1SU;BYMONTH=3
TZNAME:CEST
END:DAYLIGHT
BEGIN:STANDARD
DTSTART:20261025T020000
TZOFFSETFROM:+0200
TZOFFSETTO:+0100
RRULE:FREQ=YEARLY;BYDAY=-1SU;BYMONTH=10
TZNAME:CET
END:STANDARD
END:VTIMEZONE
BEGIN:VEVENT
DTSTAMP:20260423T123051Z
UID:C16F9B7B-B6E3-49AE-827B-EB8D4539E810
DTSTART;TZID=Europe/Zagreb:20260424T100000
DTEND;TZID=Europe/Zagreb:20260424T120000
DESCRIPTION:[IEEE Croatia PES Chapter PE31](https://www.ieee.hr/ieeesection
 /odjeli_chapteri/pe31) has the pleasure to invite you to a lecture on freq
 uency control by the distinguished expert in the field Prof. Federico Mila
 no from University College Dublin. The lecture &quot;The Link between Power and
  Frequency in AC Power Systems&quot; will be held as part of the [IEEE PES Dist
 inguished Lecturer Program (DLP)](https://ieee-pes.org/membership-chapters
 /distinguished-lecturer-program/).\n\nAgenda: \n10:00 - 10:15 | Welcoming 
 and networking\n10:15 - 10:20 | Introduction to IEEE PES Croatia and DPL P
 rogram\n10:30 - 12:00 | Lecture by Prof. Milano\, following by Q&amp;A\n\nRoom
 : D244\, Unska ulica 3\, Zagreb\, Grad Zagreb\, Croatia\, 10000
LOCATION:Room: D244\, Unska ulica 3\, Zagreb\, Grad Zagreb\, Croatia\, 1000
 0
ORGANIZER:sara.raos@fer.hr
SEQUENCE:59
SUMMARY:The Link between Power and Frequency in AC Power Systems
URL;VALUE=URI:https://events.vtools.ieee.org/m/555162
X-ALT-DESC:Description: &lt;br /&gt;&lt;p&gt;&lt;a href=&quot;https://www.ieee.hr/ieeesection/o
 djeli_chapteri/pe31&quot;&gt;IEEE Croatia PES Chapter PE31&lt;/a&gt; has the pleasure to
  invite you to a lecture on frequency control by the distinguished expert 
 in the field Prof. Federico Milano from University College Dublin. The lec
 ture &quot;The Link between Power and Frequency in AC Power Systems&quot; will be he
 ld as part of the &lt;a href=&quot;https://ieee-pes.org/membership-chapters/distin
 guished-lecturer-program/&quot;&gt;IEEE PES Distinguished Lecturer Program (DLP)&lt;/
 a&gt;.&amp;nbsp\;&lt;/p&gt;&lt;br /&gt;&lt;br /&gt;Agenda: &lt;br /&gt;&lt;p&gt;10:00 - 10:15 | Welcoming and n
 etworking&lt;br&gt;10:15 - 10:20 | Introduction to IEEE PES Croatia and DPL Prog
 ram&lt;br&gt;10:30 - 12:00 | Lecture by Prof. Milano\, following by Q&amp;amp\;A&lt;/p&gt;
END:VEVENT
END:VCALENDAR

