BEGIN:VCALENDAR
VERSION:2.0
PRODID:IEEE vTools.Events//EN
CALSCALE:GREGORIAN
BEGIN:VTIMEZONE
TZID:America/Los_Angeles
BEGIN:DAYLIGHT
DTSTART:20260308T030000
TZOFFSETFROM:-0800
TZOFFSETTO:-0700
RRULE:FREQ=YEARLY;BYDAY=2SU;BYMONTH=3
TZNAME:PDT
END:DAYLIGHT
BEGIN:STANDARD
DTSTART:20261101T010000
TZOFFSETFROM:-0700
TZOFFSETTO:-0800
RRULE:FREQ=YEARLY;BYDAY=1SU;BYMONTH=11
TZNAME:PST
END:STANDARD
END:VTIMEZONE
BEGIN:VEVENT
DTSTAMP:20260415T190102Z
UID:E4459FD5-7B6D-4A6B-A0E6-FDCCA3027A4E
DTSTART;TZID=America/Los_Angeles:20260407T170000
DTEND;TZID=America/Los_Angeles:20260407T180000
DESCRIPTION:Hey ENGRUDS\, join us for our spring panel where we’ll talk a
 bout engineering major applications‼️We’ll have free pizza 🍕 and 
 have a resume review afterwards! We hope to see you there 🙂‍↕️\n\
 nRoom: 264\, Bldg: Savery\, Chelan Ln NE\, Seattle\, Washington\, United S
 tates\, 98195
LOCATION:Room: 264\, Bldg: Savery\, Chelan Ln NE\, Seattle\, Washington\, U
 nited States\, 98195
ORGANIZER:kyan18@uw.edu
SEQUENCE:6
SUMMARY:ENGRUD Panel
URL;VALUE=URI:https://events.vtools.ieee.org/m/555225
X-ALT-DESC:Description: &lt;br /&gt;&lt;p&gt;Hey ENGRUDS\, join us for our spring panel
  where we&amp;rsquo\;ll talk about engineering major applications‼️We&amp;rsqu
 o\;ll have free pizza 🍕 and have a resume review afterwards! We hope to
  see you there 🙂&amp;zwj\;↕️&lt;/p&gt;
END:VEVENT
END:VCALENDAR

