BEGIN:VCALENDAR
VERSION:2.0
PRODID:IEEE vTools.Events//EN
CALSCALE:GREGORIAN
BEGIN:VTIMEZONE
TZID:America/Chicago
BEGIN:DAYLIGHT
DTSTART:20260308T030000
TZOFFSETFROM:-0600
TZOFFSETTO:-0500
RRULE:FREQ=YEARLY;BYDAY=2SU;BYMONTH=3
TZNAME:CDT
END:DAYLIGHT
BEGIN:STANDARD
DTSTART:20261101T010000
TZOFFSETFROM:-0500
TZOFFSETTO:-0600
RRULE:FREQ=YEARLY;BYDAY=1SU;BYMONTH=11
TZNAME:CST
END:STANDARD
END:VTIMEZONE
BEGIN:VEVENT
DTSTAMP:20260416T043450Z
UID:E050636E-E7F7-4C03-83B7-F969DEDD19CD
DTSTART;TZID=America/Chicago:20260421T170000
DTEND;TZID=America/Chicago:20260421T200000
DESCRIPTION:This event is being hosted by AI 2030 at Discovery Partners Ins
 titute. Please see https://luma.com/aehtah5h for details and registration.
 \n\nRoom: 4th floor\, Discovery Room\, 200 S Wacker Dr.\, Chicago\, Illino
 is\, United States
LOCATION:Room: 4th floor\, Discovery Room\, 200 S Wacker Dr.\, Chicago\, Il
 linois\, United States
ORGANIZER:Alvin.Chin@ieee.org
SEQUENCE:8
SUMMARY:Quantum + AI: Building the Future of Applied Intelligence- Chicago
URL;VALUE=URI:https://events.vtools.ieee.org/m/555314
X-ALT-DESC:Description: &lt;br /&gt;&lt;p&gt;This event is being hosted by AI 2030 at D
 iscovery Partners Institute. Please see &lt;a href=&quot;https://luma.com/aehtah5h
 &quot;&gt;https://luma.com/aehtah5h&lt;/a&gt; for details and registration.&lt;/p&gt;\n&lt;h1 cla
 ss=&quot;jsx-1013196638 title text-primary mb-0 long xl&quot;&gt;&amp;nbsp\;&lt;/h1&gt;
END:VEVENT
END:VCALENDAR

