BEGIN:VCALENDAR
VERSION:2.0
PRODID:IEEE vTools.Events//EN
CALSCALE:GREGORIAN
BEGIN:VTIMEZONE
TZID:America/New_York
BEGIN:DAYLIGHT
DTSTART:20260308T030000
TZOFFSETFROM:-0500
TZOFFSETTO:-0400
RRULE:FREQ=YEARLY;BYDAY=2SU;BYMONTH=3
TZNAME:EDT
END:DAYLIGHT
BEGIN:STANDARD
DTSTART:20261101T010000
TZOFFSETFROM:-0400
TZOFFSETTO:-0500
RRULE:FREQ=YEARLY;BYDAY=1SU;BYMONTH=11
TZNAME:EST
END:STANDARD
END:VTIMEZONE
BEGIN:VEVENT
DTSTAMP:20260420T210857Z
UID:5D1A18BF-0C51-47B7-A790-83EA9B95F47C
DTSTART;TZID=America/New_York:20260710T183000
DTEND;TZID=America/New_York:20260710T200000
DESCRIPTION:Reception at Collision Bend Brewing Company - Drink tickets wil
 l be administered to registered attendees.\n\n**Please note - This registr
 ation link is strictly for our happy hour Friday\, July 10.\n\n[][] []\n\n
 About Collision Bend: From Collision Bend: Collision Bend Brewing Company 
 is an artisanal brewery and full-service restaurant\, featuring crisp\, br
 ight beers brewed on site\, served alongside a menu.\n\nIEEE Cleveland Sec
 tion\n\nPlease visit ieeecleveland.org to learn more about the Cleveland S
 ection!\n\nIEEE Cleveland Section is a proud recipient of the Greater Clev
 eland Partnership Best of Tech 2025 Award!\n\n[][]\n\nBldg: Collision Bend
  Brewing Company\, 1250 Old River Rd\, Cleveland\, Ohio\, United States\, 
 44113
LOCATION:Bldg: Collision Bend Brewing Company\, 1250 Old River Rd\, Clevela
 nd\, Ohio\, United States\, 44113
ORGANIZER:colinrussell@ieee.org
SEQUENCE:26
SUMMARY:IEEE Young Professionals Amplified Cleveland 2026 - Friday Happy Ho
 ur
URL;VALUE=URI:https://events.vtools.ieee.org/m/555421
X-ALT-DESC:Description: &lt;br /&gt;&lt;p&gt;Reception at Collision Bend Brewing Compan
 y - Drink tickets will be administered to registered attendees.&lt;/p&gt;\n&lt;p&gt;**
 Please note - This registration link is strictly for our happy hour Friday
 \, July 10.&lt;/p&gt;\n&lt;p&gt;&lt;img src=&quot;https://events.vtools.ieee.org/vtools_ui/med
 ia/display/c839fb0e-0a26-40a0-9421-f308ca4899a3&quot; alt=&quot;&quot; width=&quot;236&quot; height
 =&quot;220&quot;&gt;&lt;img src=&quot;https://events.vtools.ieee.org/vtools_ui/media/display/d5
 723ed2-a9a1-4a8b-b7a1-4bf8a4165fb9&quot; alt=&quot;&quot; width=&quot;330&quot; height=&quot;220&quot;&gt; &lt;img 
 src=&quot;https://events.vtools.ieee.org/vtools_ui/media/display/ecffa908-ecc1-
 4bc9-b777-42f023970122&quot; alt=&quot;&quot; width=&quot;330&quot; height=&quot;220&quot;&gt;&lt;/p&gt;\n&lt;p&gt;About Col
 lision Bend: From Collision Bend: Collision Bend Brewing Company is&amp;nbsp\;
 &lt;em&gt;an artisanal brewery and full-service restaurant&lt;/em&gt;\, featuring cris
 p\, bright beers brewed on site\, served alongside a menu.&lt;/p&gt;\n&lt;p&gt;&amp;nbsp\;
 &lt;/p&gt;\n&lt;p&gt;&lt;strong&gt;IEEE Cleveland Section&lt;/strong&gt;&lt;/p&gt;\n&lt;p&gt;Please visit &lt;a h
 ref=&quot;https://ieeecleveland.org&quot;&gt;ieeecleveland.org&lt;/a&gt; to learn more about 
 the Cleveland Section!&lt;/p&gt;\n&lt;p&gt;IEEE Cleveland Section is a proud recipient
  of the Greater Cleveland Partnership Best of Tech 2025 Award!&lt;/p&gt;\n&lt;p&gt;&lt;im
 g src=&quot;https://events.vtools.ieee.org/vtools_ui/media/display/963a9c7d-1a0
 5-49b2-b43e-ecfe82df2aab&quot; alt=&quot;&quot; width=&quot;119&quot; height=&quot;130&quot;&gt;&lt;img src=&quot;https:
 //events.vtools.ieee.org/vtools_ui/media/display/085d1a69-9140-439b-a603-c
 daa3ee586c9&quot; alt=&quot;&quot; width=&quot;271&quot; height=&quot;130&quot;&gt;&lt;/p&gt;
END:VEVENT
END:VCALENDAR

