BEGIN:VCALENDAR
VERSION:2.0
PRODID:IEEE vTools.Events//EN
CALSCALE:GREGORIAN
BEGIN:VTIMEZONE
TZID:America/Denver
BEGIN:DAYLIGHT
DTSTART:20260308T030000
TZOFFSETFROM:-0700
TZOFFSETTO:-0600
RRULE:FREQ=YEARLY;BYDAY=2SU;BYMONTH=3
TZNAME:MDT
END:DAYLIGHT
BEGIN:STANDARD
DTSTART:20261101T010000
TZOFFSETFROM:-0600
TZOFFSETTO:-0700
RRULE:FREQ=YEARLY;BYDAY=1SU;BYMONTH=11
TZNAME:MST
END:STANDARD
END:VTIMEZONE
BEGIN:VEVENT
DTSTAMP:20260417T001316Z
UID:1C735A9A-45D1-47BE-9209-1105002FA4A4
DTSTART;TZID=America/Denver:20260521T173000
DTEND;TZID=America/Denver:20260521T190000
DESCRIPTION:Join the IEEE Power Electronics Society (PELS) for an informal 
 technical discussion with Dr. Bowen Yang on emerging power architectures f
 or AI data centers.\n\nDinner will be provided\, along with time for netwo
 rking with local engineers and professionals.\n\nAs demand for AI computin
 g continues to grow\, data centers are exploring new approaches to power d
 istribution—particularly the transition from medium-voltage (MV) systems
  to low-voltage DC (LVDC) buses such as 800V DC. Solid-state transformers 
 (SSTs) are one of the technologies being considered to enable this shift.\
 n\nThis session will be an open\, high-level conversation rather than a fo
 rmal presentation. Topics may include:\n\n- The role of SSTs in future dat
 a center power architectures\n- Considerations when moving from MV systems
  to 800V DC distribution\n- Reliability and controllability in power-elect
 ronics-based systems\n- Practical challenges\, tradeoffs\, and industry pe
 rspectives\n\nAttendees are encouraged to ask questions\, share experience
 s\, and engage in the discussion.\n\nSchedule\n5:30 PM – Check-in\, Chap
 ter Business\, and Networking\n6:00 PM – Dinner Served\n6:00–7:00 PM 
 – Technical Discussion\n7:00 PM – Adjourn\n\nSpeaker(s): \, Bowen Yang
 \n\n1211 Avery St\, Unit 101\, Golden\, Colorado\, United States\, 80403
LOCATION:1211 Avery St\, Unit 101\, Golden\, Colorado\, United States\, 804
 03
ORGANIZER:bwschwandt@gmail.com
SEQUENCE:23
SUMMARY:Solid-State Transformers for AI Data Centers (MV to 800V DC)
URL;VALUE=URI:https://events.vtools.ieee.org/m/555541
X-ALT-DESC:Description: &lt;br /&gt;&lt;p class=&quot;isSelectedEnd&quot;&gt;Join the IEEE Power 
 Electronics Society (PELS) for an informal technical discussion with Dr. B
 owen Yang on emerging power architectures for AI data centers.&lt;/p&gt;\n&lt;p cla
 ss=&quot;isSelectedEnd&quot;&gt;Dinner will be provided\, along with time for networkin
 g with local engineers and professionals.&lt;/p&gt;\n&lt;p class=&quot;isSelectedEnd&quot;&gt;As
  demand for AI computing continues to grow\, data centers are exploring ne
 w approaches to power distribution&amp;mdash\;particularly the transition from
  medium-voltage (MV) systems to low-voltage DC (LVDC) buses such as 800V D
 C. Solid-state transformers (SSTs) are one of the technologies being consi
 dered to enable this shift.&lt;/p&gt;\n&lt;p class=&quot;isSelectedEnd&quot;&gt;This session wil
 l be an open\, high-level conversation rather than a formal presentation. 
 Topics may include:&lt;/p&gt;\n&lt;ul data-spread=&quot;false&quot;&gt;\n&lt;li&gt;The role of SSTs in
  future data center power architectures&lt;/li&gt;\n&lt;li&gt;Considerations when movi
 ng from MV systems to 800V DC distribution&lt;/li&gt;\n&lt;li&gt;Reliability and contr
 ollability in power-electronics-based systems&lt;/li&gt;\n&lt;li&gt;Practical challeng
 es\, tradeoffs\, and industry perspectives&lt;/li&gt;\n&lt;/ul&gt;\n&lt;p class=&quot;isSelect
 edEnd&quot;&gt;Attendees are encouraged to ask questions\, share experiences\, and
  engage in the discussion.&lt;/p&gt;\n&lt;p&gt;&lt;strong&gt;Schedule&lt;/strong&gt;&lt;br&gt;5:30 PM &amp;n
 dash\; Check-in\, Chapter Business\, and Networking&lt;br&gt;6:00 PM &amp;ndash\; Di
 nner Served&lt;br&gt;6:00&amp;ndash\;7:00 PM &amp;ndash\; Technical Discussion&lt;br&gt;7:00 P
 M &amp;ndash\; Adjourn&lt;/p&gt;
END:VEVENT
END:VCALENDAR

