BEGIN:VCALENDAR
VERSION:2.0
PRODID:IEEE vTools.Events//EN
CALSCALE:GREGORIAN
BEGIN:VTIMEZONE
TZID:Asia/Kolkata
BEGIN:STANDARD
DTSTART:19451014T230000
TZOFFSETFROM:+0630
TZOFFSETTO:+0530
TZNAME:IST
END:STANDARD
END:VTIMEZONE
BEGIN:VEVENT
DTSTAMP:20260417T072900Z
UID:7BB0CE25-CA0B-4891-B47D-3EA1E1EA3C9A
DTSTART;TZID=Asia/Kolkata:20261119T090000
DTEND;TZID=Asia/Kolkata:20261120T170000
DESCRIPTION:ICACCM 2026 serves as a vibrant forum for researchers and engin
 eers from academia and industry to share the latest innovations and resear
 ch breakthroughs in Innovative Computing\, Communication\, and Materials.\
 n\nThrough interdisciplinary dialogue\, the conference creates an environm
 ent that encourages the exchange of innovative research\, exploration of i
 ndustry trends\, and practical implementation of advancements.\n\n*Accepte
 d papers will be submitted for inclusion into IEEE Xplore subject to meeti
 ng IEEE Xplore’s scope and quality requirements.\n\nCo-sponsored by: IEE
 E UP Section\n\nAgenda: \nICACCM 2026 Activity Deadlines\n\nBelow is the o
 fficial activity timeline for paper submission\, review process\, author n
 otification\, revision\, and camera-ready submission. All deadlines shown 
 below are in Pacific Time.\n\nPaper Submission\nEnabled\n\nDeadline: Augus
 t 05\, 2026\nTime: 11:59 PM (Pacific Time)\n\nReview Submission\nEnabled\n
 \nDeadline: September 30\, 2026\nTime: 11:59 PM (Pacific Time)\n\nAuthor N
 otification\nEnabled\n\nDeadline: October 15\, 2026\nTime: 05:00 PM (Pacif
 ic Time)\n\nRevision Submission\nEnabled\n\nDeadline: October 18\, 2026\nT
 ime: 11:59 PM (Pacific Time)\n\nCamera Ready Submission\nEnabled\n\nDeadli
 ne: October 20\, 2026\nTime: 11:59 PM (Pacific Time)\n\nLast Date of Regis
 tration\nEnabled\n\nDeadline: November 05\, 2026\nTime: 11:59 PM (Pacific 
 Time)\n\nBldg: Center for Innovation\, Research and Entrepreneurship\, Tul
 a&#39;s Institute\, Dehradun\, Uttaranchal\, India\, 248011
LOCATION:Bldg: Center for Innovation\, Research and Entrepreneurship\, Tula
 &#39;s Institute\, Dehradun\, Uttaranchal\, India\, 248011
ORGANIZER:info@icaccm.in
SEQUENCE:16
SUMMARY:2026 International Conference on Advances in Computing\, Communica
 tion and Materials (ICACCM)
URL;VALUE=URI:https://events.vtools.ieee.org/m/555609
X-ALT-DESC:Description: &lt;br /&gt;&lt;p class=&quot;text-lg text-gray-700 leading-relax
 ed&quot;&gt;ICACCM 2026 serves as a vibrant forum for researchers and engineers fr
 om academia and industry to share the latest innovations and research brea
 kthroughs in Innovative Computing\, Communication\, and Materials.&lt;/p&gt;\n&lt;p
  class=&quot;text-lg text-gray-700 leading-relaxed&quot;&gt;Through interdisciplinary d
 ialogue\, the conference creates an environment that encourages the exchan
 ge of innovative research\, exploration of industry trends\, and practical
  implementation of advancements.&lt;/p&gt;\n&lt;div class=&quot;bg-gray-50 border-l-4 bo
 rder-gray-900 p-6 mt-6&quot;&gt;\n&lt;p class=&quot;text-gray-800 font-medium&quot;&gt;&lt;span style
 =&quot;color: rgb(186\, 55\, 42)\;&quot;&gt;*Accepted papers will be submitted for incl
 usion into IEEE Xplore subject to meeting IEEE Xplore&amp;rsquo\;s scope and q
 uality requirements.&lt;/span&gt;&lt;/p&gt;\n&lt;/div&gt;&lt;br /&gt;&lt;br /&gt;Agenda: &lt;br /&gt;&lt;section 
 class=&quot;py-12 bg-white border-b border-gray-200&quot;&gt;\n&lt;div class=&quot;max-w-5xl mx
 -auto px-4 sm:px-6 lg:px-8 text-center&quot;&gt;\n&lt;h2 class=&quot;text-3xl md:text-4xl 
 font-bold text-gray-900 mb-4&quot;&gt;ICACCM 2026 Activity Deadlines&lt;/h2&gt;\n&lt;p clas
 s=&quot;text-lg text-gray-600 max-w-3xl mx-auto leading-relaxed&quot;&gt;Below is the o
 fficial activity timeline for paper submission\, review process\, author n
 otification\, revision\, and camera-ready submission. All deadlines shown 
 below are in&amp;nbsp\;&lt;strong&gt;Pacific Time&lt;/strong&gt;.&lt;/p&gt;\n&lt;/div&gt;\n&lt;/section&gt;\
 n&lt;section class=&quot;py-20 bg-gray-50&quot;&gt;\n&lt;div class=&quot;max-w-5xl mx-auto px-4 sm
 :px-6 lg:px-8&quot;&gt;\n&lt;div class=&quot;relative border-l-4 border-indigo-200 ml-4 md
 :ml-8&quot;&gt;\n&lt;div class=&quot;relative mb-10 ml-8 md:ml-12&quot;&gt;\n&lt;div class=&quot;bg-white 
 rounded-2xl shadow-md border border-gray-200 p-6 hover:shadow-lg transitio
 n&quot;&gt;\n&lt;div class=&quot;flex flex-col md:flex-row md:items-center md:justify-betw
 een gap-4 mb-4&quot;&gt;\n&lt;h3 class=&quot;text-2xl font-bold text-gray-900&quot;&gt;Paper Submi
 ssion&lt;/h3&gt;\n&lt;span class=&quot;inline-block px-4 py-2 rounded-full text-sm font-
 semibold bg-green-100 text-green-800&quot;&gt;Enabled&lt;/span&gt;&lt;/div&gt;\n&lt;div class=&quot;gr
 id md:grid-cols-2 gap-4 text-gray-700&quot;&gt;\n&lt;div class=&quot;flex items-center gap
 -3&quot;&gt;&lt;strong&gt;Deadline:&lt;/strong&gt;&amp;nbsp\;August 05\, 2026&lt;/div&gt;\n&lt;div class=&quot;f
 lex items-center gap-3&quot;&gt;&lt;strong&gt;Time:&lt;/strong&gt;&amp;nbsp\;11:59 PM (Pacific Tim
 e)&lt;/div&gt;\n&lt;/div&gt;\n&lt;/div&gt;\n&lt;/div&gt;\n&lt;div class=&quot;relative mb-10 ml-8 md:ml-12
 &quot;&gt;\n&lt;div class=&quot;bg-white rounded-2xl shadow-md border border-gray-200 p-6 
 hover:shadow-lg transition&quot;&gt;\n&lt;div class=&quot;flex flex-col md:flex-row md:ite
 ms-center md:justify-between gap-4 mb-4&quot;&gt;\n&lt;h3 class=&quot;text-2xl font-bold t
 ext-gray-900&quot;&gt;Review Submission&lt;/h3&gt;\n&lt;span class=&quot;inline-block px-4 py-2 
 rounded-full text-sm font-semibold bg-green-100 text-green-800&quot;&gt;Enabled&lt;/s
 pan&gt;&lt;/div&gt;\n&lt;div class=&quot;grid md:grid-cols-2 gap-4 text-gray-700&quot;&gt;\n&lt;div cl
 ass=&quot;flex items-center gap-3&quot;&gt;&lt;strong&gt;Deadline:&lt;/strong&gt;&amp;nbsp\;September 3
 0\, 2026&lt;/div&gt;\n&lt;div class=&quot;flex items-center gap-3&quot;&gt;&lt;strong&gt;Time:&lt;/strong
 &gt;&amp;nbsp\;11:59 PM (Pacific Time)&lt;/div&gt;\n&lt;/div&gt;\n&lt;/div&gt;\n&lt;/div&gt;\n&lt;div class=
 &quot;relative mb-10 ml-8 md:ml-12&quot;&gt;\n&lt;div class=&quot;bg-white rounded-2xl shadow-m
 d border border-gray-200 p-6 hover:shadow-lg transition&quot;&gt;\n&lt;div class=&quot;fle
 x flex-col md:flex-row md:items-center md:justify-between gap-4 mb-4&quot;&gt;\n&lt;h
 3 class=&quot;text-2xl font-bold text-gray-900&quot;&gt;Author Notification&lt;/h3&gt;\n&lt;span
  class=&quot;inline-block px-4 py-2 rounded-full text-sm font-semibold bg-blue-
 100 text-blue-800&quot;&gt;Enabled&lt;/span&gt;&lt;/div&gt;\n&lt;div class=&quot;grid md:grid-cols-2 g
 ap-4 text-gray-700&quot;&gt;\n&lt;div class=&quot;flex items-center gap-3&quot;&gt;&lt;strong&gt;Deadlin
 e:&lt;/strong&gt;&amp;nbsp\;October 15\, 2026&lt;/div&gt;\n&lt;div class=&quot;flex items-center g
 ap-3&quot;&gt;&lt;strong&gt;Time:&lt;/strong&gt;&amp;nbsp\;05:00 PM (Pacific Time)&lt;/div&gt;\n&lt;/div&gt;\n
 &lt;/div&gt;\n&lt;/div&gt;\n&lt;div class=&quot;relative mb-10 ml-8 md:ml-12&quot;&gt;\n&lt;div class=&quot;bg
 -white rounded-2xl shadow-md border border-gray-200 p-6 hover:shadow-lg tr
 ansition&quot;&gt;\n&lt;div class=&quot;flex flex-col md:flex-row md:items-center md:justi
 fy-between gap-4 mb-4&quot;&gt;\n&lt;h3 class=&quot;text-2xl font-bold text-gray-900&quot;&gt;Revi
 sion Submission&lt;/h3&gt;\n&lt;span class=&quot;inline-block px-4 py-2 rounded-full tex
 t-sm font-semibold bg-yellow-100 text-yellow-800&quot;&gt;Enabled&lt;/span&gt;&lt;/div&gt;\n&lt;d
 iv class=&quot;grid md:grid-cols-2 gap-4 text-gray-700&quot;&gt;\n&lt;div class=&quot;flex item
 s-center gap-3&quot;&gt;&lt;strong&gt;Deadline:&lt;/strong&gt;&amp;nbsp\;October 18\, 2026&lt;/div&gt;\n
 &lt;div class=&quot;flex items-center gap-3&quot;&gt;&lt;strong&gt;Time:&lt;/strong&gt;&amp;nbsp\;11:59 PM
  (Pacific Time)&lt;/div&gt;\n&lt;/div&gt;\n&lt;/div&gt;\n&lt;/div&gt;\n&lt;div class=&quot;relative mb-10 
 ml-8 md:ml-12&quot;&gt;\n&lt;div class=&quot;bg-white rounded-2xl shadow-md border border-
 gray-200 p-6 hover:shadow-lg transition&quot;&gt;\n&lt;div class=&quot;flex flex-col md:fl
 ex-row md:items-center md:justify-between gap-4 mb-4&quot;&gt;\n&lt;h3 class=&quot;text-2x
 l font-bold text-gray-900&quot;&gt;Camera Ready Submission&lt;/h3&gt;\n&lt;span class=&quot;inli
 ne-block px-4 py-2 rounded-full text-sm font-semibold bg-purple-100 text-p
 urple-800&quot;&gt;Enabled&lt;/span&gt;&lt;/div&gt;\n&lt;div class=&quot;grid md:grid-cols-2 gap-4 tex
 t-gray-700&quot;&gt;\n&lt;div class=&quot;flex items-center gap-3&quot;&gt;&lt;strong&gt;Deadline:&lt;/stro
 ng&gt;&amp;nbsp\;October 20\, 2026&lt;/div&gt;\n&lt;div class=&quot;flex items-center gap-3&quot;&gt;&lt;s
 trong&gt;Time:&lt;/strong&gt;&amp;nbsp\;11:59 PM (Pacific Time)&lt;/div&gt;\n&lt;/div&gt;\n&lt;/div&gt;\n
 &lt;/div&gt;\n&lt;div class=&quot;relative mb-10 ml-8 md:ml-12&quot;&gt;\n&lt;div class=&quot;bg-white r
 ounded-2xl shadow-md border border-gray-200 p-6 hover:shadow-lg transition
 &quot;&gt;\n&lt;div class=&quot;flex flex-col md:flex-row md:items-center md:justify-betwe
 en gap-4 mb-4&quot;&gt;\n&lt;h3 class=&quot;text-2xl font-bold text-gray-900&quot;&gt;Last Date of
  Registration&lt;/h3&gt;\n&lt;span class=&quot;inline-block px-4 py-2 rounded-full text-
 sm font-semibold bg-purple-100 text-purple-800&quot;&gt;Enabled&lt;/span&gt;&lt;/div&gt;\n&lt;div
  class=&quot;grid md:grid-cols-2 gap-4 text-gray-700&quot;&gt;\n&lt;div class=&quot;flex items-
 center gap-3&quot;&gt;&lt;strong&gt;Deadline:&lt;/strong&gt;&amp;nbsp\;November 05\, 2026&lt;/div&gt;\n&lt;
 div class=&quot;flex items-center gap-3&quot;&gt;&lt;strong&gt;Time:&lt;/strong&gt; 11:59 PM (Pacif
 ic Time)&lt;/div&gt;\n&lt;/div&gt;\n&lt;/div&gt;\n&lt;/div&gt;\n&lt;/div&gt;\n&lt;/div&gt;\n&lt;/section&gt;
END:VEVENT
END:VCALENDAR

