BEGIN:VCALENDAR
VERSION:2.0
PRODID:IEEE vTools.Events//EN
CALSCALE:GREGORIAN
BEGIN:VTIMEZONE
TZID:America/Phoenix
BEGIN:STANDARD
DTSTART:19671029T010000
TZOFFSETFROM:-0600
TZOFFSETTO:-0700
TZNAME:MST
END:STANDARD
END:VTIMEZONE
BEGIN:VEVENT
DTSTAMP:20260419T012247Z
UID:91AB7301-F979-46E9-B84C-7871F40FD302
DTSTART;TZID=America/Phoenix:20260418T120000
DTEND;TZID=America/Phoenix:20260418T150000
DESCRIPTION:Industry representative from Keysight teach RF and spectrum ana
 lyzer basics and then participants compete to find RF interference sources
 .\n\nRoom: 105\, Bldg: Electrical and Computer Engineering \, 1230 E Speed
 way Blvd.\, Tucson\, Arizona\, United States\, 85719
LOCATION:Room: 105\, Bldg: Electrical and Computer Engineering \, 1230 E Sp
 eedway Blvd.\, Tucson\, Arizona\, United States\, 85719
ORGANIZER:info@uaieee.org
SEQUENCE:4
SUMMARY:Keysight and Electro Rent Fox Hunt
URL;VALUE=URI:https://events.vtools.ieee.org/m/555934
X-ALT-DESC:Description: &lt;br /&gt;&lt;p&gt;Industry representative from Keysight teac
 h RF and spectrum analyzer basics and then participants compete to find RF
  interference sources.&lt;/p&gt;
END:VEVENT
END:VCALENDAR

