BEGIN:VCALENDAR
VERSION:2.0
PRODID:IEEE vTools.Events//EN
CALSCALE:GREGORIAN
BEGIN:VTIMEZONE
TZID:Asia/Kolkata
BEGIN:STANDARD
DTSTART:19451014T230000
TZOFFSETFROM:+0630
TZOFFSETTO:+0530
TZNAME:IST
END:STANDARD
END:VTIMEZONE
BEGIN:VEVENT
DTSTAMP:20260425T151743Z
UID:4E42BF61-9C1C-4E29-B85C-26695B3C0B1A
DTSTART;TZID=Asia/Kolkata:20260424T150000
DTEND;TZID=Asia/Kolkata:20260424T170000
DESCRIPTION:The IEEE Signal Processing Society (SPS) Student Chapter at R.N
 .G. Patel Institute of Technology (RNGPIT)\, in collaboration with the Inf
 ormation Technology Department\, is organizing IEEE Logic League – “Br
 ainstorm Arena”\, a national-level quiz competition aimed at enhancing a
 nalytical thinking and technical awareness among students.\n\nThe event is
  centered around the theme “AI Knowledge Conclave”\, focusing on conce
 pts related to Artificial Intelligence (AI)\, including machine learning b
 asics\, real-world AI applications\, emerging technologies\, and logical p
 roblem-solving. The quiz is designed to encourage participants to explore 
 the rapidly evolving domain of AI in an engaging and competitive manner.\n
 \nThis competition is specially organized for 2nd-year Information Technol
 ogy students\, providing them with a platform to test their knowledge\, im
 prove their critical thinking abilities\, and compete with peers at a nati
 onal level.\n\nIEEE Logic League aims to promote innovation\, technical cu
 riosity\, and collaborative learning while aligning with IEEE’s mission 
 of advancing technology for humanity. Participants will gain valuable expo
 sure\, enhance their confidence\, and experience a dynamic environment tha
 t bridges academic knowledge with modern technological trends.\n\nBardoli\
 , Gujarat\, India
LOCATION:Bardoli\, Gujarat\, India
ORGANIZER:ieee_sb@rngpit.ac.in
SEQUENCE:20
SUMMARY:IEEE Logic League
URL;VALUE=URI:https://events.vtools.ieee.org/m/556129
X-ALT-DESC:Description: &lt;br /&gt;&lt;p data-start=&quot;119&quot; data-end=&quot;468&quot;&gt;The &lt;span 
 class=&quot;hover:entity-accent entity-underline inline cursor-pointer align-ba
 seline&quot;&gt;&lt;span class=&quot;whitespace-normal&quot;&gt;IEEE Signal Processing Society&lt;/sp
 an&gt;&lt;/span&gt; (SPS) Student Chapter at R.N.G. Patel Institute of Technology (
 RNGPIT)\, in collaboration with the Information Technology Department\, is
  organizing &lt;strong data-start=&quot;308&quot; data-end=&quot;350&quot;&gt;IEEE Logic League &amp;nda
 sh\; &amp;ldquo\;Brainstorm Arena&amp;rdquo\;&lt;/strong&gt;\, a &lt;strong data-start=&quot;354
 &quot; data-end=&quot;389&quot;&gt;national-level quiz competition&lt;/strong&gt; aimed at enhanci
 ng analytical thinking and technical awareness among students.&lt;/p&gt;\n&lt;p dat
 a-start=&quot;470&quot; data-end=&quot;849&quot;&gt;The event is centered around the theme &lt;stron
 g data-start=&quot;509&quot; data-end=&quot;536&quot;&gt;&amp;ldquo\;AI Knowledge Conclave&amp;rdquo\;&lt;/s
 trong&gt;\, focusing on concepts related to &lt;strong data-start=&quot;570&quot; data-end
 =&quot;602&quot;&gt;Artificial Intelligence (AI)&lt;/strong&gt;\, including machine learning 
 basics\, real-world AI applications\, emerging technologies\, and logical 
 problem-solving. The quiz is designed to encourage participants to explore
  the rapidly evolving domain of AI in an engaging and competitive manner.&lt;
 /p&gt;\n&lt;p data-start=&quot;851&quot; data-end=&quot;1083&quot;&gt;This competition is specially org
 anized for &lt;strong data-start=&quot;895&quot; data-end=&quot;939&quot;&gt;2nd-year Information Te
 chnology students&lt;/strong&gt;\, providing them with a platform to test their 
 knowledge\, improve their critical thinking abilities\, and compete with p
 eers at a national level.&lt;/p&gt;\n&lt;p data-start=&quot;1085&quot; data-end=&quot;1422&quot;&gt;IEEE L
 ogic League aims to promote innovation\, technical curiosity\, and collabo
 rative learning while aligning with IEEE&amp;rsquo\;s mission of advancing tec
 hnology for humanity. Participants will gain valuable exposure\, enhance t
 heir confidence\, and experience a dynamic environment that bridges academ
 ic knowledge with modern technological trends.&lt;/p&gt;
END:VEVENT
END:VCALENDAR

